BEGIN:VCALENDAR
VERSION:2.0
PRODID:-//Waco Actors&#039; Guild - ECPv6.15.20//NONSGML v1.0//EN
CALSCALE:GREGORIAN
METHOD:PUBLISH
X-ORIGINAL-URL:https://wacoactorsguild.org
X-WR-CALDESC:Events for Waco Actors&#039; Guild
REFRESH-INTERVAL;VALUE=DURATION:PT1H
X-Robots-Tag:noindex
X-PUBLISHED-TTL:PT1H
BEGIN:VTIMEZONE
TZID:America/Chicago
BEGIN:DAYLIGHT
TZOFFSETFROM:-0600
TZOFFSETTO:-0500
TZNAME:CDT
DTSTART:20240310T080000
END:DAYLIGHT
BEGIN:STANDARD
TZOFFSETFROM:-0500
TZOFFSETTO:-0600
TZNAME:CST
DTSTART:20241103T070000
END:STANDARD
BEGIN:DAYLIGHT
TZOFFSETFROM:-0600
TZOFFSETTO:-0500
TZNAME:CDT
DTSTART:20250309T080000
END:DAYLIGHT
BEGIN:STANDARD
TZOFFSETFROM:-0500
TZOFFSETTO:-0600
TZNAME:CST
DTSTART:20251102T070000
END:STANDARD
BEGIN:DAYLIGHT
TZOFFSETFROM:-0600
TZOFFSETTO:-0500
TZNAME:CDT
DTSTART:20260308T080000
END:DAYLIGHT
BEGIN:STANDARD
TZOFFSETFROM:-0500
TZOFFSETTO:-0600
TZNAME:CST
DTSTART:20261101T070000
END:STANDARD
END:VTIMEZONE
BEGIN:VEVENT
DTSTART;TZID=America/Chicago:20250723T183000
DTEND;TZID=America/Chicago:20250723T210000
DTSTAMP:20260423T212739
CREATED:20250720T145837Z
LAST-MODIFIED:20250720T145838Z
UID:2323-1753295400-1753304400@wacoactorsguild.org
SUMMARY:PlayReaders - Who's Afraid of Virginia Woolf?
DESCRIPTION:PlayReaders – Who’s Afraid of Virginia Woolf?\n“You are cordially invited to George & Martha’s for an evening of fun and games.”\nWhat happens when a young and vibrant couple unwittingly impose on a bitter and frustrated married couple. Guess we’ll find out! \nJoin us this Wednesday\, July 23 with Edward Albee’s Who’s Afraid of Virginia Woolf? We’ll be in the PACC warehouse for an evening of biting wit\, emotional chaos\, and literary fire. \nBring blankets\, pillows\, camp chairs—anything to make yourself comfy and cozy while we dive into this iconic script together!
URL:https://wacoactorsguild.org/stagelink/playreaders-whos-afraid-of-virginia-woolf/
LOCATION:The PACC\, 924 Austin Ave Suit 150\, Waco\, TX\, 76701\, United States
CATEGORIES:Waco Actors' Guild
ATTACH;FMTTYPE=image/png:https://wacoactorsguild.org/wp-content/uploads/2025/07/who___s_afraid.png
ORGANIZER;CN="Waco Actors' Guild":MAILTO:business@wacoactorsguild.org
END:VEVENT
END:VCALENDAR