BEGIN:VCALENDAR
VERSION:2.0
PRODID:-//Waco Actors&#039; Guild - ECPv6.15.20//NONSGML v1.0//EN
CALSCALE:GREGORIAN
METHOD:PUBLISH
X-WR-CALNAME:Waco Actors&#039; Guild
X-ORIGINAL-URL:https://wacoactorsguild.org
X-WR-CALDESC:Events for Waco Actors&#039; Guild
REFRESH-INTERVAL;VALUE=DURATION:PT1H
X-Robots-Tag:noindex
X-PUBLISHED-TTL:PT1H
BEGIN:VTIMEZONE
TZID:America/Chicago
BEGIN:DAYLIGHT
TZOFFSETFROM:-0600
TZOFFSETTO:-0500
TZNAME:CDT
DTSTART:20240310T080000
END:DAYLIGHT
BEGIN:STANDARD
TZOFFSETFROM:-0500
TZOFFSETTO:-0600
TZNAME:CST
DTSTART:20241103T070000
END:STANDARD
BEGIN:DAYLIGHT
TZOFFSETFROM:-0600
TZOFFSETTO:-0500
TZNAME:CDT
DTSTART:20250309T080000
END:DAYLIGHT
BEGIN:STANDARD
TZOFFSETFROM:-0500
TZOFFSETTO:-0600
TZNAME:CST
DTSTART:20251102T070000
END:STANDARD
BEGIN:DAYLIGHT
TZOFFSETFROM:-0600
TZOFFSETTO:-0500
TZNAME:CDT
DTSTART:20260308T080000
END:DAYLIGHT
BEGIN:STANDARD
TZOFFSETFROM:-0500
TZOFFSETTO:-0600
TZNAME:CST
DTSTART:20261101T070000
END:STANDARD
END:VTIMEZONE
BEGIN:VEVENT
DTSTART;TZID=America/Chicago:20250802T193000
DTEND;TZID=America/Chicago:20250802T220000
DTSTAMP:20260423T200851
CREATED:20250727T132749Z
LAST-MODIFIED:20250727T132749Z
UID:2444-1754163000-1754172000@wacoactorsguild.org
SUMMARY:Improv Comedy Show
DESCRIPTION:Improv Comedy Show – Performance\nSaturday\, August 2\, 7:30 PM\nDoors open at 6:45 \nNo scripts. No safety nets. Just lightning-fast performers creating hilarious scenes and characters on the spot\, all based on your suggestions. Every show is one-of-a-kind\, and you help shape the chaos! It’s the perfect night out for anyone who loves spontaneous laughter\, audience participation\, and a little bit of mayhem. Plus\, we give away door prizes! ​Bring your crew and your best ideas\, and get ready for a wildly fun night of improv at the Brazos. \n[Tickets: https://brazostheatre.ludus.com/index.php]
URL:https://wacoactorsguild.org/stagelink/improv-comedy-show-3/
LOCATION:Brazos Theatre of Waco\, 7524 Bosque Blvd.\, Suite Q\, Waco\, TX\, 76712\, United States
CATEGORIES:Brazos Theatre
ATTACH;FMTTYPE=image/png:https://wacoactorsguild.org/wp-content/uploads/2025/07/1753394304.png
ORGANIZER;CN="Brazos Theatre of Waco":MAILTO:brazostheatre@gmail.com
END:VEVENT
END:VCALENDAR