BEGIN:VCALENDAR
VERSION:2.0
PRODID:-//Waco Actors&#039; Guild - ECPv6.15.20//NONSGML v1.0//EN
CALSCALE:GREGORIAN
METHOD:PUBLISH
X-WR-CALNAME:Waco Actors&#039; Guild
X-ORIGINAL-URL:https://wacoactorsguild.org
X-WR-CALDESC:Events for Waco Actors&#039; Guild
REFRESH-INTERVAL;VALUE=DURATION:PT1H
X-Robots-Tag:noindex
X-PUBLISHED-TTL:PT1H
BEGIN:VTIMEZONE
TZID:America/Chicago
BEGIN:DAYLIGHT
TZOFFSETFROM:-0600
TZOFFSETTO:-0500
TZNAME:CDT
DTSTART:20240310T080000
END:DAYLIGHT
BEGIN:STANDARD
TZOFFSETFROM:-0500
TZOFFSETTO:-0600
TZNAME:CST
DTSTART:20241103T070000
END:STANDARD
BEGIN:DAYLIGHT
TZOFFSETFROM:-0600
TZOFFSETTO:-0500
TZNAME:CDT
DTSTART:20250309T080000
END:DAYLIGHT
BEGIN:STANDARD
TZOFFSETFROM:-0500
TZOFFSETTO:-0600
TZNAME:CST
DTSTART:20251102T070000
END:STANDARD
BEGIN:DAYLIGHT
TZOFFSETFROM:-0600
TZOFFSETTO:-0500
TZNAME:CDT
DTSTART:20260308T080000
END:DAYLIGHT
BEGIN:STANDARD
TZOFFSETFROM:-0500
TZOFFSETTO:-0600
TZNAME:CST
DTSTART:20261101T070000
END:STANDARD
END:VTIMEZONE
BEGIN:VEVENT
DTSTART;TZID=America/Chicago:20250920T200000
DTEND;TZID=America/Chicago:20250920T220000
DTSTAMP:20260423T185219
CREATED:20250904T153345Z
LAST-MODIFIED:20250904T153345Z
UID:2735-1758398400-1758405600@wacoactorsguild.org
SUMMARY:Comedy at the Brazos: A Stand Up Comedy Showcase
DESCRIPTION:Comedy at the Brazos: A Stand Up Comedy Showcase – Performance\nSaturday\, September 20\, 8:00\nDoors open at 7:15 \nEvery month\, we showcase a brand-new lineup of hilarious comedians\, from rising stars from across the state (and sometimes even beyond!). You’ll see a three-act format featuring a sharp host\, a killer feature\, and a headliner guaranteed to leave you in stitches. They may not be household names yet\, but these comics are the real deal\, working stages across the country and bringing their best to the Brazos stage. \n[Tickets: https://brazostheatre.ludus.com/index.php?show_id=200494538]
URL:https://wacoactorsguild.org/stagelink/comedy-at-the-brazos-a-stand-up-comedy-showcase-6/
LOCATION:Brazos Theatre of Waco\, 7524 Bosque Blvd.\, Suite Q\, Waco\, TX\, 76712\, United States
CATEGORIES:Brazos Theatre
ATTACH;FMTTYPE=image/png:https://wacoactorsguild.org/wp-content/uploads/2025/09/1755035232.png
ORGANIZER;CN="Brazos Theatre of Waco":MAILTO:brazostheatre@gmail.com
END:VEVENT
END:VCALENDAR