BEGIN:VCALENDAR
VERSION:2.0
PRODID:-//Waco Actors&#039; Guild - ECPv6.15.20//NONSGML v1.0//EN
CALSCALE:GREGORIAN
METHOD:PUBLISH
X-ORIGINAL-URL:https://wacoactorsguild.org
X-WR-CALDESC:Events for Waco Actors&#039; Guild
REFRESH-INTERVAL;VALUE=DURATION:PT1H
X-Robots-Tag:noindex
X-PUBLISHED-TTL:PT1H
BEGIN:VTIMEZONE
TZID:America/Chicago
BEGIN:DAYLIGHT
TZOFFSETFROM:-0600
TZOFFSETTO:-0500
TZNAME:CDT
DTSTART:20240310T080000
END:DAYLIGHT
BEGIN:STANDARD
TZOFFSETFROM:-0500
TZOFFSETTO:-0600
TZNAME:CST
DTSTART:20241103T070000
END:STANDARD
BEGIN:DAYLIGHT
TZOFFSETFROM:-0600
TZOFFSETTO:-0500
TZNAME:CDT
DTSTART:20250309T080000
END:DAYLIGHT
BEGIN:STANDARD
TZOFFSETFROM:-0500
TZOFFSETTO:-0600
TZNAME:CST
DTSTART:20251102T070000
END:STANDARD
BEGIN:DAYLIGHT
TZOFFSETFROM:-0600
TZOFFSETTO:-0500
TZNAME:CDT
DTSTART:20260308T080000
END:DAYLIGHT
BEGIN:STANDARD
TZOFFSETFROM:-0500
TZOFFSETTO:-0600
TZNAME:CST
DTSTART:20261101T070000
END:STANDARD
END:VTIMEZONE
BEGIN:VEVENT
DTSTART;TZID=America/Chicago:20250926T193000
DTEND;TZID=America/Chicago:20250926T210000
DTSTAMP:20260423T185610
CREATED:20250904T152439Z
LAST-MODIFIED:20250904T152439Z
UID:2729-1758915000-1758920400@wacoactorsguild.org
SUMMARY:Woman in Black
DESCRIPTION:Woman in Black – Performance\n\n\nPrepare for a theatrical experience unlike any other as The Woman in Black takes the stage\, blending suspense\, storytelling\, and the magic of theatre to create a spine-tingling night of supernatural mystery. \nAdapted from Susan Hill’s chilling novel\, this ghostly masterpiece follows a solicitor\, Arthur Kipps\, who arrives in a remote English town to settle an estate—only to uncover a dark secret that haunts the eerie countryside. As he recounts his terrifying encounters with the mysterious Woman in Black\, the audience is drawn into a world where shadows move\, whispers linger\, and the line between reality and the unknown disappears. \nRenowned for its haunting atmosphere and theatrical ingenuity\, The Woman in Black proves that fear is most powerful when left to the imagination. Step into the darkness and experience the magic of theatre like never before… if you dare. \n\n[Tickets: https://ci.ovationtix.com/35622/production/1231762]
URL:https://wacoactorsguild.org/stagelink/woman-in-black/
LOCATION:Waco Civic Theatre\, 1517 Lake Air Drive\, Waco\, TX\, 76710\, United States
CATEGORIES:Waco Civic Theatre
ATTACH;FMTTYPE=image/png:https://wacoactorsguild.org/wp-content/uploads/2025/08/0ACBE9028192D4A95DD174D50FF7A854_146892701.png
ORGANIZER;CN="Waco Civic Theatre":MAILTO:boxoffice@wacocivictheatre.org
END:VEVENT
END:VCALENDAR