BEGIN:VCALENDAR
VERSION:2.0
PRODID:-//Waco Actors&#039; Guild - ECPv6.15.20//NONSGML v1.0//EN
CALSCALE:GREGORIAN
METHOD:PUBLISH
X-WR-CALNAME:Waco Actors&#039; Guild
X-ORIGINAL-URL:https://wacoactorsguild.org
X-WR-CALDESC:Events for Waco Actors&#039; Guild
REFRESH-INTERVAL;VALUE=DURATION:PT1H
X-Robots-Tag:noindex
X-PUBLISHED-TTL:PT1H
BEGIN:VTIMEZONE
TZID:America/Chicago
BEGIN:DAYLIGHT
TZOFFSETFROM:-0600
TZOFFSETTO:-0500
TZNAME:CDT
DTSTART:20240310T080000
END:DAYLIGHT
BEGIN:STANDARD
TZOFFSETFROM:-0500
TZOFFSETTO:-0600
TZNAME:CST
DTSTART:20241103T070000
END:STANDARD
BEGIN:DAYLIGHT
TZOFFSETFROM:-0600
TZOFFSETTO:-0500
TZNAME:CDT
DTSTART:20250309T080000
END:DAYLIGHT
BEGIN:STANDARD
TZOFFSETFROM:-0500
TZOFFSETTO:-0600
TZNAME:CST
DTSTART:20251102T070000
END:STANDARD
BEGIN:DAYLIGHT
TZOFFSETFROM:-0600
TZOFFSETTO:-0500
TZNAME:CDT
DTSTART:20260308T080000
END:DAYLIGHT
BEGIN:STANDARD
TZOFFSETFROM:-0500
TZOFFSETTO:-0600
TZNAME:CST
DTSTART:20261101T070000
END:STANDARD
END:VTIMEZONE
BEGIN:VEVENT
DTSTART;TZID=America/Chicago:20251022T160000
DTEND;TZID=America/Chicago:20251022T210000
DTSTAMP:20260423T173654
CREATED:20251002T220547Z
LAST-MODIFIED:20251002T221000Z
UID:2830-1761148800-1761166800@wacoactorsguild.org
SUMMARY:The Chronicles of Narnia: Voyage of the Dawntreader Auditions
DESCRIPTION:The Chronicles of Narnia: Voyage of the Dawntreader – Auditions\nSet sail for adventure and step into the magical world of Narnia! The Performing Arts Community Center is holding auditions for our upcoming theatrical production of The Chronicles of Narnia: Voyage of the Dawn Treader. \nAudition Dates: October 22 & 23\, 2025Location: The PACC (924 Austin Ave)Ages: 8–19 \nWhat to Prepare: \n\n\nA 60-second memorized monologue to perform at the audition. \n\n\nA completed audition form\, (see below) \n\n\nAt the Audition:Auditioners will perform their prepared monologue and then read selected sides from the play with other auditionees. \nWhether you’re a seasoned performer or this is your first time auditioning\, we encourage you to come be part of this epic voyage! \n[Signup: https://www.paccwaco.com/narnia]
URL:https://wacoactorsguild.org/stagelink/the-chronicles-of-narnia-voyage-of-the-dawntreader-auditions/
LOCATION:The PACC\, 924 Austin Ave Suit 150\, Waco\, TX\, 76701\, United States
CATEGORIES:Performing Arts Community Center
ATTACH;FMTTYPE=image/png:https://wacoactorsguild.org/wp-content/uploads/2025/10/PACC_dawn-treader_auditions.png
ORGANIZER;CN="Performing Arts Community Center":MAILTO:info@paccwaco.com
END:VEVENT
END:VCALENDAR