BEGIN:VCALENDAR
VERSION:2.0
PRODID:-//Waco Actors&#039; Guild - ECPv6.15.20//NONSGML v1.0//EN
CALSCALE:GREGORIAN
METHOD:PUBLISH
X-WR-CALNAME:Waco Actors&#039; Guild
X-ORIGINAL-URL:https://wacoactorsguild.org
X-WR-CALDESC:Events for Waco Actors&#039; Guild
REFRESH-INTERVAL;VALUE=DURATION:PT1H
X-Robots-Tag:noindex
X-PUBLISHED-TTL:PT1H
BEGIN:VTIMEZONE
TZID:America/Chicago
BEGIN:DAYLIGHT
TZOFFSETFROM:-0600
TZOFFSETTO:-0500
TZNAME:CDT
DTSTART:20240310T080000
END:DAYLIGHT
BEGIN:STANDARD
TZOFFSETFROM:-0500
TZOFFSETTO:-0600
TZNAME:CST
DTSTART:20241103T070000
END:STANDARD
BEGIN:DAYLIGHT
TZOFFSETFROM:-0600
TZOFFSETTO:-0500
TZNAME:CDT
DTSTART:20250309T080000
END:DAYLIGHT
BEGIN:STANDARD
TZOFFSETFROM:-0500
TZOFFSETTO:-0600
TZNAME:CST
DTSTART:20251102T070000
END:STANDARD
BEGIN:DAYLIGHT
TZOFFSETFROM:-0600
TZOFFSETTO:-0500
TZNAME:CDT
DTSTART:20260308T080000
END:DAYLIGHT
BEGIN:STANDARD
TZOFFSETFROM:-0500
TZOFFSETTO:-0600
TZNAME:CST
DTSTART:20261101T070000
END:STANDARD
END:VTIMEZONE
BEGIN:VEVENT
DTSTART;TZID=America/Chicago:20251101T143000
DTEND;TZID=America/Chicago:20251101T170000
DTSTAMP:20260423T162608
CREATED:20251002T010601Z
LAST-MODIFIED:20251002T010601Z
UID:2782-1762007400-1762016400@wacoactorsguild.org
SUMMARY:Frozen: The Broadway Musical
DESCRIPTION:Frozen: The Broadway Musical\n\n\nJoin Elsa and Anna on their epic journey of self-discovery as they navigate icy challenges\, royal responsibilities\, and the unbreakable bond of family. Featuring show-stopping new songs alongside classics like Let It Go and Do You Want to Build a Snowman?\, this enchanting production of Frozen: The Broadway Musical immerses audiences in a dazzling spectacle of music\, movement\, and heartwarming storytelling. \nWith stunning special effects\, mesmerizing costumes\, and a tale that proves love is the most powerful magic of all\, Frozen: The Broadway Musical is an unforgettable experience for dreamers of all ages. \nStep into the magic and let your heart thaw. \n[Tickets: https://ci.ovationtix.com/35622/production/1231769]
URL:https://wacoactorsguild.org/stagelink/frozen-the-broadway-musical-3/
LOCATION:Waco Civic Theatre\, 1517 Lake Air Drive\, Waco\, TX\, 76710\, United States
CATEGORIES:Waco Civic Theatre
ATTACH;FMTTYPE=image/png:https://wacoactorsguild.org/wp-content/uploads/2025/10/2025-26-Shirts-1-300x236-1.png
ORGANIZER;CN="Waco Civic Theatre":MAILTO:boxoffice@wacocivictheatre.org
END:VEVENT
BEGIN:VEVENT
DTSTART;TZID=America/Chicago:20251101T193000
DTEND;TZID=America/Chicago:20251101T210000
DTSTAMP:20260423T162608
CREATED:20251025T153741Z
LAST-MODIFIED:20251025T153741Z
UID:2862-1762025400-1762030800@wacoactorsguild.org
SUMMARY:Improv Comedy Show
DESCRIPTION:Improv Comedy Show – Performance\nSaturday\, November 1\, 7:30 PM\nDoors open at 6:45 \nOur quick-witted improv troupe takes the Brazos stage on Saturday\, October 4\, spinning your suggestions into wild stories\, outrageous characters\, and laugh-out-loud moments—all completely made up on the spot. No script\, no plan\, no two shows ever the same. Just pure\, unpredictable comedy that only happens once… and only happens here! \n[Tickets: https://brazostheatre.ludus.com/index.php?show_id=200502879]
URL:https://wacoactorsguild.org/stagelink/improv-comedy-show-5/
LOCATION:Brazos Theatre of Waco\, 7524 Bosque Blvd.\, Suite Q\, Waco\, TX\, 76712\, United States
CATEGORIES:Brazos Theatre
ATTACH;FMTTYPE=image/png:https://wacoactorsguild.org/wp-content/uploads/2025/10/improv-11-2025-sq_orig.png
ORGANIZER;CN="Brazos Theatre of Waco":MAILTO:brazostheatre@gmail.com
END:VEVENT
BEGIN:VEVENT
DTSTART;TZID=America/Chicago:20251101T193000
DTEND;TZID=America/Chicago:20251101T220000
DTSTAMP:20260423T162608
CREATED:20251002T010651Z
LAST-MODIFIED:20251002T012124Z
UID:2784-1762025400-1762034400@wacoactorsguild.org
SUMMARY:Frozen: The Broadway Musical
DESCRIPTION:Frozen: The Broadway Musical\n\n\nJoin Elsa and Anna on their epic journey of self-discovery as they navigate icy challenges\, royal responsibilities\, and the unbreakable bond of family. Featuring show-stopping new songs alongside classics like Let It Go and Do You Want to Build a Snowman?\, this enchanting production of Frozen: The Broadway Musical immerses audiences in a dazzling spectacle of music\, movement\, and heartwarming storytelling. \nWith stunning special effects\, mesmerizing costumes\, and a tale that proves love is the most powerful magic of all\, Frozen: The Broadway Musical is an unforgettable experience for dreamers of all ages. \nStep into the magic and let your heart thaw. \n[Tickets: https://ci.ovationtix.com/35622/production/1231769]
URL:https://wacoactorsguild.org/stagelink/frozen-the-broadway-musical-4/
LOCATION:Waco Civic Theatre\, 1517 Lake Air Drive\, Waco\, TX\, 76710\, United States
CATEGORIES:Waco Civic Theatre
ATTACH;FMTTYPE=image/png:https://wacoactorsguild.org/wp-content/uploads/2025/10/2025-26-Shirts-1-300x236-1.png
ORGANIZER;CN="Waco Civic Theatre":MAILTO:boxoffice@wacocivictheatre.org
END:VEVENT
END:VCALENDAR