BEGIN:VCALENDAR
VERSION:2.0
PRODID:-//Waco Actors&#039; Guild - ECPv6.15.20//NONSGML v1.0//EN
CALSCALE:GREGORIAN
METHOD:PUBLISH
X-ORIGINAL-URL:https://wacoactorsguild.org
X-WR-CALDESC:Events for Waco Actors&#039; Guild
REFRESH-INTERVAL;VALUE=DURATION:PT1H
X-Robots-Tag:noindex
X-PUBLISHED-TTL:PT1H
BEGIN:VTIMEZONE
TZID:America/Chicago
BEGIN:DAYLIGHT
TZOFFSETFROM:-0600
TZOFFSETTO:-0500
TZNAME:CDT
DTSTART:20240310T080000
END:DAYLIGHT
BEGIN:STANDARD
TZOFFSETFROM:-0500
TZOFFSETTO:-0600
TZNAME:CST
DTSTART:20241103T070000
END:STANDARD
BEGIN:DAYLIGHT
TZOFFSETFROM:-0600
TZOFFSETTO:-0500
TZNAME:CDT
DTSTART:20250309T080000
END:DAYLIGHT
BEGIN:STANDARD
TZOFFSETFROM:-0500
TZOFFSETTO:-0600
TZNAME:CST
DTSTART:20251102T070000
END:STANDARD
BEGIN:DAYLIGHT
TZOFFSETFROM:-0600
TZOFFSETTO:-0500
TZNAME:CDT
DTSTART:20260308T080000
END:DAYLIGHT
BEGIN:STANDARD
TZOFFSETFROM:-0500
TZOFFSETTO:-0600
TZNAME:CST
DTSTART:20261101T070000
END:STANDARD
END:VTIMEZONE
BEGIN:VEVENT
DTSTART;TZID=America/Chicago:20251115T100000
DTEND;TZID=America/Chicago:20251115T120000
DTSTAMP:20260423T163426
CREATED:20251109T144325Z
LAST-MODIFIED:20251109T144325Z
UID:2882-1763200800-1763208000@wacoactorsguild.org
SUMMARY:Frozen: The Broadway Musical
DESCRIPTION:Frozen: The Broadway Musical\n\n\nJoin Elsa and Anna on their epic journey of self-discovery as they navigate icy challenges\, royal responsibilities\, and the unbreakable bond of family. Featuring show-stopping new songs alongside classics like Let It Go and Do You Want to Build a Snowman?\, this enchanting production of Frozen: The Broadway Musical immerses audiences in a dazzling spectacle of music\, movement\, and heartwarming storytelling. \nWith stunning special effects\, mesmerizing costumes\, and a tale that proves love is the most powerful magic of all\, Frozen: The Broadway Musical is an unforgettable experience for dreamers of all ages. \nStep into the magic and let your heart thaw. \n[Tickets: https://ci.ovationtix.com/35622/production/1231769]
URL:https://wacoactorsguild.org/stagelink/frozen-the-broadway-musical-21/
LOCATION:Waco Civic Theatre\, 1517 Lake Air Drive\, Waco\, TX\, 76710\, United States
CATEGORIES:Waco Civic Theatre
ATTACH;FMTTYPE=image/png:https://wacoactorsguild.org/wp-content/uploads/2025/10/2025-26-Shirts-1-300x236-1.png
ORGANIZER;CN="Waco Civic Theatre":MAILTO:boxoffice@wacocivictheatre.org
END:VEVENT
BEGIN:VEVENT
DTSTART;TZID=America/Chicago:20251115T143000
DTEND;TZID=America/Chicago:20251115T170000
DTSTAMP:20260423T163426
CREATED:20251002T011358Z
LAST-MODIFIED:20251002T011358Z
UID:2802-1763217000-1763226000@wacoactorsguild.org
SUMMARY:Frozen: The Broadway Musical
DESCRIPTION:Frozen: The Broadway Musical\n\n\nJoin Elsa and Anna on their epic journey of self-discovery as they navigate icy challenges\, royal responsibilities\, and the unbreakable bond of family. Featuring show-stopping new songs alongside classics like Let It Go and Do You Want to Build a Snowman?\, this enchanting production of Frozen: The Broadway Musical immerses audiences in a dazzling spectacle of music\, movement\, and heartwarming storytelling. \nWith stunning special effects\, mesmerizing costumes\, and a tale that proves love is the most powerful magic of all\, Frozen: The Broadway Musical is an unforgettable experience for dreamers of all ages. \nStep into the magic and let your heart thaw. \n[Tickets: https://ci.ovationtix.com/35622/production/1231769]
URL:https://wacoactorsguild.org/stagelink/frozen-the-broadway-musical-13/
LOCATION:Waco Civic Theatre\, 1517 Lake Air Drive\, Waco\, TX\, 76710\, United States
CATEGORIES:Waco Civic Theatre
ATTACH;FMTTYPE=image/png:https://wacoactorsguild.org/wp-content/uploads/2025/10/2025-26-Shirts-1-300x236-1.png
ORGANIZER;CN="Waco Civic Theatre":MAILTO:boxoffice@wacocivictheatre.org
END:VEVENT
BEGIN:VEVENT
DTSTART;TZID=America/Chicago:20251115T193000
DTEND;TZID=America/Chicago:20251115T220000
DTSTAMP:20260423T163426
CREATED:20251002T011441Z
LAST-MODIFIED:20251002T011441Z
UID:2804-1763235000-1763244000@wacoactorsguild.org
SUMMARY:Frozen: The Broadway Musical
DESCRIPTION:Frozen: The Broadway Musical\n\n\nJoin Elsa and Anna on their epic journey of self-discovery as they navigate icy challenges\, royal responsibilities\, and the unbreakable bond of family. Featuring show-stopping new songs alongside classics like Let It Go and Do You Want to Build a Snowman?\, this enchanting production of Frozen: The Broadway Musical immerses audiences in a dazzling spectacle of music\, movement\, and heartwarming storytelling. \nWith stunning special effects\, mesmerizing costumes\, and a tale that proves love is the most powerful magic of all\, Frozen: The Broadway Musical is an unforgettable experience for dreamers of all ages. \nStep into the magic and let your heart thaw. \n[Tickets: https://ci.ovationtix.com/35622/production/1231769]
URL:https://wacoactorsguild.org/stagelink/frozen-the-broadway-musical-14/
LOCATION:Waco Civic Theatre\, 1517 Lake Air Drive\, Waco\, TX\, 76710\, United States
CATEGORIES:Waco Civic Theatre
ATTACH;FMTTYPE=image/png:https://wacoactorsguild.org/wp-content/uploads/2025/10/2025-26-Shirts-1-300x236-1.png
ORGANIZER;CN="Waco Civic Theatre":MAILTO:boxoffice@wacocivictheatre.org
END:VEVENT
BEGIN:VEVENT
DTSTART;TZID=America/Chicago:20251115T200000
DTEND;TZID=America/Chicago:20251115T220000
DTSTAMP:20260423T163426
CREATED:20251109T150117Z
LAST-MODIFIED:20251109T150304Z
UID:2889-1763236800-1763244000@wacoactorsguild.org
SUMMARY:Comedy at the Brazos: A Stand Up Comedy Showcase
DESCRIPTION:Comedy at the Brazos: A Stand Up Comedy Showcase\nSaturday\, November 15\, 8:00 PM\nDoors open at 7:15 \nThe laughs keep rolling at Brazos Theatre! Our next showcase features a new crew of Texas comics bringing their best jokes\, boldest stories\, and most relatable moments to the stage. Whether you’re a comedy regular or just in need of a good night out\, this show is your cure for the weekday blues. \n[Tickets: https://brazostheatre.ludus.com/index.php?show_id=200505301]
URL:https://wacoactorsguild.org/stagelink/comedy-at-the-brazos-a-stand-up-comedy-showcase-8/
LOCATION:Brazos Theatre of Waco\, 7524 Bosque Blvd.\, Suite Q\, Waco\, TX\, 76712\, United States
CATEGORIES:Brazos Theatre
ATTACH;FMTTYPE=image/png:https://wacoactorsguild.org/wp-content/uploads/2025/11/1761606906.png
ORGANIZER;CN="Brazos Theatre of Waco":MAILTO:brazostheatre@gmail.com
END:VEVENT
END:VCALENDAR