BEGIN:VCALENDAR
VERSION:2.0
PRODID:-//Waco Actors&#039; Guild - ECPv6.15.20//NONSGML v1.0//EN
CALSCALE:GREGORIAN
METHOD:PUBLISH
X-ORIGINAL-URL:https://wacoactorsguild.org
X-WR-CALDESC:Events for Waco Actors&#039; Guild
REFRESH-INTERVAL;VALUE=DURATION:PT1H
X-Robots-Tag:noindex
X-PUBLISHED-TTL:PT1H
BEGIN:VTIMEZONE
TZID:America/Chicago
BEGIN:DAYLIGHT
TZOFFSETFROM:-0600
TZOFFSETTO:-0500
TZNAME:CDT
DTSTART:20240310T080000
END:DAYLIGHT
BEGIN:STANDARD
TZOFFSETFROM:-0500
TZOFFSETTO:-0600
TZNAME:CST
DTSTART:20241103T070000
END:STANDARD
BEGIN:DAYLIGHT
TZOFFSETFROM:-0600
TZOFFSETTO:-0500
TZNAME:CDT
DTSTART:20250309T080000
END:DAYLIGHT
BEGIN:STANDARD
TZOFFSETFROM:-0500
TZOFFSETTO:-0600
TZNAME:CST
DTSTART:20251102T070000
END:STANDARD
BEGIN:DAYLIGHT
TZOFFSETFROM:-0600
TZOFFSETTO:-0500
TZNAME:CDT
DTSTART:20260308T080000
END:DAYLIGHT
BEGIN:STANDARD
TZOFFSETFROM:-0500
TZOFFSETTO:-0600
TZNAME:CST
DTSTART:20261101T070000
END:STANDARD
END:VTIMEZONE
BEGIN:VEVENT
DTSTART;TZID=America/Chicago:20251116T143000
DTEND;TZID=America/Chicago:20251116T170000
DTSTAMP:20260423T163429
CREATED:20251002T011529Z
LAST-MODIFIED:20251002T011529Z
UID:2806-1763303400-1763312400@wacoactorsguild.org
SUMMARY:Frozen: The Broadway Musical
DESCRIPTION:Frozen: The Broadway Musical\n\n\nJoin Elsa and Anna on their epic journey of self-discovery as they navigate icy challenges\, royal responsibilities\, and the unbreakable bond of family. Featuring show-stopping new songs alongside classics like Let It Go and Do You Want to Build a Snowman?\, this enchanting production of Frozen: The Broadway Musical immerses audiences in a dazzling spectacle of music\, movement\, and heartwarming storytelling. \nWith stunning special effects\, mesmerizing costumes\, and a tale that proves love is the most powerful magic of all\, Frozen: The Broadway Musical is an unforgettable experience for dreamers of all ages. \nStep into the magic and let your heart thaw. \n[Tickets: https://ci.ovationtix.com/35622/production/1231769]
URL:https://wacoactorsguild.org/stagelink/frozen-the-broadway-musical-15/
LOCATION:Waco Civic Theatre\, 1517 Lake Air Drive\, Waco\, TX\, 76710\, United States
CATEGORIES:Waco Civic Theatre
ATTACH;FMTTYPE=image/png:https://wacoactorsguild.org/wp-content/uploads/2025/10/2025-26-Shirts-1-300x236-1.png
ORGANIZER;CN="Waco Civic Theatre":MAILTO:boxoffice@wacocivictheatre.org
END:VEVENT
BEGIN:VEVENT
DTSTART;TZID=America/Chicago:20251116T173000
DTEND;TZID=America/Chicago:20251116T193000
DTSTAMP:20260423T163429
CREATED:20251109T145318Z
LAST-MODIFIED:20251109T145318Z
UID:2886-1763314200-1763321400@wacoactorsguild.org
SUMMARY:Songs for a New World - Auditions
DESCRIPTION:Songs for a New World – Auditions\nWaco Civic Theatre is thrilled to announce auditions for Jason Robert Brown’s powerful and moving song cycle\, Songs for a New World — a stunning collection of stories about life\, love\, and the moments that define us. \nFrom the deck of a Spanish sailing ship to the top of a New York penthouse\, each song captures a pivotal “new world” moment — when decisions are made\, dreams are tested\, and hearts are laid bare. With unforgettable music and soul-stirring lyrics\, this production is an incredible showcase for passionate\, dynamic vocalists and storytellers. \nProduction Team: \nDirector: Beth Richards \nStage Manager: Laurinda Thorp \nAudition Details: \nSunday\, November 16\, 5:30-7:30pm \nWaco Civic Theatre (1517 Lake Air Drive) \nAudition Preparation: \n\nPrepare 1 minute of a song that shows your vocal ability. Have the song ready to play on your own device (no speaker hook-up) or sing a capella.\nPrepare a 30-second monologue (find free monologues HERE)\nThere will be some movement during auditions\, but no choreography\nAll experience levels are welcome to audition – from seasoned performers to first-timers!\n\nRehearsal Process / Time Commitment: \n\nRehearsals will begin the week following auditions.\nRehearsals generally take place Monday through Thursday from 6:30-9:30 p.m. A more detailed rehearsal schedule will be provided to cast members\, including days off for the holidays. We strive to be an inclusive environment where we work around jobs and other commitments. During the audition process\, we will ask about your availability and schedule conflicts.\nWork Days (build and paint set\, help with costumes\, etc.) are required and take place on Saturdays 9am-1pm. Cast members will be provided the list of Saturdays they are expected to work.\nTech Week: Week of January 12 (times TBD)\nPerformances:\n\nJanuary 16 and 24 at 7:30pm\nJanuary 17 and 25 at 2:30pm\n\n\n\nRoles Available: \nWe are seeking 6-8 dynamic performers of all identities and backgrounds with strong harmony abilities\, solid vocal range\, and the flexibility to take on multiple characters. \n***18 years and up only; all performance experience levels\, genders\, and ethnicities are welcome to audition!  \nFor more information about Songs for a New World\, please visit: \nhttps://www.mtishows.com/songs-for-a-new-world \n  \nIf you are unable to attend the in-person auditions\, please feel free to submit a video audition: \n\nRecord a brief video: say your name and then perform 1-minute of a song as well as your monologue.\nUpload your video to the folder linked below\nTitle the video: YourName_Audition\nSend a follow-up email to Boxoffice@wacocivictheatre.com with a link to the recording or attach the video clip.\n\n[Signup: https://www.signupgenius.com/go/10C094BA4A629A5FDC61-60171007-songs#/]
URL:https://wacoactorsguild.org/stagelink/songs-for-a-new-world-auditions/
LOCATION:Waco Civic Theatre\, 1517 Lake Air Drive\, Waco\, TX\, 76710\, United States
CATEGORIES:Waco Civic Theatre
ATTACH;FMTTYPE=image/png:https://wacoactorsguild.org/wp-content/uploads/2025/11/B82AC5B56D403681EB5A9C07EB7A576E_146892701.png
ORGANIZER;CN="Waco Civic Theatre":MAILTO:boxoffice@wacocivictheatre.org
END:VEVENT
END:VCALENDAR