BEGIN:VCALENDAR
VERSION:2.0
PRODID:-//Waco Actors&#039; Guild - ECPv6.15.20//NONSGML v1.0//EN
CALSCALE:GREGORIAN
METHOD:PUBLISH
X-ORIGINAL-URL:https://wacoactorsguild.org
X-WR-CALDESC:Events for Waco Actors&#039; Guild
REFRESH-INTERVAL;VALUE=DURATION:PT1H
X-Robots-Tag:noindex
X-PUBLISHED-TTL:PT1H
BEGIN:VTIMEZONE
TZID:America/Chicago
BEGIN:DAYLIGHT
TZOFFSETFROM:-0600
TZOFFSETTO:-0500
TZNAME:CDT
DTSTART:20240310T080000
END:DAYLIGHT
BEGIN:STANDARD
TZOFFSETFROM:-0500
TZOFFSETTO:-0600
TZNAME:CST
DTSTART:20241103T070000
END:STANDARD
BEGIN:DAYLIGHT
TZOFFSETFROM:-0600
TZOFFSETTO:-0500
TZNAME:CDT
DTSTART:20250309T080000
END:DAYLIGHT
BEGIN:STANDARD
TZOFFSETFROM:-0500
TZOFFSETTO:-0600
TZNAME:CST
DTSTART:20251102T070000
END:STANDARD
BEGIN:DAYLIGHT
TZOFFSETFROM:-0600
TZOFFSETTO:-0500
TZNAME:CDT
DTSTART:20260308T080000
END:DAYLIGHT
BEGIN:STANDARD
TZOFFSETFROM:-0500
TZOFFSETTO:-0600
TZNAME:CST
DTSTART:20261101T070000
END:STANDARD
END:VTIMEZONE
BEGIN:VEVENT
DTSTART;TZID=America/Chicago:20251221T140000
DTEND;TZID=America/Chicago:20251221T170000
DTSTAMP:20260423T151226
CREATED:20251215T174401Z
LAST-MODIFIED:20251215T174401Z
UID:2947-1766325600-1766336400@wacoactorsguild.org
SUMMARY:Romeo & Juliet Auditions
DESCRIPTION:Romeo & Juliet – Auditions\nJoin us for our FIRST SHOW of the 2026 season! Romeo & Juliet auditions will be held Sunday\, December 21st\, at the Jubilee Theatre. No need to prepare anything! Sign the audition form in our bio NOW to be apart of the magic 🌹 \n[Signup: https://docs.google.com/forms/d/e/1FAIpQLSd9J-BYHaS7-1wT5jZUzYS9CSegZXLe83icOfCIGhhv-FQNrA/viewform?usp=publish-editor]
URL:https://wacoactorsguild.org/stagelink/romeo-juliet-auditions/
LOCATION:Jubilee Theatre\, 1315 N 15th St\, Waco\, TX\, United States
CATEGORIES:Silent House Theatre
ATTACH;FMTTYPE=image/jpeg:https://wacoactorsguild.org/wp-content/uploads/2025/12/598641735_18074299211581685_7685693566034960874_n.jpg
ORGANIZER;CN="Silent House Theatre Co.":MAILTO:silenthousetheatre@gmail.com
END:VEVENT
BEGIN:VEVENT
DTSTART;TZID=America/Chicago:20251221T190000
DTEND;TZID=America/Chicago:20251221T210000
DTSTAMP:20260423T151226
CREATED:20251212T203329Z
LAST-MODIFIED:20251221T135739Z
UID:2934-1766343600-1766350800@wacoactorsguild.org
SUMMARY:North Pole's Got Talent
DESCRIPTION:North Pole’s Got Talent – Performances\nNorth Pole’s Got Talent is Waco Civic Theatre’s holly-jolly showcase where anything can happen and everything sparkles. Only Santa knows the lineup\, but expect a blizzard of surprise acts—showstopping vocals\, toe-tapping dance breaks\, mind-bending magic\, and yes… juggling elves. It’s fast\, festive\, and family-friendly\, the kind of night that turns applause into tradition. \n[Tickets: https://ci.ovationtix.com/35622/production/1257498]
URL:https://wacoactorsguild.org/stagelink/north-poles-got-talent/
LOCATION:Waco Civic Theatre\, 1517 Lake Air Drive\, Waco\, TX\, 76710\, United States
CATEGORIES:Waco Civic Theatre
ATTACH;FMTTYPE=image/png:https://wacoactorsguild.org/wp-content/uploads/2025/12/ClientFile595730.png
ORGANIZER;CN="Waco Civic Theatre":MAILTO:boxoffice@wacocivictheatre.org
END:VEVENT
END:VCALENDAR