BEGIN:VCALENDAR
VERSION:2.0
PRODID:-//Waco Actors&#039; Guild - ECPv6.15.20//NONSGML v1.0//EN
CALSCALE:GREGORIAN
METHOD:PUBLISH
X-ORIGINAL-URL:https://wacoactorsguild.org
X-WR-CALDESC:Events for Waco Actors&#039; Guild
REFRESH-INTERVAL;VALUE=DURATION:PT1H
X-Robots-Tag:noindex
X-PUBLISHED-TTL:PT1H
BEGIN:VTIMEZONE
TZID:America/Chicago
BEGIN:DAYLIGHT
TZOFFSETFROM:-0600
TZOFFSETTO:-0500
TZNAME:CDT
DTSTART:20250309T080000
END:DAYLIGHT
BEGIN:STANDARD
TZOFFSETFROM:-0500
TZOFFSETTO:-0600
TZNAME:CST
DTSTART:20251102T070000
END:STANDARD
BEGIN:DAYLIGHT
TZOFFSETFROM:-0600
TZOFFSETTO:-0500
TZNAME:CDT
DTSTART:20260308T080000
END:DAYLIGHT
BEGIN:STANDARD
TZOFFSETFROM:-0500
TZOFFSETTO:-0600
TZNAME:CST
DTSTART:20261101T070000
END:STANDARD
BEGIN:DAYLIGHT
TZOFFSETFROM:-0600
TZOFFSETTO:-0500
TZNAME:CDT
DTSTART:20270314T080000
END:DAYLIGHT
BEGIN:STANDARD
TZOFFSETFROM:-0500
TZOFFSETTO:-0600
TZNAME:CST
DTSTART:20271107T070000
END:STANDARD
END:VTIMEZONE
BEGIN:VEVENT
DTSTART;TZID=America/Chicago:20260103T193000
DTEND;TZID=America/Chicago:20260103T210000
DTSTAMP:20260423T151153
CREATED:20251228T142702Z
LAST-MODIFIED:20251228T142702Z
UID:2952-1767468600-1767474000@wacoactorsguild.org
SUMMARY:The First Improv Comedy Show of 2026!
DESCRIPTION:The First Improv Comedy Show of 2026! – Performance\nSaturday\, January 3\, 7:30 PM\nDoors open at 6:45 \nStart 2025 on the right note… the one where everyone’s laughing! Our first Improv Comedy Show of the new year hits the stage on Saturday\, January 3rd. We’ll be leaning into the holiday spirit with festive decorations and a full “New Year’s party” vibe. Yes\, we’re getting all dolled up\, and yes\, you’re welcome to join the fun however you choose: sequins\, ties\, gowns\, jeans\, or whatever says “I’m ready for the year.”! \n[Tickets: https://brazostheatre.ludus.com/index.php?show_id=200511769] \n 
URL:https://wacoactorsguild.org/stagelink/the-first-improv-comedy-show-of-2026/
LOCATION:Brazos Theatre of Waco\, 7524 Bosque Blvd.\, Suite Q\, Waco\, TX\, 76712\, United States
CATEGORIES:Brazos Theatre
ATTACH;FMTTYPE=image/png:https://wacoactorsguild.org/wp-content/uploads/2025/12/new-year-improv-2025-sq_orig.png
ORGANIZER;CN="Brazos Theatre of Waco":MAILTO:brazostheatre@gmail.com
END:VEVENT
END:VCALENDAR