BEGIN:VCALENDAR
VERSION:2.0
PRODID:-//Waco Actors&#039; Guild - ECPv6.15.20//NONSGML v1.0//EN
CALSCALE:GREGORIAN
METHOD:PUBLISH
X-ORIGINAL-URL:https://wacoactorsguild.org
X-WR-CALDESC:Events for Waco Actors&#039; Guild
REFRESH-INTERVAL;VALUE=DURATION:PT1H
X-Robots-Tag:noindex
X-PUBLISHED-TTL:PT1H
BEGIN:VTIMEZONE
TZID:America/Chicago
BEGIN:DAYLIGHT
TZOFFSETFROM:-0600
TZOFFSETTO:-0500
TZNAME:CDT
DTSTART:20250309T080000
END:DAYLIGHT
BEGIN:STANDARD
TZOFFSETFROM:-0500
TZOFFSETTO:-0600
TZNAME:CST
DTSTART:20251102T070000
END:STANDARD
BEGIN:DAYLIGHT
TZOFFSETFROM:-0600
TZOFFSETTO:-0500
TZNAME:CDT
DTSTART:20260308T080000
END:DAYLIGHT
BEGIN:STANDARD
TZOFFSETFROM:-0500
TZOFFSETTO:-0600
TZNAME:CST
DTSTART:20261101T070000
END:STANDARD
BEGIN:DAYLIGHT
TZOFFSETFROM:-0600
TZOFFSETTO:-0500
TZNAME:CDT
DTSTART:20270314T080000
END:DAYLIGHT
BEGIN:STANDARD
TZOFFSETFROM:-0500
TZOFFSETTO:-0600
TZNAME:CST
DTSTART:20271107T070000
END:STANDARD
END:VTIMEZONE
BEGIN:VEVENT
DTSTART;TZID=America/Chicago:20260411T143000
DTEND;TZID=America/Chicago:20260411T170000
DTSTAMP:20260423T094242
CREATED:20260401T143942Z
LAST-MODIFIED:20260401T143942Z
UID:3119-1775917800-1775926800@wacoactorsguild.org
SUMMARY:Odd Couple: Female Version
DESCRIPTION:Odd Couple: Female Version – Performance\nNeil Simon’s legendary comedy gets a bold\, laugh-out-loud makeover in The Odd Couple: Female Edition! Set in the vibrant 1980s\, this fast-paced and irresistibly funny adaptation follows Olive Madison — a free-spirited\, messy sportswriter — and Florence Unger — a polished\, perfectionist homemaker — as they try to share an apartment without driving each other crazy. \nAudiences have called it “uproariously funny” and “a masterclass in classic comedy with a modern twist.” \n[Tickets: https://ci.ovationtix.com/35622/production/1231793]
URL:https://wacoactorsguild.org/stagelink/odd-couple-female-version-3/
LOCATION:Waco Civic Theatre\, 1517 Lake Air Drive\, Waco\, TX\, 76710\, United States
CATEGORIES:Waco Civic Theatre
ATTACH;FMTTYPE=image/png:https://wacoactorsguild.org/wp-content/uploads/2026/04/ClientFile563264.png
ORGANIZER;CN="Waco Civic Theatre":MAILTO:boxoffice@wacocivictheatre.org
END:VEVENT
BEGIN:VEVENT
DTSTART;TZID=America/Chicago:20260411T193000
DTEND;TZID=America/Chicago:20260411T213000
DTSTAMP:20260423T094242
CREATED:20260407T200932Z
LAST-MODIFIED:20260407T200932Z
UID:3146-1775935800-1775943000@wacoactorsguild.org
SUMMARY:She Show
DESCRIPTION:She Show – Performance\nSilent House Theatre’s “She Show” is a spectacular original production that you will not want to miss. Told through the various artistic mediums of monologues\, poetry\, song\, and dance\, these women of Waco all of which come from different backgrounds\, cultures\, and lifestyles will tell you what their experience of womanhood has looked like. The night will be filled with laughter\, tears\, delightful moments\, and sharp truths of the reality of being a woman. We hope you will come and join us for a night filled with storytelling in the world premiere of “She Show”. \n[Tickets: https://www.tickettailor.com/events/silenthouse]
URL:https://wacoactorsguild.org/stagelink/she-show-2/
LOCATION:The PACC\, 924 Austin Ave Suit 150\, Waco\, TX\, 76701\, United States
CATEGORIES:Silent House Theatre
ATTACH;FMTTYPE=image/jpeg:https://wacoactorsguild.org/wp-content/uploads/2026/04/657700711_18086292644581685_8652180793842654124_n.jpg
ORGANIZER;CN="Silent House Theatre Co.":MAILTO:silenthousetheatre@gmail.com
END:VEVENT
BEGIN:VEVENT
DTSTART;TZID=America/Chicago:20260411T193000
DTEND;TZID=America/Chicago:20260411T220000
DTSTAMP:20260423T094242
CREATED:20260401T144027Z
LAST-MODIFIED:20260401T144027Z
UID:3121-1775935800-1775944800@wacoactorsguild.org
SUMMARY:Odd Couple: Female Version
DESCRIPTION:Odd Couple: Female Version – Performance\nNeil Simon’s legendary comedy gets a bold\, laugh-out-loud makeover in The Odd Couple: Female Edition! Set in the vibrant 1980s\, this fast-paced and irresistibly funny adaptation follows Olive Madison — a free-spirited\, messy sportswriter — and Florence Unger — a polished\, perfectionist homemaker — as they try to share an apartment without driving each other crazy. \nAudiences have called it “uproariously funny” and “a masterclass in classic comedy with a modern twist.” \n[Tickets: https://ci.ovationtix.com/35622/production/1231793]
URL:https://wacoactorsguild.org/stagelink/odd-couple-female-version-4/
LOCATION:Waco Civic Theatre\, 1517 Lake Air Drive\, Waco\, TX\, 76710\, United States
CATEGORIES:Waco Civic Theatre
ATTACH;FMTTYPE=image/png:https://wacoactorsguild.org/wp-content/uploads/2026/04/ClientFile563264.png
ORGANIZER;CN="Waco Civic Theatre":MAILTO:boxoffice@wacocivictheatre.org
END:VEVENT
END:VCALENDAR