BEGIN:VCALENDAR
VERSION:2.0
PRODID:-//Waco Actors&#039; Guild - ECPv6.15.20//NONSGML v1.0//EN
CALSCALE:GREGORIAN
METHOD:PUBLISH
X-ORIGINAL-URL:https://wacoactorsguild.org
X-WR-CALDESC:Events for Waco Actors&#039; Guild
REFRESH-INTERVAL;VALUE=DURATION:PT1H
X-Robots-Tag:noindex
X-PUBLISHED-TTL:PT1H
BEGIN:VTIMEZONE
TZID:America/Chicago
BEGIN:DAYLIGHT
TZOFFSETFROM:-0600
TZOFFSETTO:-0500
TZNAME:CDT
DTSTART:20240310T080000
END:DAYLIGHT
BEGIN:STANDARD
TZOFFSETFROM:-0500
TZOFFSETTO:-0600
TZNAME:CST
DTSTART:20241103T070000
END:STANDARD
BEGIN:DAYLIGHT
TZOFFSETFROM:-0600
TZOFFSETTO:-0500
TZNAME:CDT
DTSTART:20250309T080000
END:DAYLIGHT
BEGIN:STANDARD
TZOFFSETFROM:-0500
TZOFFSETTO:-0600
TZNAME:CST
DTSTART:20251102T070000
END:STANDARD
BEGIN:DAYLIGHT
TZOFFSETFROM:-0600
TZOFFSETTO:-0500
TZNAME:CDT
DTSTART:20260308T080000
END:DAYLIGHT
BEGIN:STANDARD
TZOFFSETFROM:-0500
TZOFFSETTO:-0600
TZNAME:CST
DTSTART:20261101T070000
END:STANDARD
END:VTIMEZONE
BEGIN:VEVENT
DTSTART;TZID=America/Chicago:20250601T143000
DTEND;TZID=America/Chicago:20250601T170000
DTSTAMP:20260423T212809
CREATED:20250429T205345Z
LAST-MODIFIED:20250429T205345Z
UID:1843-1748788200-1748797200@wacoactorsguild.org
SUMMARY:My Fair Lady
DESCRIPTION:My Fair Lady: A Classic Reborn – Performance\n\nExperience the timeless elegance and wit of Lerner and Loewe’s masterpiece\, My Fair Lady. This beloved musical\, based on George Bernard Shaw’s Pygmalion\, tells the enchanting story of Eliza Doolittle\, a Cockney flower girl transformed into a refined lady by the arrogant phonetics professor\, Henry Higgins.   \nWith a dazzling score by Frederick Loewe and lyrics by Alan Jay Lerner\, featuring iconic songs like “I Could Have Danced All Night” and “Get Me To The Church On Time\,” My Fair Lady is a musical theater treasure.  \nPrepare to be swept away by the magic of transformation as Eliza discovers her own voice and independence. Don’t miss this opportunity to experience the brilliance of Lerner and Loewe live on stage. \n[Tickets: https://ci.ovationtix.com/35622/production/1216290]
URL:https://wacoactorsguild.org/stagelink/my-fair-lady-15/
LOCATION:Waco Civic Theatre\, 1517 Lake Air Drive\, Waco\, TX\, 76710\, United States
CATEGORIES:Waco Civic Theatre
ATTACH;FMTTYPE=image/jpeg:https://wacoactorsguild.org/wp-content/uploads/2025/02/ClientFile547521.jpg
ORGANIZER;CN="Waco Civic Theatre":MAILTO:boxoffice@wacocivictheatre.org
END:VEVENT
BEGIN:VEVENT
DTSTART;TZID=America/Chicago:20250607T193000
DTEND;TZID=America/Chicago:20250607T220000
DTSTAMP:20260423T212809
CREATED:20250530T125744Z
LAST-MODIFIED:20250530T125744Z
UID:1929-1749324600-1749333600@wacoactorsguild.org
SUMMARY:Improv's a Beach! Improv Comedy Show
DESCRIPTION:Improv’s a Beach! Improv Comedy Show – Performance\nSaturday\, June 7\, 7:30 PM\nDoors open at 6:45 \nIt’s summer! That means it’s time to head to the “Brazos Beach” for a great night of summer themed improv comedy. Wear your best beach attire (uhh… but leave those bikinis and mankinis at home\, please) and join us for the hottest show in town! Grab your seats now\, or at the door the night of the show. \n[Tickets: https://checkout.square.site/merchant/SNAAYRBKQZ6SC/checkout/JWDQJKRDPTWGMHX2UY2VZG7V]
URL:https://wacoactorsguild.org/stagelink/improvs-a-beach-improv-comedy-show/
LOCATION:Brazos Theatre of Waco\, 7524 Bosque Blvd.\, Suite Q\, Waco\, TX\, 76712\, United States
CATEGORIES:Brazos Theatre
ATTACH;FMTTYPE=image/webp:https://wacoactorsguild.org/wp-content/uploads/2025/05/improv-s-a-beach-2025-sq_orig.webp
ORGANIZER;CN="Brazos Theatre of Waco":MAILTO:brazostheatre@gmail.com
END:VEVENT
BEGIN:VEVENT
DTSTART;TZID=America/Chicago:20250608T160000
DTEND;TZID=America/Chicago:20250608T200000
DTSTAMP:20260423T212809
CREATED:20250517T220322Z
LAST-MODIFIED:20250603T152746Z
UID:1875-1749398400-1749412800@wacoactorsguild.org
SUMMARY:Backwards Broadway Auditions
DESCRIPTION:Auditions for Backwards Broadway\, organized by Waco Civic Theatre and Brazos Theatre\n\n✨ BACKWARDS BROADWAY: AUDITIONS OPEN (and time change! )✨ \nWhere the roles are wrong\, the vibes are right\, and vocal ranges are merely suggestions 🎤💅 \nWe’re flipping the script with 22 totally miscast numbers—think duets\, trios\, group numbers\, and solos that defy expectation (and type). Whether you’ve always dreamed of belting out Agony as a soprano or tackling Cell Block Tango with a bass voice\, this is your moment. \n🗓️ Auditions: June 8th | 4-8 PM\n📍 Waco Civic Theatre\n🎤 Prepare a 1-minute cut of a “miscast” song—karaoke track or acapella \nSign up here: bit.ly/3GTCO4K\n📩 Questions? Contact Director Mikaela Sako at mikaelasako@yahoo.com
URL:https://wacoactorsguild.org/stagelink/backwards-broadway-auditions/
LOCATION:Waco Civic Theatre\, 1517 Lake Air Drive\, Waco\, TX\, 76710\, United States
CATEGORIES:Brazos Theatre,Waco Civic Theatre
ATTACH;FMTTYPE=image/webp:https://wacoactorsguild.org/wp-content/uploads/2025/05/original-20B63B33-9905-485C-9507-5B236F0757F0.webp
ORGANIZER;CN="Brazos Theatre of Waco":MAILTO:brazostheatre@gmail.com
END:VEVENT
BEGIN:VEVENT
DTSTART;TZID=America/Chicago:20250613T190000
DTEND;TZID=America/Chicago:20250613T213000
DTSTAMP:20260423T212809
CREATED:20250530T124726Z
LAST-MODIFIED:20250530T124726Z
UID:1917-1749841200-1749850200@wacoactorsguild.org
SUMMARY:Much Ado About Nothing
DESCRIPTION:Much Ado About Nothing – Performance\n\n\nThe primary plot of Much Ado About Nothing revolves around the courtship and scandal involving young Hero and her suitor\, Claudio\, but the witty war of words between Claudio’s friend Benedick and Hero’s cousin Beatrice often takes center stage. \nIn Silent House’s 80s rendition\, we’re in Naples\, Florida. Leonato\, a political player in Naples\, is hosting a party. The real juice of the plot begins as Don Pedro’s army returns after a victory. Benedick\, a gentleman soldier\, resumes a verbal duel with Beatrice\, the niece of the great Leonato. Count Claudio is smitten by Leonato’s daughter\, Hero. After Don Pedro woos her in disguise for Claudio\, the two young lovers plan to marry in a week. To fill in the time until the wedding\, Don Pedro and the others set about tricking Benedick and Beatrice into falling in love with each other. Meanwhile\, Don Pedro’s disgruntled brother\, Don John\, plots to ruin Hero and halt her wedding. Claudio believes Don John’s deception\, is convinced Hero has a lover\, and\, at the wedding\, brutally rejects her. \nWith Hero in hiding and falsely reported dead\, Beatrice persuades Benedick to fight Claudio. Tragedy is averted when the bumbling property guards\, having discovered Don John’s treachery\, arrives and clears Hero’s name. With Claudio forgiven\, both couples are ready to get married. \n[Tickets: https://www.tickettailor.com/events/silenthouse/1678468]
URL:https://wacoactorsguild.org/stagelink/much-ado-about-nothing/
LOCATION:Earle Harrison House & Pape Gardens\, 1901 N 5th Street\, Waco\, TX\, 76708\, United States
CATEGORIES:Silent House Theatre
ATTACH;FMTTYPE=image/webp:https://wacoactorsguild.org/wp-content/uploads/2025/05/fimxna9sdt83z4kmfdaj.webp
ORGANIZER;CN="Silent House Theatre Co.":MAILTO:silenthousetheatre@gmail.com
END:VEVENT
BEGIN:VEVENT
DTSTART;TZID=America/Chicago:20250613T193000
DTEND;TZID=America/Chicago:20250613T220000
DTSTAMP:20260423T212809
CREATED:20250530T130027Z
LAST-MODIFIED:20250530T130027Z
UID:1932-1749843000-1749852000@wacoactorsguild.org
SUMMARY:Terror at the Tiki Bar: A Murder Mystery Dinner Event
DESCRIPTION:Terror at the Tiki Bar: A Murder Mystery Dinner Event\nJune 13 & 14\, 7:30 PM\nDinner catered by Olive Branch Cafe \nEscape to paradise – or so you thought! At Brazos Theatre’s “Terror at the Tiki Bar\,” a tropical celebration at a sunny beachside resort is shattered by a shocking murder. Join us for an unforgettable evening filled with mystery\, delicious food\, and tropical thrills. “Terror at the Tiki Bar” is your ticket to paradise… with a deadly twist.\nTickets on sale SOON! \n[Tickets: ]
URL:https://wacoactorsguild.org/stagelink/terror-at-the-tiki-bar-a-murder-mystery-dinner-event/
LOCATION:Brazos Theatre of Waco\, 7524 Bosque Blvd.\, Suite Q\, Waco\, TX\, 76712\, United States
CATEGORIES:Brazos Theatre
ATTACH;FMTTYPE=image/webp:https://wacoactorsguild.org/wp-content/uploads/2025/05/mm-tiki-fb-fb-sq-copy_orig.webp
ORGANIZER;CN="Brazos Theatre of Waco":MAILTO:brazostheatre@gmail.com
END:VEVENT
BEGIN:VEVENT
DTSTART;TZID=America/Chicago:20250614T140000
DTEND;TZID=America/Chicago:20250614T170000
DTSTAMP:20260423T212809
CREATED:20250607T144832Z
LAST-MODIFIED:20250607T144832Z
UID:1984-1749909600-1749920400@wacoactorsguild.org
SUMMARY:Hairpiece
DESCRIPTION:Hairpiece | A short selection from George C. Wolfe’s play The Colored Museum\nJoin us on Saturday June 14th @artcenterwaco in celebrating Juneteenth with a 1-Day presentation of Hairpiece\, a short selection from George C. Wolfe’s play The Colored Museum. \nStay to enjoy the New Growth Hair Exhibit and Short Film. There will be an artist talk back\, Hair Battles\, vendors\, a PlayStation Giveaway and more \nEvent is FREE so don’t meet us there\, beat us there!!!
URL:https://wacoactorsguild.org/stagelink/hairpiece/
LOCATION:Art Center Waco\, 701 S. 8th Street\, Waco\, 76706\, United States
CATEGORIES:Far-Cast Theatre
ATTACH;FMTTYPE=image/webp:https://wacoactorsguild.org/wp-content/uploads/2025/06/504088351_17984322671826485_2262479037716904649_n.webp
END:VEVENT
BEGIN:VEVENT
DTSTART;TZID=America/Chicago:20250614T190000
DTEND;TZID=America/Chicago:20250614T213000
DTSTAMP:20260423T212809
CREATED:20250530T124818Z
LAST-MODIFIED:20250530T124818Z
UID:1921-1749927600-1749936600@wacoactorsguild.org
SUMMARY:Much Ado About Nothing
DESCRIPTION:Much Ado About Nothing – Performance\n\n\nThe primary plot of Much Ado About Nothing revolves around the courtship and scandal involving young Hero and her suitor\, Claudio\, but the witty war of words between Claudio’s friend Benedick and Hero’s cousin Beatrice often takes center stage. \nIn Silent House’s 80s rendition\, we’re in Naples\, Florida. Leonato\, a political player in Naples\, is hosting a party. The real juice of the plot begins as Don Pedro’s army returns after a victory. Benedick\, a gentleman soldier\, resumes a verbal duel with Beatrice\, the niece of the great Leonato. Count Claudio is smitten by Leonato’s daughter\, Hero. After Don Pedro woos her in disguise for Claudio\, the two young lovers plan to marry in a week. To fill in the time until the wedding\, Don Pedro and the others set about tricking Benedick and Beatrice into falling in love with each other. Meanwhile\, Don Pedro’s disgruntled brother\, Don John\, plots to ruin Hero and halt her wedding. Claudio believes Don John’s deception\, is convinced Hero has a lover\, and\, at the wedding\, brutally rejects her. \nWith Hero in hiding and falsely reported dead\, Beatrice persuades Benedick to fight Claudio. Tragedy is averted when the bumbling property guards\, having discovered Don John’s treachery\, arrives and clears Hero’s name. With Claudio forgiven\, both couples are ready to get married. \n[Tickets: https://www.tickettailor.com/events/silenthouse/1678468]
URL:https://wacoactorsguild.org/stagelink/much-ado-about-nothing-2/
LOCATION:Earle Harrison House & Pape Gardens\, 1901 N 5th Street\, Waco\, TX\, 76708\, United States
CATEGORIES:Silent House Theatre
ATTACH;FMTTYPE=image/webp:https://wacoactorsguild.org/wp-content/uploads/2025/05/fimxna9sdt83z4kmfdaj.webp
ORGANIZER;CN="Silent House Theatre Co.":MAILTO:silenthousetheatre@gmail.com
END:VEVENT
BEGIN:VEVENT
DTSTART;TZID=America/Chicago:20250614T193000
DTEND;TZID=America/Chicago:20250614T220000
DTSTAMP:20260423T212809
CREATED:20250530T130957Z
LAST-MODIFIED:20250530T130957Z
UID:1936-1749929400-1749938400@wacoactorsguild.org
SUMMARY:Terror at the Tiki Bar: A Murder Mystery Dinner Event
DESCRIPTION:Terror at the Tiki Bar: A Murder Mystery Dinner Event\nJune 13 & 14\, 7:30 PM\nDinner catered by Olive Branch Cafe \nEscape to paradise – or so you thought! At Brazos Theatre’s “Terror at the Tiki Bar\,” a tropical celebration at a sunny beachside resort is shattered by a shocking murder. Join us for an unforgettable evening filled with mystery\, delicious food\, and tropical thrills. “Terror at the Tiki Bar” is your ticket to paradise… with a deadly twist.\nTickets on sale SOON! \n[Tickets: ]
URL:https://wacoactorsguild.org/stagelink/terror-at-the-tiki-bar-a-murder-mystery-dinner-event-2/
LOCATION:Brazos Theatre of Waco\, 7524 Bosque Blvd.\, Suite Q\, Waco\, TX\, 76712\, United States
CATEGORIES:Brazos Theatre
ATTACH;FMTTYPE=image/webp:https://wacoactorsguild.org/wp-content/uploads/2025/05/mm-tiki-fb-fb-sq-copy_orig.webp
ORGANIZER;CN="Brazos Theatre of Waco":MAILTO:brazostheatre@gmail.com
END:VEVENT
BEGIN:VEVENT
DTSTART;TZID=America/Chicago:20250615T190000
DTEND;TZID=America/Chicago:20250615T213000
DTSTAMP:20260423T212809
CREATED:20250530T124906Z
LAST-MODIFIED:20250530T124906Z
UID:1923-1750014000-1750023000@wacoactorsguild.org
SUMMARY:Much Ado About Nothing
DESCRIPTION:Much Ado About Nothing – Performance\n\n\nThe primary plot of Much Ado About Nothing revolves around the courtship and scandal involving young Hero and her suitor\, Claudio\, but the witty war of words between Claudio’s friend Benedick and Hero’s cousin Beatrice often takes center stage. \nIn Silent House’s 80s rendition\, we’re in Naples\, Florida. Leonato\, a political player in Naples\, is hosting a party. The real juice of the plot begins as Don Pedro’s army returns after a victory. Benedick\, a gentleman soldier\, resumes a verbal duel with Beatrice\, the niece of the great Leonato. Count Claudio is smitten by Leonato’s daughter\, Hero. After Don Pedro woos her in disguise for Claudio\, the two young lovers plan to marry in a week. To fill in the time until the wedding\, Don Pedro and the others set about tricking Benedick and Beatrice into falling in love with each other. Meanwhile\, Don Pedro’s disgruntled brother\, Don John\, plots to ruin Hero and halt her wedding. Claudio believes Don John’s deception\, is convinced Hero has a lover\, and\, at the wedding\, brutally rejects her. \nWith Hero in hiding and falsely reported dead\, Beatrice persuades Benedick to fight Claudio. Tragedy is averted when the bumbling property guards\, having discovered Don John’s treachery\, arrives and clears Hero’s name. With Claudio forgiven\, both couples are ready to get married. \n[Tickets: https://www.tickettailor.com/events/silenthouse/1678468]
URL:https://wacoactorsguild.org/stagelink/much-ado-about-nothing-3/
LOCATION:Earle Harrison House & Pape Gardens\, 1901 N 5th Street\, Waco\, TX\, 76708\, United States
CATEGORIES:Silent House Theatre
ATTACH;FMTTYPE=image/webp:https://wacoactorsguild.org/wp-content/uploads/2025/05/fimxna9sdt83z4kmfdaj.webp
ORGANIZER;CN="Silent House Theatre Co.":MAILTO:silenthousetheatre@gmail.com
END:VEVENT
BEGIN:VEVENT
DTSTART;TZID=America/Chicago:20250616T190000
DTEND;TZID=America/Chicago:20250616T210000
DTSTAMP:20260423T212809
CREATED:20250605T181410Z
LAST-MODIFIED:20250605T181410Z
UID:1973-1750100400-1750107600@wacoactorsguild.org
SUMMARY:Along Came Joan or Savin' Sweet Stu's Bacon Open Auditions
DESCRIPTION:Along Came Joan or Savin’ Sweet Stu’s Bacon Open Auditions\nAUDITIONS: June 16\, 7:00 PM\nProduction dates: August 7-10\, 2025\nRegister for auditions by clicking here. <–\nAlong Came Joan (or Savin’ Sweet Stu’s Bacon)\nA Melodrama by Rachel Velasco\nIn the dusty town of Cactus Gulch\, all Sweet Stu wants is to hang onto his family’s crumbling ranch\, outwit a herd of unruly goats\, and maybe enjoy a peaceful glass of his late pappy’s favorite “iced tea.” But when the villainous Salty Sam catches wind of Stu’s inheritance\, she’ll stop at nothing to get her grubby hands on the deed—no matter what it takes. \nThankfully\, Cactus Gulch has a secret weapon: local legend and law-woman Long Tall Joan – with her silver star\, steely resolve\, and a strut that can stop evil in its tracks. With a colorful cast of townsfolk\, bumbling sidekicks\, and one very enthusiastic cue card guy\, it’s a showdown of good versus goofiness\, where the goats aren’t the only thing running wild. Will Sweet Stu hold on to his legacy? Will Salty Sam finally get her comeuppance? And will Long Tall Joan ever finish writing her autobiography? Find out in this rootin’-tootin’ tale of hijinks\, heart\, and heroism—where justice wears fringe and carries a mighty big star. \nCAST OF CHARACTERS:\n​SWEET STU (M): The earnest\, overwhelmed rancher. Our classic dude in distress.\nDUSTY SHELVES (M): The town’s general store owner. Well-meaning\, a bit frazzled.\nMISTY SHELVES (F): Dusty’s kind-hearted\, nurturing wife.\nCUE CARD MISTER (M): A silent showman who uses cue cards and physical comedy to engage the audience. Infatuated with Long Tall Joan.\nSALTY SAM (F): The villain. Tough\, conniving\, and always up to no good.\nTOOTY (F): Sam’s dim but loyal sidekick. Loves crossword puzzles and chaos.\nGINNY TONIC (F): The no-nonsense saloon bartender with sharp instincts.\nJOHN DALE (M): An eager saloon worker desperate to be seen as important.\nLONG TALL JOAN (F): The town’s larger-than-life law-woman and local legend. Heroic\, stylish\, and unbothered. \n[Signup: https://form.jotform.com/251513222223138]
URL:https://wacoactorsguild.org/stagelink/along-came-joan-or-savin-sweet-stus-bacon-open-auditions/
LOCATION:Brazos Theatre of Waco\, 7524 Bosque Blvd.\, Suite Q\, Waco\, TX\, 76712\, United States
CATEGORIES:Brazos Theatre
ATTACH;FMTTYPE=image/webp:https://wacoactorsguild.org/wp-content/uploads/2025/06/alj-melo-cover-auditions_orig.webp
ORGANIZER;CN="Brazos Theatre of Waco":MAILTO:brazostheatre@gmail.com
END:VEVENT
BEGIN:VEVENT
DTSTART;TZID=America/Chicago:20250619T193000
DTEND;TZID=America/Chicago:20250619T220000
DTSTAMP:20260423T212809
CREATED:20250615T124506Z
LAST-MODIFIED:20250615T124506Z
UID:1996-1750361400-1750370400@wacoactorsguild.org
SUMMARY:Blind Willie Johnson
DESCRIPTION:Blind Willie Johnson – Performance\nStep into the world of Blind Willie Johnson\, a powerful original work by Kay Bell\, that brings to life the story of one of the most influential yet unsung blues and gospel musicians of all time. \nFrom the dusty streets of Texas to the echoes of his music reaching the farthest corners of the Earth\, this production traces Blind Willie Johnson’s journey—his struggles\, his faith\, and his unparalleled ability to turn pain into transcendent sound. Despite facing blindness\, poverty\, and injustice\, Johnson’s voice and slide guitar resonated with a raw\, spiritual intensity that continues to inspire musicians and audiences alike. \n  \n[Tickets: https://ci.ovationtix.com/35622/production/1235207?performanceId=11618745] \n[Editor’s Note: The Saturday performance (June 21st) will be performed in Marlin\, TX at the Palace Theatre. Visit wacocivictheatre.com for more details.]
URL:https://wacoactorsguild.org/stagelink/blind-willie-johnson/
LOCATION:Waco Civic Theatre\, 1517 Lake Air Drive\, Waco\, TX\, 76710\, United States
CATEGORIES:Waco Civic Theatre
ATTACH;FMTTYPE=image/webp:https://wacoactorsguild.org/wp-content/uploads/2025/06/2025-26-Marketing-Materials-34-scaled.webp
ORGANIZER;CN="Waco Civic Theatre":MAILTO:boxoffice@wacocivictheatre.org
END:VEVENT
BEGIN:VEVENT
DTSTART;TZID=America/Chicago:20250620T190000
DTEND;TZID=America/Chicago:20250620T213000
DTSTAMP:20260423T212809
CREATED:20250530T124955Z
LAST-MODIFIED:20250530T124955Z
UID:1925-1750446000-1750455000@wacoactorsguild.org
SUMMARY:Much Ado About Nothing
DESCRIPTION:Much Ado About Nothing – Performance\n\n\nThe primary plot of Much Ado About Nothing revolves around the courtship and scandal involving young Hero and her suitor\, Claudio\, but the witty war of words between Claudio’s friend Benedick and Hero’s cousin Beatrice often takes center stage. \nIn Silent House’s 80s rendition\, we’re in Naples\, Florida. Leonato\, a political player in Naples\, is hosting a party. The real juice of the plot begins as Don Pedro’s army returns after a victory. Benedick\, a gentleman soldier\, resumes a verbal duel with Beatrice\, the niece of the great Leonato. Count Claudio is smitten by Leonato’s daughter\, Hero. After Don Pedro woos her in disguise for Claudio\, the two young lovers plan to marry in a week. To fill in the time until the wedding\, Don Pedro and the others set about tricking Benedick and Beatrice into falling in love with each other. Meanwhile\, Don Pedro’s disgruntled brother\, Don John\, plots to ruin Hero and halt her wedding. Claudio believes Don John’s deception\, is convinced Hero has a lover\, and\, at the wedding\, brutally rejects her. \nWith Hero in hiding and falsely reported dead\, Beatrice persuades Benedick to fight Claudio. Tragedy is averted when the bumbling property guards\, having discovered Don John’s treachery\, arrives and clears Hero’s name. With Claudio forgiven\, both couples are ready to get married. \n[Tickets: https://www.tickettailor.com/events/silenthouse/1678468]
URL:https://wacoactorsguild.org/stagelink/much-ado-about-nothing-4/
LOCATION:Earle Harrison House & Pape Gardens\, 1901 N 5th Street\, Waco\, TX\, 76708\, United States
CATEGORIES:Silent House Theatre
ATTACH;FMTTYPE=image/webp:https://wacoactorsguild.org/wp-content/uploads/2025/05/fimxna9sdt83z4kmfdaj.webp
ORGANIZER;CN="Silent House Theatre Co.":MAILTO:silenthousetheatre@gmail.com
END:VEVENT
BEGIN:VEVENT
DTSTART;TZID=America/Chicago:20250620T193000
DTEND;TZID=America/Chicago:20250620T220000
DTSTAMP:20260423T212809
CREATED:20250615T124655Z
LAST-MODIFIED:20250615T124655Z
UID:1999-1750447800-1750456800@wacoactorsguild.org
SUMMARY:Blind Willie Johnson
DESCRIPTION:Blind Willie Johnson – Performance\nStep into the world of Blind Willie Johnson\, a powerful original work by Kay Bell\, that brings to life the story of one of the most influential yet unsung blues and gospel musicians of all time. \nFrom the dusty streets of Texas to the echoes of his music reaching the farthest corners of the Earth\, this production traces Blind Willie Johnson’s journey—his struggles\, his faith\, and his unparalleled ability to turn pain into transcendent sound. Despite facing blindness\, poverty\, and injustice\, Johnson’s voice and slide guitar resonated with a raw\, spiritual intensity that continues to inspire musicians and audiences alike. \n  \n[Tickets: https://ci.ovationtix.com/35622/production/1235207?performanceId=11618745] \n[Editor’s Note: The Saturday performance (June 21st) will be performed in Marlin\, TX at the Palace Theatre. Visit wacocivictheatre.com for more details.]
URL:https://wacoactorsguild.org/stagelink/blind-willie-johnson-2/
LOCATION:Waco Civic Theatre\, 1517 Lake Air Drive\, Waco\, TX\, 76710\, United States
CATEGORIES:Waco Civic Theatre
ATTACH;FMTTYPE=image/webp:https://wacoactorsguild.org/wp-content/uploads/2025/06/2025-26-Marketing-Materials-34-scaled.webp
ORGANIZER;CN="Waco Civic Theatre":MAILTO:boxoffice@wacocivictheatre.org
END:VEVENT
BEGIN:VEVENT
DTSTART;TZID=America/Chicago:20250621T123000
DTEND;TZID=America/Chicago:20250621T130000
DTSTAMP:20260423T212809
CREATED:20250621T134903Z
LAST-MODIFIED:20250621T134903Z
UID:2091-1750509000-1750510800@wacoactorsguild.org
SUMMARY:Callbacks: A Cappella - Make Music Day Concert
DESCRIPTION:Callbacks: A Cappella – Make Music Day Concert\nYou asked for it-the Callbacks are BACK! Come hear a shortened set on Saturday for Make Music Day. We’ll be at the AC Hotel from 12:30-1 pm @ 600 Mary Ave! Can’t wait to see you there!!!
URL:https://wacoactorsguild.org/stagelink/callbacks-a-cappella-make-music-day-concert/
LOCATION:AC Hotel\, 600 Mary Ave\, Waco\, TX\, United States
CATEGORIES:Other
ATTACH;FMTTYPE=image/webp:https://wacoactorsguild.org/wp-content/uploads/2025/06/509648541_17852516604468476_7364053807210536978_n.webp
END:VEVENT
BEGIN:VEVENT
DTSTART;TZID=America/Chicago:20250621T190000
DTEND;TZID=America/Chicago:20250621T213000
DTSTAMP:20260423T212809
CREATED:20250530T125045Z
LAST-MODIFIED:20250530T125045Z
UID:1927-1750532400-1750541400@wacoactorsguild.org
SUMMARY:Much Ado About Nothing
DESCRIPTION:Much Ado About Nothing – Performance\n\n\nThe primary plot of Much Ado About Nothing revolves around the courtship and scandal involving young Hero and her suitor\, Claudio\, but the witty war of words between Claudio’s friend Benedick and Hero’s cousin Beatrice often takes center stage. \nIn Silent House’s 80s rendition\, we’re in Naples\, Florida. Leonato\, a political player in Naples\, is hosting a party. The real juice of the plot begins as Don Pedro’s army returns after a victory. Benedick\, a gentleman soldier\, resumes a verbal duel with Beatrice\, the niece of the great Leonato. Count Claudio is smitten by Leonato’s daughter\, Hero. After Don Pedro woos her in disguise for Claudio\, the two young lovers plan to marry in a week. To fill in the time until the wedding\, Don Pedro and the others set about tricking Benedick and Beatrice into falling in love with each other. Meanwhile\, Don Pedro’s disgruntled brother\, Don John\, plots to ruin Hero and halt her wedding. Claudio believes Don John’s deception\, is convinced Hero has a lover\, and\, at the wedding\, brutally rejects her. \nWith Hero in hiding and falsely reported dead\, Beatrice persuades Benedick to fight Claudio. Tragedy is averted when the bumbling property guards\, having discovered Don John’s treachery\, arrives and clears Hero’s name. With Claudio forgiven\, both couples are ready to get married. \n[Tickets: https://www.tickettailor.com/events/silenthouse/1678468]
URL:https://wacoactorsguild.org/stagelink/much-ado-about-nothing-5/
LOCATION:Earle Harrison House & Pape Gardens\, 1901 N 5th Street\, Waco\, TX\, 76708\, United States
CATEGORIES:Silent House Theatre
ATTACH;FMTTYPE=image/webp:https://wacoactorsguild.org/wp-content/uploads/2025/05/fimxna9sdt83z4kmfdaj.webp
ORGANIZER;CN="Silent House Theatre Co.":MAILTO:silenthousetheatre@gmail.com
END:VEVENT
BEGIN:VEVENT
DTSTART;TZID=America/Chicago:20250621T200000
DTEND;TZID=America/Chicago:20250621T220000
DTSTAMP:20260423T212809
CREATED:20250530T131247Z
LAST-MODIFIED:20250530T131247Z
UID:1938-1750536000-1750543200@wacoactorsguild.org
SUMMARY:Comedy at the Brazos: A Stand-Up Comedy Showcase
DESCRIPTION:Comedy at the Brazos: A Stand-Up Comedy Showcase\nSaturday\, June 21\, 8:00 PM\nDoors open at 7:15 PM \nLaugh your way into summer with our next Stand-Up Comedy Showcase at Brazos Theatre! We’re serving up a fresh lineup of hilarious comedians ready to bring the house down with their best jokes\, wild stories\, and razor-sharp punchlines. \n[Tickets: https://brazostheatre.ludus.com/show_page.php?show_id=200486180]
URL:https://wacoactorsguild.org/stagelink/comedy-at-the-brazos-a-stand-up-comedy-showcase-3/
LOCATION:Brazos Theatre of Waco\, 7524 Bosque Blvd.\, Suite Q\, Waco\, TX\, 76712\, United States
CATEGORIES:Brazos Theatre
ATTACH;FMTTYPE=image/webp:https://wacoactorsguild.org/wp-content/uploads/2025/05/comedy-06-2025-sq_orig.webp
ORGANIZER;CN="Brazos Theatre of Waco":MAILTO:brazostheatre@gmail.com
END:VEVENT
BEGIN:VEVENT
DTSTART;TZID=America/Chicago:20250622T163000
DTEND;TZID=America/Chicago:20250622T190000
DTSTAMP:20260423T212809
CREATED:20250616T130509Z
LAST-MODIFIED:20250616T130509Z
UID:2002-1750609800-1750618800@wacoactorsguild.org
SUMMARY:Alice By Heart Auditions
DESCRIPTION:Alice By Heart – Auditions\nSomething curious and curious-er has happened in our little corner of Waco… Bonnie & Clyde has tumbled down the rabbit hole\, and in its place\, a new dream has taken root. \nSilent House Theatre Company Presents – Alice By Heart \nFollow us down the rabbit hole… if you dare. \nThe PACC\nJune 22nd | 4:30–7:00 PM\nCold reads + a Dance audition\nPRE-RECORDED songs (1+ min\, in the style of the show) must be submitted before auditions.\nAudition form in our bio. See you in Wonderland! \n[Signup: linktr.ee/silenthouse]
URL:https://wacoactorsguild.org/stagelink/alice-by-heart-auditions/
LOCATION:The PACC\, 924 Austin Ave Suit 150\, Waco\, TX\, 76701\, United States
CATEGORIES:Silent House Theatre
ATTACH;FMTTYPE=image/webp:https://wacoactorsguild.org/wp-content/uploads/2025/06/Alice-by-heart_audition_promo.webp
ORGANIZER;CN="Silent House Theatre Co.":MAILTO:silenthousetheatre@gmail.com
END:VEVENT
END:VCALENDAR