BEGIN:VCALENDAR
VERSION:2.0
PRODID:-//Waco Actors&#039; Guild - ECPv6.15.20//NONSGML v1.0//EN
CALSCALE:GREGORIAN
METHOD:PUBLISH
X-ORIGINAL-URL:https://wacoactorsguild.org
X-WR-CALDESC:Events for Waco Actors&#039; Guild
REFRESH-INTERVAL;VALUE=DURATION:PT1H
X-Robots-Tag:noindex
X-PUBLISHED-TTL:PT1H
BEGIN:VTIMEZONE
TZID:America/Chicago
BEGIN:DAYLIGHT
TZOFFSETFROM:-0600
TZOFFSETTO:-0500
TZNAME:CDT
DTSTART:20240310T080000
END:DAYLIGHT
BEGIN:STANDARD
TZOFFSETFROM:-0500
TZOFFSETTO:-0600
TZNAME:CST
DTSTART:20241103T070000
END:STANDARD
BEGIN:DAYLIGHT
TZOFFSETFROM:-0600
TZOFFSETTO:-0500
TZNAME:CDT
DTSTART:20250309T080000
END:DAYLIGHT
BEGIN:STANDARD
TZOFFSETFROM:-0500
TZOFFSETTO:-0600
TZNAME:CST
DTSTART:20251102T070000
END:STANDARD
BEGIN:DAYLIGHT
TZOFFSETFROM:-0600
TZOFFSETTO:-0500
TZNAME:CDT
DTSTART:20260308T080000
END:DAYLIGHT
BEGIN:STANDARD
TZOFFSETFROM:-0500
TZOFFSETTO:-0600
TZNAME:CST
DTSTART:20261101T070000
END:STANDARD
END:VTIMEZONE
BEGIN:VEVENT
DTSTART;TZID=America/Chicago:20250802T193000
DTEND;TZID=America/Chicago:20250802T220000
DTSTAMP:20260423T185009
CREATED:20250727T132749Z
LAST-MODIFIED:20250727T132749Z
UID:2444-1754163000-1754172000@wacoactorsguild.org
SUMMARY:Improv Comedy Show
DESCRIPTION:Improv Comedy Show – Performance\nSaturday\, August 2\, 7:30 PM\nDoors open at 6:45 \nNo scripts. No safety nets. Just lightning-fast performers creating hilarious scenes and characters on the spot\, all based on your suggestions. Every show is one-of-a-kind\, and you help shape the chaos! It’s the perfect night out for anyone who loves spontaneous laughter\, audience participation\, and a little bit of mayhem. Plus\, we give away door prizes! ​Bring your crew and your best ideas\, and get ready for a wildly fun night of improv at the Brazos. \n[Tickets: https://brazostheatre.ludus.com/index.php]
URL:https://wacoactorsguild.org/stagelink/improv-comedy-show-3/
LOCATION:Brazos Theatre of Waco\, 7524 Bosque Blvd.\, Suite Q\, Waco\, TX\, 76712\, United States
CATEGORIES:Brazos Theatre
ATTACH;FMTTYPE=image/png:https://wacoactorsguild.org/wp-content/uploads/2025/07/1753394304.png
ORGANIZER;CN="Brazos Theatre of Waco":MAILTO:brazostheatre@gmail.com
END:VEVENT
BEGIN:VEVENT
DTSTART;TZID=America/Chicago:20250807T190000
DTEND;TZID=America/Chicago:20250807T210000
DTSTAMP:20260423T185009
CREATED:20250721T201238Z
LAST-MODIFIED:20250721T201347Z
UID:2343-1754593200-1754600400@wacoactorsguild.org
SUMMARY:The Last Mediation of Christ
DESCRIPTION:The Last Mediation of Christ – Table Read Fundraiser\nAn evening of mischievous fun…It’s a Hell of a ride as the Devil shares her gripes\, Eve mediates\, and Jesus tries to love his enemies. A table read of award-winning “The Last Mediation of Christ” short dark comedy script August 7 at 7 p.m. at downtown Waco PACC.  Readers will be Bradyn Braziel (the Devil)\, Fiona Bond (Eve)\, Darius Ewing (Jesus)\, and Ethan Trueman (Narrator).  All proceeds benefit Silent House Theatre Co.\, who also will provide of sneak preview of their upcoming musical “Alice by Heart.”\nFor details/tickets:  www.TLMOC.com/sh.\n\n\n[Tickets: https://www.tickettailor.com/events/silenthouse/1761545]
URL:https://wacoactorsguild.org/stagelink/the-last-mediation-of-christ/
LOCATION:The PACC\, 924 Austin Ave Suit 150\, Waco\, TX\, 76701\, United States
CATEGORIES:Silent House Theatre
ATTACH;FMTTYPE=image/png:https://wacoactorsguild.org/wp-content/uploads/2025/07/TLMOC.20250711.no-click.silent-house-2-scaled.png
ORGANIZER;CN="Silent House Theatre Co.":MAILTO:silenthousetheatre@gmail.com
END:VEVENT
BEGIN:VEVENT
DTSTART;TZID=America/Chicago:20250807T193000
DTEND;TZID=America/Chicago:20250807T220000
DTSTAMP:20260423T185009
CREATED:20250724T162603Z
LAST-MODIFIED:20250724T162603Z
UID:2352-1754595000-1754604000@wacoactorsguild.org
SUMMARY:Summer Melodrama Along Came Joan or\, Savin' Sweet Stu's Bacon - Pay What You Can Preview Night
DESCRIPTION:Summer Melodrama Along Came Joan or\, Savin’ Sweet Stu’s Bacon – Performance\nby Rachel Velasco\nAugust 7-10 (times vary) \nGrab your boots and practice your booing! Oour summer melodrama is riding into town! Along Came Joan is a hilarious\, high-energy Wild West romp filled with dastardly villains\, heroic law-women\, clueless cowboys\, and more than a few  surprises (and goats). Don’t miss this rootin’-tootin’ tale of hijinks\, heart\, and heroism! \n[Tickets for Preview Night: https://brazostheatre.ludus.com/index.php?show_id=200490147]
URL:https://wacoactorsguild.org/stagelink/summer-melodrama-along-came-joan-or-savin-sweet-stus-bacon-pay-what-you-can-preview-night/
LOCATION:Brazos Theatre of Waco\, 7524 Bosque Blvd.\, Suite Q\, Waco\, TX\, 76712\, United States
CATEGORIES:Brazos Theatre
ATTACH;FMTTYPE=image/png:https://wacoactorsguild.org/wp-content/uploads/2025/07/1752246419-scaled.png
ORGANIZER;CN="Brazos Theatre of Waco":MAILTO:brazostheatre@gmail.com
END:VEVENT
BEGIN:VEVENT
DTSTART;TZID=America/Chicago:20250808T193000
DTEND;TZID=America/Chicago:20250808T220000
DTSTAMP:20260423T185009
CREATED:20250724T163159Z
LAST-MODIFIED:20250724T163159Z
UID:2355-1754681400-1754690400@wacoactorsguild.org
SUMMARY:Summer Melodrama Along Came Joan or\, Savin' Sweet Stu's Bacon
DESCRIPTION:Summer Melodrama Along Came Joan or\, Savin’ Sweet Stu’s Bacon – Performance\nby Rachel Velasco\nAugust 7-10 (times vary) \nGrab your boots and practice your booing! Oour summer melodrama is riding into town! Along Came Joan is a hilarious\, high-energy Wild West romp filled with dastardly villains\, heroic law-women\, clueless cowboys\, and more than a few  surprises (and goats). Don’t miss this rootin’-tootin’ tale of hijinks\, heart\, and heroism! \n[Tickets: https://brazostheatre.ludus.com/index.php?show_id=200490141]
URL:https://wacoactorsguild.org/stagelink/summer-melodrama-along-came-joan-or-savin-sweet-stus-bacon/
LOCATION:Brazos Theatre of Waco\, 7524 Bosque Blvd.\, Suite Q\, Waco\, TX\, 76712\, United States
CATEGORIES:Brazos Theatre
ATTACH;FMTTYPE=image/png:https://wacoactorsguild.org/wp-content/uploads/2025/07/1752240621-scaled.png
ORGANIZER;CN="Brazos Theatre of Waco":MAILTO:brazostheatre@gmail.com
END:VEVENT
BEGIN:VEVENT
DTSTART;TZID=America/Chicago:20250809T193000
DTEND;TZID=America/Chicago:20250809T220000
DTSTAMP:20260423T185009
CREATED:20250724T163317Z
LAST-MODIFIED:20250724T163317Z
UID:2358-1754767800-1754776800@wacoactorsguild.org
SUMMARY:Summer Melodrama Along Came Joan or\, Savin' Sweet Stu's Bacon
DESCRIPTION:Summer Melodrama Along Came Joan or\, Savin’ Sweet Stu’s Bacon – Performance\nby Rachel Velasco\nAugust 7-10 (times vary) \nGrab your boots and practice your booing! Oour summer melodrama is riding into town! Along Came Joan is a hilarious\, high-energy Wild West romp filled with dastardly villains\, heroic law-women\, clueless cowboys\, and more than a few  surprises (and goats). Don’t miss this rootin’-tootin’ tale of hijinks\, heart\, and heroism! \n[Tickets: https://brazostheatre.ludus.com/index.php?show_id=200490141]
URL:https://wacoactorsguild.org/stagelink/summer-melodrama-along-came-joan-or-savin-sweet-stus-bacon-2/
LOCATION:Brazos Theatre of Waco\, 7524 Bosque Blvd.\, Suite Q\, Waco\, TX\, 76712\, United States
CATEGORIES:Brazos Theatre
ATTACH;FMTTYPE=image/png:https://wacoactorsguild.org/wp-content/uploads/2025/07/1752240621-scaled.png
ORGANIZER;CN="Brazos Theatre of Waco":MAILTO:brazostheatre@gmail.com
END:VEVENT
BEGIN:VEVENT
DTSTART;TZID=America/Chicago:20250810T143000
DTEND;TZID=America/Chicago:20250810T170000
DTSTAMP:20260423T185009
CREATED:20250724T163514Z
LAST-MODIFIED:20250724T163514Z
UID:2360-1754836200-1754845200@wacoactorsguild.org
SUMMARY:Summer Melodrama Along Came Joan or\, Savin’ Sweet Stu’s Bacon
DESCRIPTION:Summer Melodrama Along Came Joan or\, Savin’ Sweet Stu’s Bacon – Performance\nby Rachel Velasco\nAugust 7-10 (times vary) \nGrab your boots and practice your booing! Oour summer melodrama is riding into town! Along Came Joan is a hilarious\, high-energy Wild West romp filled with dastardly villains\, heroic law-women\, clueless cowboys\, and more than a few  surprises (and goats). Don’t miss this rootin’-tootin’ tale of hijinks\, heart\, and heroism! \n[Tickets: https://brazostheatre.ludus.com/index.php?show_id=200490141]
URL:https://wacoactorsguild.org/stagelink/summer-melodrama-along-came-joan-or-savin-sweet-stus-bacon-3/
LOCATION:Brazos Theatre of Waco\, 7524 Bosque Blvd.\, Suite Q\, Waco\, TX\, 76712\, United States
CATEGORIES:Brazos Theatre
ATTACH;FMTTYPE=image/png:https://wacoactorsguild.org/wp-content/uploads/2025/07/1752240621-scaled.png
ORGANIZER;CN="Brazos Theatre of Waco":MAILTO:brazostheatre@gmail.com
END:VEVENT
BEGIN:VEVENT
DTSTART;TZID=America/Chicago:20250815T193000
DTEND;TZID=America/Chicago:20250815T210000
DTSTAMP:20260423T185009
CREATED:20250724T164441Z
LAST-MODIFIED:20250724T164441Z
UID:2365-1755286200-1755291600@wacoactorsguild.org
SUMMARY:Backwards Broadway
DESCRIPTION:Backwards Broadway – Performance\nPerformance Locations: \nAugust 15th 7:30pm-Brazos Theatre \nAugust 16th 7:30pm-Waco Civic Theatre \nAugust 17th 2:30pm- Waco Civic Theatre \nOne night. All the roles they were never supposed to play. \nJoin us for Backwards Broadway\, a cabaret where the usual rules of casting are tossed out the stage door. For one night only\, your favorite local performers are stepping into roles they were never meant to play—and doing it with style\, heart\, and a whole lot of humor. \nIn this topsy-turvy musical theatre showcase\, nothing is off-limits. Age\, gender\, type\, vocal range? Irrelevant. These performers are here to shake up expectations\, turn iconic songs on their heads\, and bring down the house in the most unexpected ways. \nExpect powerhouse vocals\, laugh-out-loud surprises\, and maybe even a few goosebumps. Whether you’re a diehard theatre fan or just love a good night of bold\, creative fun\, Backwards Broadway is an absolute must-see. \nIt’s unfiltered\, untraditional\, and unapologetically fun. One night only—don’t miss it. \n\n[Tickets: https://ci.ovationtix.com/35622/production/1246250]
URL:https://wacoactorsguild.org/stagelink/backwards-broadway/
LOCATION:Brazos Theatre of Waco\, 7524 Bosque Blvd.\, Suite Q\, Waco\, TX\, 76712\, United States
CATEGORIES:Brazos Theatre,Waco Civic Theatre
ATTACH;FMTTYPE=image/jpeg:https://wacoactorsguild.org/wp-content/uploads/2025/07/Backwards-Broadway.jpeg
ORGANIZER;CN="Waco Civic Theatre":MAILTO:boxoffice@wacocivictheatre.org
END:VEVENT
BEGIN:VEVENT
DTSTART;TZID=America/Chicago:20250816T193000
DTEND;TZID=America/Chicago:20250816T210000
DTSTAMP:20260423T185009
CREATED:20250724T164616Z
LAST-MODIFIED:20250724T164616Z
UID:2368-1755372600-1755378000@wacoactorsguild.org
SUMMARY:Backwards Broadway
DESCRIPTION:Backwards Broadway – Performance\nPerformance Locations: \nAugust 15th 7:30pm-Brazos Theatre \nAugust 16th 7:30pm-Waco Civic Theatre \nAugust 17th 2:30pm- Waco Civic Theatre \nOne night. All the roles they were never supposed to play. \nJoin us for Backwards Broadway\, a cabaret where the usual rules of casting are tossed out the stage door. For one night only\, your favorite local performers are stepping into roles they were never meant to play—and doing it with style\, heart\, and a whole lot of humor. \nIn this topsy-turvy musical theatre showcase\, nothing is off-limits. Age\, gender\, type\, vocal range? Irrelevant. These performers are here to shake up expectations\, turn iconic songs on their heads\, and bring down the house in the most unexpected ways. \nExpect powerhouse vocals\, laugh-out-loud surprises\, and maybe even a few goosebumps. Whether you’re a diehard theatre fan or just love a good night of bold\, creative fun\, Backwards Broadway is an absolute must-see. \nIt’s unfiltered\, untraditional\, and unapologetically fun. One night only—don’t miss it. \n[Tickets: https://ci.ovationtix.com/35622/production/1246250]
URL:https://wacoactorsguild.org/stagelink/backwards-broadway-2/
LOCATION:Waco Civic Theatre\, 1517 Lake Air Drive\, Waco\, TX\, 76710\, United States
CATEGORIES:Brazos Theatre,Waco Civic Theatre
ATTACH;FMTTYPE=image/jpeg:https://wacoactorsguild.org/wp-content/uploads/2025/07/Backwards-Broadway.jpeg
ORGANIZER;CN="Waco Civic Theatre":MAILTO:boxoffice@wacocivictheatre.org
END:VEVENT
BEGIN:VEVENT
DTSTART;TZID=America/Chicago:20250816T200000
DTEND;TZID=America/Chicago:20250816T220000
DTSTAMP:20260423T185009
CREATED:20250803T132415Z
LAST-MODIFIED:20250803T132415Z
UID:2463-1755374400-1755381600@wacoactorsguild.org
SUMMARY:Comedy at the Brazos: A Stand Up Comedy Showcase
DESCRIPTION:Comedy at the Brazos: A Stand Up Comedy Showcase – Performance\nSaturday\, August 16\, 8:00\nDoors open at 7:15 \nEvery month\, we showcase a brand-new lineup of hilarious comedians\, from rising stars from across the state (and sometimes even beyond!). You’ll see a three-act format featuring a sharp host\, a killer feature\, and a headliner guaranteed to leave you in stitches. They may not be household names yet\, but these comics are the real deal\, working stages across the country and bringing their best to the Brazos stage. \n[Tickets: https://brazostheatre.ludus.com/index.php?show_id=200491242]
URL:https://wacoactorsguild.org/stagelink/comedy-at-the-brazos-a-stand-up-comedy-showcase-5/
LOCATION:Brazos Theatre of Waco\, 7524 Bosque Blvd.\, Suite Q\, Waco\, TX\, 76712\, United States
CATEGORIES:Brazos Theatre
ATTACH;FMTTYPE=image/png:https://wacoactorsguild.org/wp-content/uploads/2025/08/1753387956.png
ORGANIZER;CN="Brazos Theatre of Waco":MAILTO:brazostheatre@gmail.com
END:VEVENT
BEGIN:VEVENT
DTSTART;TZID=America/Chicago:20250817T143000
DTEND;TZID=America/Chicago:20250817T160000
DTSTAMP:20260423T185009
CREATED:20250724T164720Z
LAST-MODIFIED:20250724T164720Z
UID:2370-1755441000-1755446400@wacoactorsguild.org
SUMMARY:Backwards Broadway
DESCRIPTION:Backwards Broadway – Performance\nPerformance Locations: \nAugust 15th 7:30pm-Brazos Theatre \nAugust 16th 7:30pm-Waco Civic Theatre \nAugust 17th 2:30pm- Waco Civic Theatre \nOne night. All the roles they were never supposed to play. \nJoin us for Backwards Broadway\, a cabaret where the usual rules of casting are tossed out the stage door. For one night only\, your favorite local performers are stepping into roles they were never meant to play—and doing it with style\, heart\, and a whole lot of humor. \nIn this topsy-turvy musical theatre showcase\, nothing is off-limits. Age\, gender\, type\, vocal range? Irrelevant. These performers are here to shake up expectations\, turn iconic songs on their heads\, and bring down the house in the most unexpected ways. \nExpect powerhouse vocals\, laugh-out-loud surprises\, and maybe even a few goosebumps. Whether you’re a diehard theatre fan or just love a good night of bold\, creative fun\, Backwards Broadway is an absolute must-see. \nIt’s unfiltered\, untraditional\, and unapologetically fun. One night only—don’t miss it. \n[Tickets: https://ci.ovationtix.com/35622/production/1246250]
URL:https://wacoactorsguild.org/stagelink/backwards-broadway-3/
LOCATION:Waco Civic Theatre\, 1517 Lake Air Drive\, Waco\, TX\, 76710\, United States
CATEGORIES:Brazos Theatre,Waco Civic Theatre
ATTACH;FMTTYPE=image/jpeg:https://wacoactorsguild.org/wp-content/uploads/2025/07/Backwards-Broadway.jpeg
ORGANIZER;CN="Waco Civic Theatre":MAILTO:boxoffice@wacocivictheatre.org
END:VEVENT
BEGIN:VEVENT
DTSTART;TZID=America/Chicago:20250822T193000
DTEND;TZID=America/Chicago:20250822T213000
DTSTAMP:20260423T185009
CREATED:20250804T200509Z
LAST-MODIFIED:20250804T200509Z
UID:2468-1755891000-1755898200@wacoactorsguild.org
SUMMARY:Alice By Heart
DESCRIPTION:Alice By Heart – Performance\nIn the rubble of the London Blitz of World War II\, Alice Spencer’s budding teen life is turned upside down\, and she and her dear friend Alfred are forced to take shelter in an underground tube station. When the ailing Alfred is quarantined\, Alice encourages him to escape with her into their cherished book and journey down the rabbit hole to Wonderland. As they travel through the tale\, Alice By Heart explores the poignancy of first love\, coming to terms with loss\, and finding the courage to move forward. \n[Tickets: https://www.tickettailor.com/events/silenthouse] 
URL:https://wacoactorsguild.org/stagelink/alice-by-heart/
LOCATION:The PACC\, 924 Austin Ave Suit 150\, Waco\, TX\, 76701\, United States
CATEGORIES:Silent House Theatre
ATTACH;FMTTYPE=image/png:https://wacoactorsguild.org/wp-content/uploads/2025/08/qvysnr3iyuvggaiphfft.png
ORGANIZER;CN="Silent House Theatre Co.":MAILTO:silenthousetheatre@gmail.com
END:VEVENT
BEGIN:VEVENT
DTSTART;TZID=America/Chicago:20250823T193000
DTEND;TZID=America/Chicago:20250823T213000
DTSTAMP:20260423T185009
CREATED:20250804T200809Z
LAST-MODIFIED:20250804T200809Z
UID:2471-1755977400-1755984600@wacoactorsguild.org
SUMMARY:Alice By Heart
DESCRIPTION:Alice By Heart – Performance\nIn the rubble of the London Blitz of World War II\, Alice Spencer’s budding teen life is turned upside down\, and she and her dear friend Alfred are forced to take shelter in an underground tube station. When the ailing Alfred is quarantined\, Alice encourages him to escape with her into their cherished book and journey down the rabbit hole to Wonderland. As they travel through the tale\, Alice By Heart explores the poignancy of first love\, coming to terms with loss\, and finding the courage to move forward. \n[Tickets: https://www.tickettailor.com/events/silenthouse] 
URL:https://wacoactorsguild.org/stagelink/alice-by-heart-2/
LOCATION:The PACC\, 924 Austin Ave Suit 150\, Waco\, TX\, 76701\, United States
CATEGORIES:Silent House Theatre
ATTACH;FMTTYPE=image/png:https://wacoactorsguild.org/wp-content/uploads/2025/08/qvysnr3iyuvggaiphfft.png
ORGANIZER;CN="Silent House Theatre Co.":MAILTO:silenthousetheatre@gmail.com
END:VEVENT
BEGIN:VEVENT
DTSTART;TZID=America/Chicago:20250823T193000
DTEND;TZID=America/Chicago:20250823T220000
DTSTAMP:20260423T185009
CREATED:20250724T163821Z
LAST-MODIFIED:20250724T163821Z
UID:2362-1755977400-1755986400@wacoactorsguild.org
SUMMARY:A Night with the King
DESCRIPTION:A Night with the King – Performance\nSaturday\, August 23\, 7:30 PM\nDoors open at 6:45 \nDavid Allen and Hunter Cole return to the Brazos Theatre stage for an unforgettable evening celebrating the music\, style\, and legacy of Elvis Presley! These two powerhouse performers bring their own flair to the King’s greatest hits—capturing the energy\, charisma\, and heart that made Elvis a legend. And hurry! Last time\, VIP tickets disappeared in a flash—don’t miss your chance to experience this high-octane tribute up close and personal.\nGrab your tickets now and get ready for a night of rock ‘n’ roll royalty! \n[Tickets: https://brazostheatre.ludus.com/index.php?show_id=200490768]
URL:https://wacoactorsguild.org/stagelink/a-night-with-the-king-2/
LOCATION:Brazos Theatre of Waco\, 7524 Bosque Blvd.\, Suite Q\, Waco\, TX\, 76712\, United States
CATEGORIES:Brazos Theatre
ATTACH;FMTTYPE=image/png:https://wacoactorsguild.org/wp-content/uploads/2025/07/1752869175.png
ORGANIZER;CN="Brazos Theatre of Waco":MAILTO:brazostheatre@gmail.com
END:VEVENT
BEGIN:VEVENT
DTSTART;TZID=America/Chicago:20250824T143000
DTEND;TZID=America/Chicago:20250824T163000
DTSTAMP:20260423T185009
CREATED:20250804T200933Z
LAST-MODIFIED:20250804T200933Z
UID:2473-1756045800-1756053000@wacoactorsguild.org
SUMMARY:Alice By Heart
DESCRIPTION:Alice By Heart – Performance\nIn the rubble of the London Blitz of World War II\, Alice Spencer’s budding teen life is turned upside down\, and she and her dear friend Alfred are forced to take shelter in an underground tube station. When the ailing Alfred is quarantined\, Alice encourages him to escape with her into their cherished book and journey down the rabbit hole to Wonderland. As they travel through the tale\, Alice By Heart explores the poignancy of first love\, coming to terms with loss\, and finding the courage to move forward. \n[Tickets: https://www.tickettailor.com/events/silenthouse] 
URL:https://wacoactorsguild.org/stagelink/alice-by-heart-3/
LOCATION:The PACC\, 924 Austin Ave Suit 150\, Waco\, TX\, 76701\, United States
CATEGORIES:Silent House Theatre
ATTACH;FMTTYPE=image/png:https://wacoactorsguild.org/wp-content/uploads/2025/08/qvysnr3iyuvggaiphfft.png
ORGANIZER;CN="Silent House Theatre Co.":MAILTO:silenthousetheatre@gmail.com
END:VEVENT
BEGIN:VEVENT
DTSTART;TZID=America/Chicago:20250824T183000
DTEND;TZID=America/Chicago:20250824T200000
DTSTAMP:20260423T185009
CREATED:20250821T134804Z
LAST-MODIFIED:20250821T134804Z
UID:2668-1756060200-1756065600@wacoactorsguild.org
SUMMARY:Woman in Black - Auditions
DESCRIPTION:Woman in Black – Auditions\nDare to audition for one of the most chilling and celebrated plays ever staged. The Woman in Black terrified audiences for over 30 years in London’s West End—second only to The Mousetrap. With just two actors and a minimalist set\, it delivers a masterclass in theatrical storytelling\, mood\, and suspense. One actor takes on a dozen distinct roles\, while the other slowly unravels a ghost story so gripping\, it leaves audiences breathless. No gimmicks. Just lightning-fast character work\, powerful atmosphere\, and a chance to show what theatre can do when it leans into the dark. \nCHARACTERS: \nKipps \nLet’s put it this way: Arthur isn’t about to be starring in a hit show about talking to people’s dead relatives. He’s as pragmatic\, rational\, and—we’ll say it—boring as they come. At first\, when he sees the woman in black\, he goes for the most rational explanation: she’s just some poor woman who has a terrible disease and has showed up at Mrs. Drablow’s funeral to pay her respects. \nWoman in Black \nThe woman in black (a.k.a. Jennet Humfrye) is not some friendly Caspar-type ghost. She’s not even your typical ghost who wanders through a big old house\, weeping and trying to find its way to a better place. Nope. This ghost is angry and filled with vengeance and will not let anyone stand in her way. \nActor \nOptional addition \n  \nAuditions will be by cold read only!\nNo monologues will be needed at this audition.\nSides will be provided at auditions. \nAges 18 and above\, all backgrounds welcome! \nFor Questions\, please send them to boxoffice@wacocivictheatre.com \n  \n[Audition Signup: https://www.signupgenius.com/go/10C094BA4A629A5FDC61-57809046-woman#/]
URL:https://wacoactorsguild.org/stagelink/woman-in-black-auditions/
LOCATION:Waco Civic Theatre\, 1517 Lake Air Drive\, Waco\, TX\, 76710\, United States
CATEGORIES:Waco Civic Theatre
ATTACH;FMTTYPE=image/png:https://wacoactorsguild.org/wp-content/uploads/2025/08/0ACBE9028192D4A95DD174D50FF7A854_146892701.png
ORGANIZER;CN="Waco Civic Theatre":MAILTO:boxoffice@wacocivictheatre.org
END:VEVENT
BEGIN:VEVENT
DTSTART;TZID=America/Chicago:20250826T180000
DTEND;TZID=America/Chicago:20250826T210000
DTSTAMP:20260423T185009
CREATED:20250821T135157Z
LAST-MODIFIED:20250821T135157Z
UID:2671-1756231200-1756242000@wacoactorsguild.org
SUMMARY:Epiphanies New Works Festival Casting Call
DESCRIPTION:Epiphanies New Works Festival Casting Call\nHey y’all we just wanted to clarify the date and encourage you to come on out for our upcoming casting call for our various Epiphanies 2025 projects. \nWe’re currently casting for FIVE different projects! Join us for auditions on August 26th by signing up using the link in our bio! \n\n[Audition Signup: https://www.signupgenius.com/go/10C0B45A4AC22A1FFC07-57922624-auditions]
URL:https://wacoactorsguild.org/stagelink/epiphanies-new-works-festival-casting-call/
LOCATION:The PACC\, 924 Austin Ave Suit 150\, Waco\, TX\, 76701\, United States
CATEGORIES:Wild Imaginings
ATTACH;FMTTYPE=image/jpeg:https://wacoactorsguild.org/wp-content/uploads/2025/08/535914068_18079300483937679_7805447850509509719_n.jpg
ORGANIZER;CN="Wild Imaginings":MAILTO:info@wildimaginingswaco.com
END:VEVENT
BEGIN:VEVENT
DTSTART;TZID=America/Chicago:20250829T193000
DTEND;TZID=America/Chicago:20250829T213000
DTSTAMP:20260423T185009
CREATED:20250804T201038Z
LAST-MODIFIED:20250804T201038Z
UID:2475-1756495800-1756503000@wacoactorsguild.org
SUMMARY:Alice By Heart
DESCRIPTION:Alice By Heart – Performance\nIn the rubble of the London Blitz of World War II\, Alice Spencer’s budding teen life is turned upside down\, and she and her dear friend Alfred are forced to take shelter in an underground tube station. When the ailing Alfred is quarantined\, Alice encourages him to escape with her into their cherished book and journey down the rabbit hole to Wonderland. As they travel through the tale\, Alice By Heart explores the poignancy of first love\, coming to terms with loss\, and finding the courage to move forward. \n[Tickets: https://www.tickettailor.com/events/silenthouse] 
URL:https://wacoactorsguild.org/stagelink/alice-by-heart-4/
LOCATION:The PACC\, 924 Austin Ave Suit 150\, Waco\, TX\, 76701\, United States
CATEGORIES:Silent House Theatre
ATTACH;FMTTYPE=image/png:https://wacoactorsguild.org/wp-content/uploads/2025/08/qvysnr3iyuvggaiphfft.png
ORGANIZER;CN="Silent House Theatre Co.":MAILTO:silenthousetheatre@gmail.com
END:VEVENT
BEGIN:VEVENT
DTSTART;TZID=America/Chicago:20250830T193000
DTEND;TZID=America/Chicago:20250830T213000
DTSTAMP:20260423T185009
CREATED:20250804T201202Z
LAST-MODIFIED:20250804T201202Z
UID:2477-1756582200-1756589400@wacoactorsguild.org
SUMMARY:Alice By Heart
DESCRIPTION:Alice By Heart – Performance\nIn the rubble of the London Blitz of World War II\, Alice Spencer’s budding teen life is turned upside down\, and she and her dear friend Alfred are forced to take shelter in an underground tube station. When the ailing Alfred is quarantined\, Alice encourages him to escape with her into their cherished book and journey down the rabbit hole to Wonderland. As they travel through the tale\, Alice By Heart explores the poignancy of first love\, coming to terms with loss\, and finding the courage to move forward. \n[Tickets: https://www.tickettailor.com/events/silenthouse] 
URL:https://wacoactorsguild.org/stagelink/alice-by-heart-5/
LOCATION:The PACC\, 924 Austin Ave Suit 150\, Waco\, TX\, 76701\, United States
CATEGORIES:Silent House Theatre
ATTACH;FMTTYPE=image/png:https://wacoactorsguild.org/wp-content/uploads/2025/08/qvysnr3iyuvggaiphfft.png
ORGANIZER;CN="Silent House Theatre Co.":MAILTO:silenthousetheatre@gmail.com
END:VEVENT
BEGIN:VEVENT
DTSTART;TZID=America/Chicago:20250831T143000
DTEND;TZID=America/Chicago:20250831T163000
DTSTAMP:20260423T185009
CREATED:20250804T201309Z
LAST-MODIFIED:20250804T201309Z
UID:2479-1756650600-1756657800@wacoactorsguild.org
SUMMARY:Alice By Heart
DESCRIPTION:Alice By Heart – Performance\nIn the rubble of the London Blitz of World War II\, Alice Spencer’s budding teen life is turned upside down\, and she and her dear friend Alfred are forced to take shelter in an underground tube station. When the ailing Alfred is quarantined\, Alice encourages him to escape with her into their cherished book and journey down the rabbit hole to Wonderland. As they travel through the tale\, Alice By Heart explores the poignancy of first love\, coming to terms with loss\, and finding the courage to move forward. \n[Tickets: https://www.tickettailor.com/events/silenthouse] 
URL:https://wacoactorsguild.org/stagelink/alice-by-heart-6/
LOCATION:The PACC\, 924 Austin Ave Suit 150\, Waco\, TX\, 76701\, United States
CATEGORIES:Silent House Theatre
ATTACH;FMTTYPE=image/png:https://wacoactorsguild.org/wp-content/uploads/2025/08/qvysnr3iyuvggaiphfft.png
ORGANIZER;CN="Silent House Theatre Co.":MAILTO:silenthousetheatre@gmail.com
END:VEVENT
END:VCALENDAR