BEGIN:VCALENDAR
VERSION:2.0
PRODID:-//Waco Actors&#039; Guild - ECPv6.15.20//NONSGML v1.0//EN
CALSCALE:GREGORIAN
METHOD:PUBLISH
X-WR-CALNAME:Waco Actors&#039; Guild
X-ORIGINAL-URL:https://wacoactorsguild.org
X-WR-CALDESC:Events for Waco Actors&#039; Guild
REFRESH-INTERVAL;VALUE=DURATION:PT1H
X-Robots-Tag:noindex
X-PUBLISHED-TTL:PT1H
BEGIN:VTIMEZONE
TZID:America/Chicago
BEGIN:DAYLIGHT
TZOFFSETFROM:-0600
TZOFFSETTO:-0500
TZNAME:CDT
DTSTART:20240310T080000
END:DAYLIGHT
BEGIN:STANDARD
TZOFFSETFROM:-0500
TZOFFSETTO:-0600
TZNAME:CST
DTSTART:20241103T070000
END:STANDARD
BEGIN:DAYLIGHT
TZOFFSETFROM:-0600
TZOFFSETTO:-0500
TZNAME:CDT
DTSTART:20250309T080000
END:DAYLIGHT
BEGIN:STANDARD
TZOFFSETFROM:-0500
TZOFFSETTO:-0600
TZNAME:CST
DTSTART:20251102T070000
END:STANDARD
BEGIN:DAYLIGHT
TZOFFSETFROM:-0600
TZOFFSETTO:-0500
TZNAME:CDT
DTSTART:20260308T080000
END:DAYLIGHT
BEGIN:STANDARD
TZOFFSETFROM:-0500
TZOFFSETTO:-0600
TZNAME:CST
DTSTART:20261101T070000
END:STANDARD
END:VTIMEZONE
BEGIN:VEVENT
DTSTART;TZID=America/Chicago:20250913T140000
DTEND;TZID=America/Chicago:20250913T170000
DTSTAMP:20260424T015500
CREATED:20250909T122856Z
LAST-MODIFIED:20250909T123429Z
UID:2739-1757772000-1757782800@wacoactorsguild.org
SUMMARY:House of Frankenstein Auditions
DESCRIPTION:AUDITION ALERT: House of Frankenstein\nJoin us Saturday\, September 13\, at 2:00 PM at the Jubilee Theatre to audition for a brand new play\, House of Frankenstein! \nNo need to prepare anything before auditons besides SIGNING UP! Link is in bio 🪦 \n[Signup: https://docs.google.com/forms/d/e/1FAIpQLSfEaOoyWZRI9r9rr_VbQTsJ_YVlD87yU1VKMdX-scFnuHAyRA/viewform]
URL:https://wacoactorsguild.org/stagelink/house-of-frankenstein-auditions/
LOCATION:Jubilee Theatre\, 1315 N 15th St\, Waco\, TX\, United States
CATEGORIES:Silent House Theatre
ATTACH;FMTTYPE=image/jpeg:https://wacoactorsguild.org/wp-content/uploads/2025/09/542753191_18062763809581685_2249759219680249504_n.jpg
ORGANIZER;CN="Silent House Theatre Co.":MAILTO:silenthousetheatre@gmail.com
END:VEVENT
END:VCALENDAR