BEGIN:VCALENDAR
VERSION:2.0
PRODID:-//Waco Actors&#039; Guild - ECPv6.15.20//NONSGML v1.0//EN
CALSCALE:GREGORIAN
METHOD:PUBLISH
X-WR-CALNAME:Waco Actors&#039; Guild
X-ORIGINAL-URL:https://wacoactorsguild.org
X-WR-CALDESC:Events for Waco Actors&#039; Guild
REFRESH-INTERVAL;VALUE=DURATION:PT1H
X-Robots-Tag:noindex
X-PUBLISHED-TTL:PT1H
BEGIN:VTIMEZONE
TZID:America/Chicago
BEGIN:DAYLIGHT
TZOFFSETFROM:-0600
TZOFFSETTO:-0500
TZNAME:CDT
DTSTART:20240310T080000
END:DAYLIGHT
BEGIN:STANDARD
TZOFFSETFROM:-0500
TZOFFSETTO:-0600
TZNAME:CST
DTSTART:20241103T070000
END:STANDARD
BEGIN:DAYLIGHT
TZOFFSETFROM:-0600
TZOFFSETTO:-0500
TZNAME:CDT
DTSTART:20250309T080000
END:DAYLIGHT
BEGIN:STANDARD
TZOFFSETFROM:-0500
TZOFFSETTO:-0600
TZNAME:CST
DTSTART:20251102T070000
END:STANDARD
BEGIN:DAYLIGHT
TZOFFSETFROM:-0600
TZOFFSETTO:-0500
TZNAME:CDT
DTSTART:20260308T080000
END:DAYLIGHT
BEGIN:STANDARD
TZOFFSETFROM:-0500
TZOFFSETTO:-0600
TZNAME:CST
DTSTART:20261101T070000
END:STANDARD
END:VTIMEZONE
BEGIN:VEVENT
DTSTART;TZID=America/Chicago:20251004T193000
DTEND;TZID=America/Chicago:20251004T220000
DTSTAMP:20260423T190646
CREATED:20250928T124951Z
LAST-MODIFIED:20250928T125038Z
UID:2764-1759606200-1759615200@wacoactorsguild.org
SUMMARY:Improv Comedy Show
DESCRIPTION:Improv Comedy Show – Performance\nSaturday\, October 4\, 7:30 PM\nDoors open at 6:45 \nOur quick-witted improv troupe takes the Brazos stage on Saturday\, October 4\, spinning your suggestions into wild stories\, outrageous characters\, and laugh-out-loud moments—all completely made up on the spot. No script\, no plan\, no two shows ever the same. Just pure\, unpredictable comedy that only happens once… and only happens here! \n[Tickets: https://brazostheatre.ludus.com/index.php?show_id=200496320]
URL:https://wacoactorsguild.org/stagelink/improv-comedy-show-4/
LOCATION:Brazos Theatre of Waco\, 7524 Bosque Blvd.\, Suite Q\, Waco\, TX\, 76712\, United States
CATEGORIES:Brazos Theatre
ATTACH;FMTTYPE=image/png:https://wacoactorsguild.org/wp-content/uploads/2025/09/improv-comedy-10.4.png
ORGANIZER;CN="Brazos Theatre of Waco":MAILTO:brazostheatre@gmail.com
END:VEVENT
BEGIN:VEVENT
DTSTART;TZID=America/Chicago:20251011T200000
DTEND;TZID=America/Chicago:20251011T220000
DTSTAMP:20260423T190646
CREATED:20251005T133623Z
LAST-MODIFIED:20251005T133623Z
UID:2839-1760212800-1760220000@wacoactorsguild.org
SUMMARY:Claws Out Comedy & Drag Show
DESCRIPTION:Claws Out Comedy & Drag Show\nSaturday\, October 11\, 8:00 PM\nDoors open at 7:15 \nStand Up Comedy? Yes. Drag? YASSS.\nBy popular demand\, the cattiest comedy show is coming back to Waco this October! Don’t miss out\, get your paws on tickets today! It’s fierce\, it’s funny\, and it’s serving up laughs and looks all night long. \n[Tickets: https://brazostheatre.ludus.com/index.php?show_id=200495383]
URL:https://wacoactorsguild.org/stagelink/claws-out-comedy-drag-show-2/
LOCATION:Brazos Theatre of Waco\, 7524 Bosque Blvd.\, Suite Q\, Waco\, TX\, 76712\, United States
CATEGORIES:Brazos Theatre
ATTACH;FMTTYPE=image/png:https://wacoactorsguild.org/wp-content/uploads/2025/10/claws-out-oct-sq_orig.png
ORGANIZER;CN="Brazos Theatre of Waco":MAILTO:brazostheatre@gmail.com
END:VEVENT
BEGIN:VEVENT
DTSTART;TZID=America/Chicago:20251018T200000
DTEND;TZID=America/Chicago:20251018T220000
DTSTAMP:20260423T190646
CREATED:20251011T132358Z
LAST-MODIFIED:20251011T132358Z
UID:2846-1760817600-1760824800@wacoactorsguild.org
SUMMARY:Comedy at the Brazos: A Stand Up Comedy Showcase
DESCRIPTION:Comedy at the Brazos: A Stand Up Comedy Showcase\nSaturday\, October 18\, 8:00 PM\nDoors open at 7:15 \nWe’re bringing you a fresh lineup of hilarious comedians from across Texas\, each with their own brand of wit\, charm\, and ridiculous stories. From sharp observational humor to laugh-so-hard-you-snort punchlines\, this night has it all. Grab your friends and settle in for a night of nonstop laughter. Seats go fast\, so snag yours early! \n[Tickets: https://brazostheatre.ludus.com/index.php?show_id=200502864]
URL:https://wacoactorsguild.org/stagelink/comedy-at-the-brazos-a-stand-up-comedy-showcase-7/
LOCATION:Brazos Theatre of Waco\, 7524 Bosque Blvd.\, Suite Q\, Waco\, TX\, 76712\, United States
CATEGORIES:Brazos Theatre
ATTACH;FMTTYPE=image/png:https://wacoactorsguild.org/wp-content/uploads/2025/10/comedy-10-2025-sq_orig.png
ORGANIZER;CN="Brazos Theatre of Waco":MAILTO:brazostheatre@gmail.com
END:VEVENT
BEGIN:VEVENT
DTSTART;TZID=America/Chicago:20251025T143000
DTEND;TZID=America/Chicago:20251025T150000
DTSTAMP:20260423T190646
CREATED:20251025T153236Z
LAST-MODIFIED:20251025T153327Z
UID:2855-1761402600-1761404400@wacoactorsguild.org
SUMMARY:The Callbacks A Cappella: Deck the Halls
DESCRIPTION:The Callbacks A Cappella – Performance\nCome hear @thecallbacksacappella today 2:30-3 pm at Deck the Halls! The first of several Christmas events coming up!
URL:https://wacoactorsguild.org/stagelink/2855/
LOCATION:BASE at Extraco\, 4601 Bosque Blvd\, Waco\, TX\, 76710\, United States
CATEGORIES:Other
ATTACH;FMTTYPE=image/jpeg:https://wacoactorsguild.org/wp-content/uploads/2025/10/569852203_18538585696009600_304951413226068144_n.jpg
END:VEVENT
BEGIN:VEVENT
DTSTART;TZID=America/Chicago:20251025T193000
DTEND;TZID=America/Chicago:20251025T220000
DTSTAMP:20260423T190646
CREATED:20251019T130048Z
LAST-MODIFIED:20251019T130048Z
UID:2851-1761420600-1761429600@wacoactorsguild.org
SUMMARY:Murder Mystery Dinner Event
DESCRIPTION:Murder Mystery Dinner Event – Performance\nSaturday\, October 25\, 7:30 PM\nDoors open for seating at dinner service: 6:45 \nOur next Murder Mystery Dinner Theatre is brewing at the Brazos Theatre! The Halloween Ball is the social event of the season\, and you can expect an evening full of delicious food\, shocking secrets\, hilarious suspects\, and a mystery that only you can help solve. Costumes are encouraged! Dress in your Halloween best\, or just come in your own sleuthing style. We’ll have plenty of prizes\, laughs\, and surprises in store. \n[Tickets: https://brazostheatre.ludus.com/index.php?show_id=200500774]
URL:https://wacoactorsguild.org/stagelink/murder-mystery-dinner-event/
LOCATION:Brazos Theatre of Waco\, 7524 Bosque Blvd.\, Suite Q\, Waco\, TX\, 76712\, United States
CATEGORIES:Brazos Theatre
ATTACH;FMTTYPE=image/png:https://wacoactorsguild.org/wp-content/uploads/2025/10/murder-in-disguise-sq_orig.png
ORGANIZER;CN="Brazos Theatre of Waco":MAILTO:brazostheatre@gmail.com
END:VEVENT
BEGIN:VEVENT
DTSTART;TZID=America/Chicago:20251027T193000
DTEND;TZID=America/Chicago:20251027T220000
DTSTAMP:20260423T190646
CREATED:20251002T214651Z
LAST-MODIFIED:20251002T214651Z
UID:2818-1761593400-1761602400@wacoactorsguild.org
SUMMARY:HOUSE OF FRANKENSTEIN
DESCRIPTION:HOUSE OF FRANKENSTEIN\nEnter the birthplace of a nightmare… \nThis Halloween season\, Silent House Theatre Co. invites you into House of Frankenstein — an original\, immersive production that conjures the stormy night when gothic horror was born. \nAdapted from Mary Shelley’s classic novel by a local playwright\, this haunting new work unravels the fevered tale of Victor Frankenstein and his creation. \nBlurring the line between the living and the dead\, fact and fiction\, House of Frankenstein envelops you in a world of candlelight\, mayhem\, and monsters. \n[Tickets: https://www.tickettailor.com/events/silenthouse/1872054]
URL:https://wacoactorsguild.org/stagelink/house-of-frankenstein/
LOCATION:McCulloch House Museum\, 407 Columbus Ave\, Waco\, 76701\, United States
CATEGORIES:Silent House Theatre
ATTACH;FMTTYPE=image/jpeg:https://wacoactorsguild.org/wp-content/uploads/2025/10/559210007_18066201329581685_6116128244983116755_n.jpg
ORGANIZER;CN="Silent House Theatre Co.":MAILTO:silenthousetheatre@gmail.com
END:VEVENT
BEGIN:VEVENT
DTSTART;TZID=America/Chicago:20251028T193000
DTEND;TZID=America/Chicago:20251028T220000
DTSTAMP:20260423T190646
CREATED:20251002T214743Z
LAST-MODIFIED:20251002T214743Z
UID:2822-1761679800-1761688800@wacoactorsguild.org
SUMMARY:HOUSE OF FRANKENSTEIN
DESCRIPTION:HOUSE OF FRANKENSTEIN\nEnter the birthplace of a nightmare… \nThis Halloween season\, Silent House Theatre Co. invites you into House of Frankenstein — an original\, immersive production that conjures the stormy night when gothic horror was born. \nAdapted from Mary Shelley’s classic novel by a local playwright\, this haunting new work unravels the fevered tale of Victor Frankenstein and his creation. \nBlurring the line between the living and the dead\, fact and fiction\, House of Frankenstein envelops you in a world of candlelight\, mayhem\, and monsters. \n[Tickets: https://www.tickettailor.com/events/silenthouse/1872054]
URL:https://wacoactorsguild.org/stagelink/house-of-frankenstein-2/
LOCATION:McCulloch House Museum\, 407 Columbus Ave\, Waco\, 76701\, United States
CATEGORIES:Silent House Theatre
ATTACH;FMTTYPE=image/jpeg:https://wacoactorsguild.org/wp-content/uploads/2025/10/559210007_18066201329581685_6116128244983116755_n.jpg
ORGANIZER;CN="Silent House Theatre Co.":MAILTO:silenthousetheatre@gmail.com
END:VEVENT
BEGIN:VEVENT
DTSTART;TZID=America/Chicago:20251029T193000
DTEND;TZID=America/Chicago:20251029T220000
DTSTAMP:20260423T190646
CREATED:20251002T214838Z
LAST-MODIFIED:20251002T214838Z
UID:2824-1761766200-1761775200@wacoactorsguild.org
SUMMARY:HOUSE OF FRANKENSTEIN
DESCRIPTION:HOUSE OF FRANKENSTEIN\nEnter the birthplace of a nightmare… \nThis Halloween season\, Silent House Theatre Co. invites you into House of Frankenstein — an original\, immersive production that conjures the stormy night when gothic horror was born. \nAdapted from Mary Shelley’s classic novel by a local playwright\, this haunting new work unravels the fevered tale of Victor Frankenstein and his creation. \nBlurring the line between the living and the dead\, fact and fiction\, House of Frankenstein envelops you in a world of candlelight\, mayhem\, and monsters. \n[Tickets: https://www.tickettailor.com/events/silenthouse/1872054]
URL:https://wacoactorsguild.org/stagelink/house-of-frankenstein-3/
LOCATION:McCulloch House Museum\, 407 Columbus Ave\, Waco\, 76701\, United States
CATEGORIES:Silent House Theatre
ATTACH;FMTTYPE=image/jpeg:https://wacoactorsguild.org/wp-content/uploads/2025/10/559210007_18066201329581685_6116128244983116755_n.jpg
ORGANIZER;CN="Silent House Theatre Co.":MAILTO:silenthousetheatre@gmail.com
END:VEVENT
BEGIN:VEVENT
DTSTART;TZID=America/Chicago:20251030T193000
DTEND;TZID=America/Chicago:20251030T220000
DTSTAMP:20260423T190646
CREATED:20251002T010402Z
LAST-MODIFIED:20251002T010402Z
UID:2777-1761852600-1761861600@wacoactorsguild.org
SUMMARY:Frozen: The Broadway Musical
DESCRIPTION:Frozen: The Broadway Musical\n\n\nJoin Elsa and Anna on their epic journey of self-discovery as they navigate icy challenges\, royal responsibilities\, and the unbreakable bond of family. Featuring show-stopping new songs alongside classics like Let It Go and Do You Want to Build a Snowman?\, this enchanting production of Frozen: The Broadway Musical immerses audiences in a dazzling spectacle of music\, movement\, and heartwarming storytelling. \nWith stunning special effects\, mesmerizing costumes\, and a tale that proves love is the most powerful magic of all\, Frozen: The Broadway Musical is an unforgettable experience for dreamers of all ages. \nStep into the magic and let your heart thaw. \n[Tickets: https://ci.ovationtix.com/35622/production/1231769]
URL:https://wacoactorsguild.org/stagelink/frozen-the-broadway-musical/
LOCATION:Waco Civic Theatre\, 1517 Lake Air Drive\, Waco\, TX\, 76710\, United States
CATEGORIES:Waco Civic Theatre
ATTACH;FMTTYPE=image/png:https://wacoactorsguild.org/wp-content/uploads/2025/10/2025-26-Shirts-1-300x236-1.png
ORGANIZER;CN="Waco Civic Theatre":MAILTO:boxoffice@wacocivictheatre.org
END:VEVENT
BEGIN:VEVENT
DTSTART;TZID=America/Chicago:20251030T193000
DTEND;TZID=America/Chicago:20251030T220000
DTSTAMP:20260423T190646
CREATED:20251002T214925Z
LAST-MODIFIED:20251002T214925Z
UID:2826-1761852600-1761861600@wacoactorsguild.org
SUMMARY:HOUSE OF FRANKENSTEIN
DESCRIPTION:HOUSE OF FRANKENSTEIN\nEnter the birthplace of a nightmare… \nThis Halloween season\, Silent House Theatre Co. invites you into House of Frankenstein — an original\, immersive production that conjures the stormy night when gothic horror was born. \nAdapted from Mary Shelley’s classic novel by a local playwright\, this haunting new work unravels the fevered tale of Victor Frankenstein and his creation. \nBlurring the line between the living and the dead\, fact and fiction\, House of Frankenstein envelops you in a world of candlelight\, mayhem\, and monsters. \n[Tickets: https://www.tickettailor.com/events/silenthouse/1872054]
URL:https://wacoactorsguild.org/stagelink/house-of-frankenstein-4/
LOCATION:McCulloch House Museum\, 407 Columbus Ave\, Waco\, 76701\, United States
CATEGORIES:Silent House Theatre
ATTACH;FMTTYPE=image/jpeg:https://wacoactorsguild.org/wp-content/uploads/2025/10/559210007_18066201329581685_6116128244983116755_n.jpg
ORGANIZER;CN="Silent House Theatre Co.":MAILTO:silenthousetheatre@gmail.com
END:VEVENT
BEGIN:VEVENT
DTSTART;TZID=America/Chicago:20251031T193000
DTEND;TZID=America/Chicago:20251031T220000
DTSTAMP:20260423T190646
CREATED:20251002T010506Z
LAST-MODIFIED:20251002T010506Z
UID:2780-1761939000-1761948000@wacoactorsguild.org
SUMMARY:Frozen: The Broadway Musical
DESCRIPTION:Frozen: The Broadway Musical\n\n\nJoin Elsa and Anna on their epic journey of self-discovery as they navigate icy challenges\, royal responsibilities\, and the unbreakable bond of family. Featuring show-stopping new songs alongside classics like Let It Go and Do You Want to Build a Snowman?\, this enchanting production of Frozen: The Broadway Musical immerses audiences in a dazzling spectacle of music\, movement\, and heartwarming storytelling. \nWith stunning special effects\, mesmerizing costumes\, and a tale that proves love is the most powerful magic of all\, Frozen: The Broadway Musical is an unforgettable experience for dreamers of all ages. \nStep into the magic and let your heart thaw. \n[Tickets: https://ci.ovationtix.com/35622/production/1231769]
URL:https://wacoactorsguild.org/stagelink/frozen-the-broadway-musical-2/
LOCATION:Waco Civic Theatre\, 1517 Lake Air Drive\, Waco\, TX\, 76710\, United States
CATEGORIES:Waco Civic Theatre
ATTACH;FMTTYPE=image/png:https://wacoactorsguild.org/wp-content/uploads/2025/10/2025-26-Shirts-1-300x236-1.png
ORGANIZER;CN="Waco Civic Theatre":MAILTO:boxoffice@wacocivictheatre.org
END:VEVENT
BEGIN:VEVENT
DTSTART;TZID=America/Chicago:20251031T193000
DTEND;TZID=America/Chicago:20251031T220000
DTSTAMP:20260423T190646
CREATED:20251002T215016Z
LAST-MODIFIED:20251002T215016Z
UID:2828-1761939000-1761948000@wacoactorsguild.org
SUMMARY:HOUSE OF FRANKENSTEIN
DESCRIPTION:HOUSE OF FRANKENSTEIN\nEnter the birthplace of a nightmare… \nThis Halloween season\, Silent House Theatre Co. invites you into House of Frankenstein — an original\, immersive production that conjures the stormy night when gothic horror was born. \nAdapted from Mary Shelley’s classic novel by a local playwright\, this haunting new work unravels the fevered tale of Victor Frankenstein and his creation. \nBlurring the line between the living and the dead\, fact and fiction\, House of Frankenstein envelops you in a world of candlelight\, mayhem\, and monsters. \n[Tickets: https://www.tickettailor.com/events/silenthouse/1872054]
URL:https://wacoactorsguild.org/stagelink/house-of-frankenstein-5/
LOCATION:McCulloch House Museum\, 407 Columbus Ave\, Waco\, 76701\, United States
CATEGORIES:Silent House Theatre
ATTACH;FMTTYPE=image/jpeg:https://wacoactorsguild.org/wp-content/uploads/2025/10/559210007_18066201329581685_6116128244983116755_n.jpg
ORGANIZER;CN="Silent House Theatre Co.":MAILTO:silenthousetheatre@gmail.com
END:VEVENT
END:VCALENDAR