BEGIN:VCALENDAR
VERSION:2.0
PRODID:-//Waco Actors&#039; Guild - ECPv6.15.20//NONSGML v1.0//EN
CALSCALE:GREGORIAN
METHOD:PUBLISH
X-WR-CALNAME:Waco Actors&#039; Guild
X-ORIGINAL-URL:https://wacoactorsguild.org
X-WR-CALDESC:Events for Waco Actors&#039; Guild
REFRESH-INTERVAL;VALUE=DURATION:PT1H
X-Robots-Tag:noindex
X-PUBLISHED-TTL:PT1H
BEGIN:VTIMEZONE
TZID:America/Chicago
BEGIN:DAYLIGHT
TZOFFSETFROM:-0600
TZOFFSETTO:-0500
TZNAME:CDT
DTSTART:20240310T080000
END:DAYLIGHT
BEGIN:STANDARD
TZOFFSETFROM:-0500
TZOFFSETTO:-0600
TZNAME:CST
DTSTART:20241103T070000
END:STANDARD
BEGIN:DAYLIGHT
TZOFFSETFROM:-0600
TZOFFSETTO:-0500
TZNAME:CDT
DTSTART:20250309T080000
END:DAYLIGHT
BEGIN:STANDARD
TZOFFSETFROM:-0500
TZOFFSETTO:-0600
TZNAME:CST
DTSTART:20251102T070000
END:STANDARD
BEGIN:DAYLIGHT
TZOFFSETFROM:-0600
TZOFFSETTO:-0500
TZNAME:CDT
DTSTART:20260308T080000
END:DAYLIGHT
BEGIN:STANDARD
TZOFFSETFROM:-0500
TZOFFSETTO:-0600
TZNAME:CST
DTSTART:20261101T070000
END:STANDARD
END:VTIMEZONE
BEGIN:VEVENT
DTSTART;TZID=America/Chicago:20250425T193000
DTEND;TZID=America/Chicago:20250425T220000
DTSTAMP:20260424T034644
CREATED:20250406T140033Z
LAST-MODIFIED:20250406T140033Z
UID:1723-1745609400-1745618400@wacoactorsguild.org
SUMMARY:Dinner Theatre Double Feature
DESCRIPTION:Dinner Theatre Double Feature – Performances\nTwo great plays\, one unforgettable night of mystery\, comedy\, and drama! Join us for an evening of delicious dinner from Olive Branch Café and thrilling theatre with our Double Feature lineup: \n\nSherlock in Love\, adapted by Jon Jory – The world’s greatest detective meets his greatest challenge… matters of the heart!\nThe Real Inspector Hound\, by Tom Stoppard – A fast-paced\, side-splitting whodunit where the critics become part of the crime!\n\nDon’t miss this hilarious and mysterious night of dinner theatre delight! \n[Dinner Theatre Performance Tickets: https://brazostheatre.ludus.com/show_page.php?show_id=200480765]
URL:https://wacoactorsguild.org/stagelink/dinner-theatre-double-feature-2/
LOCATION:Brazos Theatre of Waco\, 7524 Bosque Blvd.\, Suite Q\, Waco\, TX\, 76712\, United States
CATEGORIES:Brazos Theatre
ATTACH;FMTTYPE=image/png:https://wacoactorsguild.org/wp-content/uploads/2025/04/graphic-inspector_orig.png
ORGANIZER;CN="Brazos Theatre of Waco":MAILTO:brazostheatre@gmail.com
END:VEVENT
BEGIN:VEVENT
DTSTART;TZID=America/Chicago:20250425T193000
DTEND;TZID=America/Chicago:20250425T220000
DTSTAMP:20260424T034644
CREATED:20250419T122631Z
LAST-MODIFIED:20250419T122631Z
UID:1766-1745609400-1745618400@wacoactorsguild.org
SUMMARY:The Glass Menagerie
DESCRIPTION:The Glass Menagerie: A Fragile Masterpiece – Performance\n\nTennessee Williams’ seminal work\,The Glass Menagerie\, is a poignant exploration of memory\, longing\, and the human condition. This timeless American classic offers a raw and intimate portrayal of a dysfunctional family struggling to find their place in a changing world. \nSet during the Great Depression\, the play follows the Wingfield family: the overbearing mother Amanda\, the withdrawn Laura\, and the restless son Tom. Through delicate characters and poetic language\, Williams creates a world of fragility and yearning. \nExperience the beauty and heartbreak of this iconic drama as we delve into the depths of the human soul. Don’t miss this opportunity to witness a theatrical masterpiece that continues to resonate with audiences today. \n\n[Tickets: https://ci.ovationtix.com/35622/production/1216297]
URL:https://wacoactorsguild.org/stagelink/the-glass-menagerie/
LOCATION:Waco Civic Theatre\, 1517 Lake Air Drive\, Waco\, TX\, 76710\, United States
CATEGORIES:Waco Civic Theatre
ATTACH;FMTTYPE=image/png:https://wacoactorsguild.org/wp-content/uploads/2025/04/ClientFile565801.png
ORGANIZER;CN="Waco Civic Theatre":MAILTO:boxoffice@wacocivictheatre.org
END:VEVENT
END:VCALENDAR