BEGIN:VCALENDAR
VERSION:2.0
PRODID:-//Waco Actors&#039; Guild - ECPv6.15.20//NONSGML v1.0//EN
CALSCALE:GREGORIAN
METHOD:PUBLISH
X-WR-CALNAME:Waco Actors&#039; Guild
X-ORIGINAL-URL:https://wacoactorsguild.org
X-WR-CALDESC:Events for Waco Actors&#039; Guild
REFRESH-INTERVAL;VALUE=DURATION:PT1H
X-Robots-Tag:noindex
X-PUBLISHED-TTL:PT1H
BEGIN:VTIMEZONE
TZID:America/Chicago
BEGIN:DAYLIGHT
TZOFFSETFROM:-0600
TZOFFSETTO:-0500
TZNAME:CDT
DTSTART:20240310T080000
END:DAYLIGHT
BEGIN:STANDARD
TZOFFSETFROM:-0500
TZOFFSETTO:-0600
TZNAME:CST
DTSTART:20241103T070000
END:STANDARD
BEGIN:DAYLIGHT
TZOFFSETFROM:-0600
TZOFFSETTO:-0500
TZNAME:CDT
DTSTART:20250309T080000
END:DAYLIGHT
BEGIN:STANDARD
TZOFFSETFROM:-0500
TZOFFSETTO:-0600
TZNAME:CST
DTSTART:20251102T070000
END:STANDARD
BEGIN:DAYLIGHT
TZOFFSETFROM:-0600
TZOFFSETTO:-0500
TZNAME:CDT
DTSTART:20260308T080000
END:DAYLIGHT
BEGIN:STANDARD
TZOFFSETFROM:-0500
TZOFFSETTO:-0600
TZNAME:CST
DTSTART:20261101T070000
END:STANDARD
END:VTIMEZONE
BEGIN:VEVENT
DTSTART;TZID=America/Chicago:20250621T123000
DTEND;TZID=America/Chicago:20250621T130000
DTSTAMP:20260424T011430
CREATED:20250621T134903Z
LAST-MODIFIED:20250621T134903Z
UID:2091-1750509000-1750510800@wacoactorsguild.org
SUMMARY:Callbacks: A Cappella - Make Music Day Concert
DESCRIPTION:Callbacks: A Cappella – Make Music Day Concert\nYou asked for it-the Callbacks are BACK! Come hear a shortened set on Saturday for Make Music Day. We’ll be at the AC Hotel from 12:30-1 pm @ 600 Mary Ave! Can’t wait to see you there!!!
URL:https://wacoactorsguild.org/stagelink/callbacks-a-cappella-make-music-day-concert/
LOCATION:AC Hotel\, 600 Mary Ave\, Waco\, TX\, United States
CATEGORIES:Other
ATTACH;FMTTYPE=image/webp:https://wacoactorsguild.org/wp-content/uploads/2025/06/509648541_17852516604468476_7364053807210536978_n.webp
END:VEVENT
BEGIN:VEVENT
DTSTART;TZID=America/Chicago:20250621T190000
DTEND;TZID=America/Chicago:20250621T213000
DTSTAMP:20260424T011430
CREATED:20250530T125045Z
LAST-MODIFIED:20250530T125045Z
UID:1927-1750532400-1750541400@wacoactorsguild.org
SUMMARY:Much Ado About Nothing
DESCRIPTION:Much Ado About Nothing – Performance\n\n\nThe primary plot of Much Ado About Nothing revolves around the courtship and scandal involving young Hero and her suitor\, Claudio\, but the witty war of words between Claudio’s friend Benedick and Hero’s cousin Beatrice often takes center stage. \nIn Silent House’s 80s rendition\, we’re in Naples\, Florida. Leonato\, a political player in Naples\, is hosting a party. The real juice of the plot begins as Don Pedro’s army returns after a victory. Benedick\, a gentleman soldier\, resumes a verbal duel with Beatrice\, the niece of the great Leonato. Count Claudio is smitten by Leonato’s daughter\, Hero. After Don Pedro woos her in disguise for Claudio\, the two young lovers plan to marry in a week. To fill in the time until the wedding\, Don Pedro and the others set about tricking Benedick and Beatrice into falling in love with each other. Meanwhile\, Don Pedro’s disgruntled brother\, Don John\, plots to ruin Hero and halt her wedding. Claudio believes Don John’s deception\, is convinced Hero has a lover\, and\, at the wedding\, brutally rejects her. \nWith Hero in hiding and falsely reported dead\, Beatrice persuades Benedick to fight Claudio. Tragedy is averted when the bumbling property guards\, having discovered Don John’s treachery\, arrives and clears Hero’s name. With Claudio forgiven\, both couples are ready to get married. \n[Tickets: https://www.tickettailor.com/events/silenthouse/1678468]
URL:https://wacoactorsguild.org/stagelink/much-ado-about-nothing-5/
LOCATION:Earle Harrison House & Pape Gardens\, 1901 N 5th Street\, Waco\, TX\, 76708\, United States
CATEGORIES:Silent House Theatre
ATTACH;FMTTYPE=image/webp:https://wacoactorsguild.org/wp-content/uploads/2025/05/fimxna9sdt83z4kmfdaj.webp
ORGANIZER;CN="Silent House Theatre Co.":MAILTO:silenthousetheatre@gmail.com
END:VEVENT
BEGIN:VEVENT
DTSTART;TZID=America/Chicago:20250621T200000
DTEND;TZID=America/Chicago:20250621T220000
DTSTAMP:20260424T011430
CREATED:20250530T131247Z
LAST-MODIFIED:20250530T131247Z
UID:1938-1750536000-1750543200@wacoactorsguild.org
SUMMARY:Comedy at the Brazos: A Stand-Up Comedy Showcase
DESCRIPTION:Comedy at the Brazos: A Stand-Up Comedy Showcase\nSaturday\, June 21\, 8:00 PM\nDoors open at 7:15 PM \nLaugh your way into summer with our next Stand-Up Comedy Showcase at Brazos Theatre! We’re serving up a fresh lineup of hilarious comedians ready to bring the house down with their best jokes\, wild stories\, and razor-sharp punchlines. \n[Tickets: https://brazostheatre.ludus.com/show_page.php?show_id=200486180]
URL:https://wacoactorsguild.org/stagelink/comedy-at-the-brazos-a-stand-up-comedy-showcase-3/
LOCATION:Brazos Theatre of Waco\, 7524 Bosque Blvd.\, Suite Q\, Waco\, TX\, 76712\, United States
CATEGORIES:Brazos Theatre
ATTACH;FMTTYPE=image/webp:https://wacoactorsguild.org/wp-content/uploads/2025/05/comedy-06-2025-sq_orig.webp
ORGANIZER;CN="Brazos Theatre of Waco":MAILTO:brazostheatre@gmail.com
END:VEVENT
END:VCALENDAR