BEGIN:VCALENDAR
VERSION:2.0
PRODID:-//Waco Actors&#039; Guild - ECPv6.15.20//NONSGML v1.0//EN
CALSCALE:GREGORIAN
METHOD:PUBLISH
X-ORIGINAL-URL:https://wacoactorsguild.org
X-WR-CALDESC:Events for Waco Actors&#039; Guild
REFRESH-INTERVAL;VALUE=DURATION:PT1H
X-Robots-Tag:noindex
X-PUBLISHED-TTL:PT1H
BEGIN:VTIMEZONE
TZID:America/Chicago
BEGIN:DAYLIGHT
TZOFFSETFROM:-0600
TZOFFSETTO:-0500
TZNAME:CDT
DTSTART:20240310T080000
END:DAYLIGHT
BEGIN:STANDARD
TZOFFSETFROM:-0500
TZOFFSETTO:-0600
TZNAME:CST
DTSTART:20241103T070000
END:STANDARD
BEGIN:DAYLIGHT
TZOFFSETFROM:-0600
TZOFFSETTO:-0500
TZNAME:CDT
DTSTART:20250309T080000
END:DAYLIGHT
BEGIN:STANDARD
TZOFFSETFROM:-0500
TZOFFSETTO:-0600
TZNAME:CST
DTSTART:20251102T070000
END:STANDARD
BEGIN:DAYLIGHT
TZOFFSETFROM:-0600
TZOFFSETTO:-0500
TZNAME:CDT
DTSTART:20260308T080000
END:DAYLIGHT
BEGIN:STANDARD
TZOFFSETFROM:-0500
TZOFFSETTO:-0600
TZNAME:CST
DTSTART:20261101T070000
END:STANDARD
END:VTIMEZONE
BEGIN:VEVENT
DTSTART;TZID=America/Chicago:20250716T173000
DTEND;TZID=America/Chicago:20250716T193000
DTSTAMP:20260424T000530
CREATED:20250625T131300Z
LAST-MODIFIED:20250625T131300Z
UID:2153-1752687000-1752694200@wacoactorsguild.org
SUMMARY:Brew & Bravo
DESCRIPTION:Brew & Bravo\nVeterans: Talk. Share. Connect. \nJuly 16\, 5:30 – 7:30 \nBaylor Club @ McLane Stadium \nIt’s an evening of live improv comedy\, patriotism\, camaraderie\, and heartfelt service recognition. It’s all about celebrating our veterans and building meaningful connections over great brews. Veterans + 1 guest are welcome—no membership required. Don’t miss this chance to relax\, laugh\, and connect with fellow Veterans! \n[Tickets: https://www.eventbrite.com/e/july-16-brew-bravo-serving-veterans-and-brewing-connections-tickets-1351480166559?aff=efbevent]
URL:https://wacoactorsguild.org/stagelink/brew-bravo/
LOCATION:The Baylor Club\, 1001 South Martin Luther King Junior Boulevard\, Waco\, TX\, 76704\, United States
CATEGORIES:Brazos Theatre
ATTACH;FMTTYPE=image/png:https://wacoactorsguild.org/wp-content/uploads/2025/06/brew-bravo-sq_orig.png
ORGANIZER;CN="Brazos Theatre of Waco":MAILTO:brazostheatre@gmail.com
END:VEVENT
END:VCALENDAR