BEGIN:VCALENDAR
VERSION:2.0
PRODID:-//Waco Actors&#039; Guild - ECPv6.15.20//NONSGML v1.0//EN
CALSCALE:GREGORIAN
METHOD:PUBLISH
X-ORIGINAL-URL:https://wacoactorsguild.org
X-WR-CALDESC:Events for Waco Actors&#039; Guild
REFRESH-INTERVAL;VALUE=DURATION:PT1H
X-Robots-Tag:noindex
X-PUBLISHED-TTL:PT1H
BEGIN:VTIMEZONE
TZID:America/Chicago
BEGIN:DAYLIGHT
TZOFFSETFROM:-0600
TZOFFSETTO:-0500
TZNAME:CDT
DTSTART:20240310T080000
END:DAYLIGHT
BEGIN:STANDARD
TZOFFSETFROM:-0500
TZOFFSETTO:-0600
TZNAME:CST
DTSTART:20241103T070000
END:STANDARD
BEGIN:DAYLIGHT
TZOFFSETFROM:-0600
TZOFFSETTO:-0500
TZNAME:CDT
DTSTART:20250309T080000
END:DAYLIGHT
BEGIN:STANDARD
TZOFFSETFROM:-0500
TZOFFSETTO:-0600
TZNAME:CST
DTSTART:20251102T070000
END:STANDARD
BEGIN:DAYLIGHT
TZOFFSETFROM:-0600
TZOFFSETTO:-0500
TZNAME:CDT
DTSTART:20260308T080000
END:DAYLIGHT
BEGIN:STANDARD
TZOFFSETFROM:-0500
TZOFFSETTO:-0600
TZNAME:CST
DTSTART:20261101T070000
END:STANDARD
END:VTIMEZONE
BEGIN:VEVENT
DTSTART;TZID=America/Chicago:20250719T143000
DTEND;TZID=America/Chicago:20250719T170000
DTSTAMP:20260424T000529
CREATED:20250429T201427Z
LAST-MODIFIED:20250709T123354Z
UID:1794-1752935400-1752944400@wacoactorsguild.org
SUMMARY:Prince of Egypt
DESCRIPTION:Prince of Egypt – Performance\nA story of faith\, destiny\, and freedom comes to life in The Prince of Egypt\, an awe-inspiring musical based on the beloved DreamWorks animated film. With a breathtaking score by Stephen Schwartz\, including the Academy Award-winning song When You Believe\, this powerful production transports audiences to ancient Egypt\, where two brothers—one born of royal blood\, the other an orphan with a secret past—find themselves on a journey that will change history. \nThrough stunning visuals\, soaring music\, and heart-stirring storytelling\, The Prince of Egypt captures the timeless tale of Moses as he discovers his true identity\, rises against oppression\, and leads his people to freedom. With spectacular choreography and deeply emotional performances\, this epic musical showcases the magic of theatre at its most powerful—bringing larger-than-life moments to the stage while speaking to the hearts of audiences everywhere. \nJoin us for a journey of miracles\, courage\, and the enduring power of hope. \nPerformed at the MIDWAY PERFORMING ARTS CENTER \n[Tickets: https://ci.ovationtix.com/35622/production/1231743]
URL:https://wacoactorsguild.org/stagelink/prince-of-egypt-2/
LOCATION:Midway Performing Arts Center\, 800 N Hewitt Drive\, Hewitt\, 76712\, United States
CATEGORIES:Waco Civic Theatre
ATTACH;FMTTYPE=image/png:https://wacoactorsguild.org/wp-content/uploads/2025/04/Prince-of-Egypt-Poster.png
ORGANIZER;CN="Waco Civic Theatre":MAILTO:boxoffice@wacocivictheatre.org
END:VEVENT
BEGIN:VEVENT
DTSTART;TZID=America/Chicago:20250719T193000
DTEND;TZID=America/Chicago:20250719T220000
DTSTAMP:20260424T000529
CREATED:20250429T201919Z
LAST-MODIFIED:20250709T123303Z
UID:1798-1752953400-1752962400@wacoactorsguild.org
SUMMARY:Prince of Egypt
DESCRIPTION:Prince of Egypt – Performance\nA story of faith\, destiny\, and freedom comes to life in The Prince of Egypt\, an awe-inspiring musical based on the beloved DreamWorks animated film. With a breathtaking score by Stephen Schwartz\, including the Academy Award-winning song When You Believe\, this powerful production transports audiences to ancient Egypt\, where two brothers—one born of royal blood\, the other an orphan with a secret past—find themselves on a journey that will change history. \nThrough stunning visuals\, soaring music\, and heart-stirring storytelling\, The Prince of Egypt captures the timeless tale of Moses as he discovers his true identity\, rises against oppression\, and leads his people to freedom. With spectacular choreography and deeply emotional performances\, this epic musical showcases the magic of theatre at its most powerful—bringing larger-than-life moments to the stage while speaking to the hearts of audiences everywhere. \nJoin us for a journey of miracles\, courage\, and the enduring power of hope. \nPerformed at the MIDWAY PERFORMING ARTS CENTER \n[Tickets: https://ci.ovationtix.com/35622/production/1231743]
URL:https://wacoactorsguild.org/stagelink/prince-of-egypt-3/
LOCATION:Midway Performing Arts Center\, 800 N Hewitt Drive\, Hewitt\, 76712\, United States
CATEGORIES:Waco Civic Theatre
ATTACH;FMTTYPE=image/png:https://wacoactorsguild.org/wp-content/uploads/2025/04/Prince-of-Egypt-Poster.png
ORGANIZER;CN="Waco Civic Theatre":MAILTO:boxoffice@wacocivictheatre.org
END:VEVENT
BEGIN:VEVENT
DTSTART;TZID=America/Chicago:20250719T200000
DTEND;TZID=America/Chicago:20250719T220000
DTSTAMP:20260424T000529
CREATED:20250713T132059Z
LAST-MODIFIED:20250713T132059Z
UID:2251-1752955200-1752962400@wacoactorsguild.org
SUMMARY:Comedy at the Brazos: A Stand Up Comedy Showcase
DESCRIPTION:Comedy at the Brazos: A Stand Up Comedy Showcase – Performance\nJuly 19\, 8:00 PM\nDoors open at 7:15 \nOur monthly Stand-Up Comedy Showcase is back on Friday\, July 19! Every show brings a fresh batch of hilarious talent to the Brazos Theatre stage\, and this night will be no exception. Expect sharp wit\, bold punchlines\, and the kind of belly laughs that make you forget all your troubles (at least for an hour or two). \n[Tickets: https://brazostheatre.ludus.com/index.php?show_id=200488614]
URL:https://wacoactorsguild.org/stagelink/comedy-at-the-brazos-a-stand-up-comedy-showcase-4/
LOCATION:Brazos Theatre of Waco\, 7524 Bosque Blvd.\, Suite Q\, Waco\, TX\, 76712\, United States
CATEGORIES:Brazos Theatre
ATTACH;FMTTYPE=image/png:https://wacoactorsguild.org/wp-content/uploads/2025/07/1750604718.png
ORGANIZER;CN="Brazos Theatre of Waco":MAILTO:brazostheatre@gmail.com
END:VEVENT
END:VCALENDAR