BEGIN:VCALENDAR
VERSION:2.0
PRODID:-//Waco Actors&#039; Guild - ECPv6.15.20//NONSGML v1.0//EN
CALSCALE:GREGORIAN
METHOD:PUBLISH
X-ORIGINAL-URL:https://wacoactorsguild.org
X-WR-CALDESC:Events for Waco Actors&#039; Guild
REFRESH-INTERVAL;VALUE=DURATION:PT1H
X-Robots-Tag:noindex
X-PUBLISHED-TTL:PT1H
BEGIN:VTIMEZONE
TZID:America/Chicago
BEGIN:DAYLIGHT
TZOFFSETFROM:-0600
TZOFFSETTO:-0500
TZNAME:CDT
DTSTART:20240310T080000
END:DAYLIGHT
BEGIN:STANDARD
TZOFFSETFROM:-0500
TZOFFSETTO:-0600
TZNAME:CST
DTSTART:20241103T070000
END:STANDARD
BEGIN:DAYLIGHT
TZOFFSETFROM:-0600
TZOFFSETTO:-0500
TZNAME:CDT
DTSTART:20250309T080000
END:DAYLIGHT
BEGIN:STANDARD
TZOFFSETFROM:-0500
TZOFFSETTO:-0600
TZNAME:CST
DTSTART:20251102T070000
END:STANDARD
BEGIN:DAYLIGHT
TZOFFSETFROM:-0600
TZOFFSETTO:-0500
TZNAME:CDT
DTSTART:20260308T080000
END:DAYLIGHT
BEGIN:STANDARD
TZOFFSETFROM:-0500
TZOFFSETTO:-0600
TZNAME:CST
DTSTART:20261101T070000
END:STANDARD
END:VTIMEZONE
BEGIN:VEVENT
DTSTART;TZID=America/Chicago:20251108T143000
DTEND;TZID=America/Chicago:20251108T170000
DTSTAMP:20260423T190824
CREATED:20251002T011009Z
LAST-MODIFIED:20251002T011009Z
UID:2792-1762612200-1762621200@wacoactorsguild.org
SUMMARY:Frozen: The Broadway Musical
DESCRIPTION:Frozen: The Broadway Musical\n\n\nJoin Elsa and Anna on their epic journey of self-discovery as they navigate icy challenges\, royal responsibilities\, and the unbreakable bond of family. Featuring show-stopping new songs alongside classics like Let It Go and Do You Want to Build a Snowman?\, this enchanting production of Frozen: The Broadway Musical immerses audiences in a dazzling spectacle of music\, movement\, and heartwarming storytelling. \nWith stunning special effects\, mesmerizing costumes\, and a tale that proves love is the most powerful magic of all\, Frozen: The Broadway Musical is an unforgettable experience for dreamers of all ages. \nStep into the magic and let your heart thaw. \n[Tickets: https://ci.ovationtix.com/35622/production/1231769]
URL:https://wacoactorsguild.org/stagelink/frozen-the-broadway-musical-8/
LOCATION:Waco Civic Theatre\, 1517 Lake Air Drive\, Waco\, TX\, 76710\, United States
CATEGORIES:Waco Civic Theatre
ATTACH;FMTTYPE=image/png:https://wacoactorsguild.org/wp-content/uploads/2025/10/2025-26-Shirts-1-300x236-1.png
ORGANIZER;CN="Waco Civic Theatre":MAILTO:boxoffice@wacocivictheatre.org
END:VEVENT
BEGIN:VEVENT
DTSTART;TZID=America/Chicago:20251108T170000
DTEND;TZID=America/Chicago:20251108T190000
DTSTAMP:20260423T190824
CREATED:20251102T143835Z
LAST-MODIFIED:20251102T143835Z
UID:2871-1762621200-1762628400@wacoactorsguild.org
SUMMARY:Winter's End - Staged Reading
DESCRIPTION:Winter’s End by J.S. Puller | Staged Reading\nAn absurdist retelling of the Persephone myth from Greek legend\, examining and questioning the fact that in most tellings of the story\, Persephone has no voice and makes no active choices of her own. Paralleling Persephone’s helplessness is the current debate raging over reproductive rights. Cassie\, a young college student\, runs away from anti-abortion activists to find herself in the house of the underworld where she must navigate the absurdities of “the way things have always been done” to try to help Persephone make a choice of her own. \n[Tickets: https://app.betterunite.com/WildImaginings-epiphaniesnewplayfestival]
URL:https://wacoactorsguild.org/stagelink/winters-end-staged-reading/
LOCATION:The PACC\, 924 Austin Ave Suit 150\, Waco\, TX\, 76701\, United States
CATEGORIES:Wild Imaginings
ORGANIZER;CN="Wild Imaginings":MAILTO:info@wildimaginingswaco.com
END:VEVENT
BEGIN:VEVENT
DTSTART;TZID=America/Chicago:20251108T193000
DTEND;TZID=America/Chicago:20251108T210000
DTSTAMP:20260423T190824
CREATED:20251102T144034Z
LAST-MODIFIED:20251102T144034Z
UID:2873-1762630200-1762635600@wacoactorsguild.org
SUMMARY:Another Reason Not to Go - Staged Reading
DESCRIPTION:Another Reason Not to Go by Jessica Fisher | Staged Reading\nGabby grew up with her mom\, her stepdad\, and her stepbrothers in Colorado Springs. When she moves to New York\, her family becomes religious\, and eventually abusive to her mother. She moves her mom out. Her stepbrothers stop talking to her. Her stepfather dies. Years go by\, she becomes engaged to a woman\, and one day she receives an invitation to her younger stepbrother’s wedding. She must decide whether or not to face her old life\, and confront what she’s been missing…needless to say\, she goes. \n[Ticket: https://app.betterunite.com/WildImaginings-epiphaniesnewplayfestival]
URL:https://wacoactorsguild.org/stagelink/another-reason-not-to-go-staged-reading/
LOCATION:The PACC\, 924 Austin Ave Suit 150\, Waco\, TX\, 76701\, United States
CATEGORIES:Wild Imaginings
ORGANIZER;CN="Wild Imaginings":MAILTO:info@wildimaginingswaco.com
END:VEVENT
BEGIN:VEVENT
DTSTART;TZID=America/Chicago:20251108T193000
DTEND;TZID=America/Chicago:20251108T220000
DTSTAMP:20260423T190824
CREATED:20251002T011054Z
LAST-MODIFIED:20251002T011054Z
UID:2794-1762630200-1762639200@wacoactorsguild.org
SUMMARY:Frozen: The Broadway Musical
DESCRIPTION:Frozen: The Broadway Musical\n\n\nJoin Elsa and Anna on their epic journey of self-discovery as they navigate icy challenges\, royal responsibilities\, and the unbreakable bond of family. Featuring show-stopping new songs alongside classics like Let It Go and Do You Want to Build a Snowman?\, this enchanting production of Frozen: The Broadway Musical immerses audiences in a dazzling spectacle of music\, movement\, and heartwarming storytelling. \nWith stunning special effects\, mesmerizing costumes\, and a tale that proves love is the most powerful magic of all\, Frozen: The Broadway Musical is an unforgettable experience for dreamers of all ages. \nStep into the magic and let your heart thaw. \n[Tickets: https://ci.ovationtix.com/35622/production/1231769]
URL:https://wacoactorsguild.org/stagelink/frozen-the-broadway-musical-9/
LOCATION:Waco Civic Theatre\, 1517 Lake Air Drive\, Waco\, TX\, 76710\, United States
CATEGORIES:Waco Civic Theatre
ATTACH;FMTTYPE=image/png:https://wacoactorsguild.org/wp-content/uploads/2025/10/2025-26-Shirts-1-300x236-1.png
ORGANIZER;CN="Waco Civic Theatre":MAILTO:boxoffice@wacocivictheatre.org
END:VEVENT
END:VCALENDAR