BEGIN:VCALENDAR
VERSION:2.0
PRODID:-//Waco Actors&#039; Guild - ECPv6.15.20//NONSGML v1.0//EN
CALSCALE:GREGORIAN
METHOD:PUBLISH
X-WR-CALNAME:Waco Actors&#039; Guild
X-ORIGINAL-URL:https://wacoactorsguild.org
X-WR-CALDESC:Events for Waco Actors&#039; Guild
REFRESH-INTERVAL;VALUE=DURATION:PT1H
X-Robots-Tag:noindex
X-PUBLISHED-TTL:PT1H
BEGIN:VTIMEZONE
TZID:America/Chicago
BEGIN:DAYLIGHT
TZOFFSETFROM:-0600
TZOFFSETTO:-0500
TZNAME:CDT
DTSTART:20250309T080000
END:DAYLIGHT
BEGIN:STANDARD
TZOFFSETFROM:-0500
TZOFFSETTO:-0600
TZNAME:CST
DTSTART:20251102T070000
END:STANDARD
BEGIN:DAYLIGHT
TZOFFSETFROM:-0600
TZOFFSETTO:-0500
TZNAME:CDT
DTSTART:20260308T080000
END:DAYLIGHT
BEGIN:STANDARD
TZOFFSETFROM:-0500
TZOFFSETTO:-0600
TZNAME:CST
DTSTART:20261101T070000
END:STANDARD
BEGIN:DAYLIGHT
TZOFFSETFROM:-0600
TZOFFSETTO:-0500
TZNAME:CDT
DTSTART:20270314T080000
END:DAYLIGHT
BEGIN:STANDARD
TZOFFSETFROM:-0500
TZOFFSETTO:-0600
TZNAME:CST
DTSTART:20271107T070000
END:STANDARD
END:VTIMEZONE
BEGIN:VEVENT
DTSTART;TZID=America/Chicago:20260131T143000
DTEND;TZID=America/Chicago:20260131T170000
DTSTAMP:20260423T165309
CREATED:20260104T130358Z
LAST-MODIFIED:20260104T130358Z
UID:2981-1769869800-1769878800@wacoactorsguild.org
SUMMARY:New Works Festival: Epiphanies
DESCRIPTION:New Works Festival: Epiphanies – Performance\n\nJoin us for a new works festival featuring a musical and two stage readings.\n \nSCHEDULE\nThursday\, Jan 29\, 7:30 PM  – BL!NK\nFriday\, Jan 30\, 7:30 PM – BL!NK\nSaturday\, Jan 31\, 2:30 PM – Riverbend\nSaturday\, Jan 31\, 7:30 PM – BL!NK\nSunday\, Feb 1\, 2:30 PM – The Last Piece\n \nBL!NK\nA Full Production\n \nBL!NK follows Sadie\, an anxious but brilliant coder\, and Natalie\, her bold best friend and marketing genius\, as they dream their way out of a small college town by creating a dating app designed to protect women from predators and data mining. In Act One\, they pitch their idea to a skeptical investor\, land a game-changing deal\, and move to Silicon Valley—leaving behind Sadie’s stagnant relationship. Act Two picks up four years later. Natalie is planning her lavish wedding to Addie and growing frustrated that the now-single Sadie does not have a date. Then Sadie is swept into a whirlwind romance with Jake\, a man she meets on their own app. As the wedding approaches\, corporate compromises and personal heartbreak threaten their friendship\, forcing both women to confront the true cost of success and what they want their futures to be. \nRIVERBEND \nA Staged Reading \nRIVERBEND is a modern musical retelling of the Greek myth of Daphne and Apollo. Daphne is an eighteen-year-old high school graduate living in a small Rivertown on the Eastern Shore of Maryland. Feeling her late mother’s absence in town\, she plans to take her sailboat for a year-long trip on “The Great Loop\,” a journey her mother took when she was her age. However\, when twins Aiden and Diana move into town\, Daphne’s heart and her plans are challenged by feelings she’s never known. \nTHE LAST PIECE \nA Staged Reading \nAmara is shocked when she receives a call from the doctor stating she must come see her ex-husband Andrew\, who she has not spoken to in 10 years. She learns of his Alzheimer’s diagnosis and is encouraged by the doctor to spend time with him to discuss their past memories and slow the progression of his disease. As the two reflect on their relationship\, they recall their feelings for each other and begin to fall in love again – or so Amara thinks so. When Andrew’s memory begins to acutely worsen and he often finds himself torn between past and present\, Amara is hurt as she wonders whether he ever loved her at all. Andrew ends up in the hospital after going missing and Amara finds him. When she learns why he went missing\, she is forced to make a decision about their relationship moving forward – one she makes with love and grace\, and one that shows how much of ourselves are made up of the fragile memories we hold. \n\n[Tickets: https://ci.ovationtix.com/35622/production/1260649]
URL:https://wacoactorsguild.org/stagelink/new-works-festival-epiphanies-3/
LOCATION:Waco Civic Theatre\, 1517 Lake Air Drive\, Waco\, TX\, 76710\, United States
CATEGORIES:Wild Imaginings
ATTACH;FMTTYPE=image/png:https://wacoactorsguild.org/wp-content/uploads/2026/01/ClientFile599929.png
ORGANIZER;CN="Wild Imaginings":MAILTO:info@wildimaginingswaco.com
END:VEVENT
BEGIN:VEVENT
DTSTART;TZID=America/Chicago:20260131T193000
DTEND;TZID=America/Chicago:20260131T210000
DTSTAMP:20260423T165309
CREATED:20260104T130448Z
LAST-MODIFIED:20260104T130448Z
UID:2983-1769887800-1769893200@wacoactorsguild.org
SUMMARY:New Works Festival: Epiphanies
DESCRIPTION:New Works Festival: Epiphanies – Performance\n\nJoin us for a new works festival featuring a musical and two stage readings.\n \nSCHEDULE\nThursday\, Jan 29\, 7:30 PM  – BL!NK\nFriday\, Jan 30\, 7:30 PM – BL!NK\nSaturday\, Jan 31\, 2:30 PM – Riverbend\nSaturday\, Jan 31\, 7:30 PM – BL!NK\nSunday\, Feb 1\, 2:30 PM – The Last Piece\n \nBL!NK\nA Full Production\n \nBL!NK follows Sadie\, an anxious but brilliant coder\, and Natalie\, her bold best friend and marketing genius\, as they dream their way out of a small college town by creating a dating app designed to protect women from predators and data mining. In Act One\, they pitch their idea to a skeptical investor\, land a game-changing deal\, and move to Silicon Valley—leaving behind Sadie’s stagnant relationship. Act Two picks up four years later. Natalie is planning her lavish wedding to Addie and growing frustrated that the now-single Sadie does not have a date. Then Sadie is swept into a whirlwind romance with Jake\, a man she meets on their own app. As the wedding approaches\, corporate compromises and personal heartbreak threaten their friendship\, forcing both women to confront the true cost of success and what they want their futures to be. \nRIVERBEND \nA Staged Reading \nRIVERBEND is a modern musical retelling of the Greek myth of Daphne and Apollo. Daphne is an eighteen-year-old high school graduate living in a small Rivertown on the Eastern Shore of Maryland. Feeling her late mother’s absence in town\, she plans to take her sailboat for a year-long trip on “The Great Loop\,” a journey her mother took when she was her age. However\, when twins Aiden and Diana move into town\, Daphne’s heart and her plans are challenged by feelings she’s never known. \nTHE LAST PIECE \nA Staged Reading \nAmara is shocked when she receives a call from the doctor stating she must come see her ex-husband Andrew\, who she has not spoken to in 10 years. She learns of his Alzheimer’s diagnosis and is encouraged by the doctor to spend time with him to discuss their past memories and slow the progression of his disease. As the two reflect on their relationship\, they recall their feelings for each other and begin to fall in love again – or so Amara thinks so. When Andrew’s memory begins to acutely worsen and he often finds himself torn between past and present\, Amara is hurt as she wonders whether he ever loved her at all. Andrew ends up in the hospital after going missing and Amara finds him. When she learns why he went missing\, she is forced to make a decision about their relationship moving forward – one she makes with love and grace\, and one that shows how much of ourselves are made up of the fragile memories we hold. \n\n[Tickets: https://ci.ovationtix.com/35622/production/1260649]
URL:https://wacoactorsguild.org/stagelink/new-works-festival-epiphanies-4/
LOCATION:Waco Civic Theatre\, 1517 Lake Air Drive\, Waco\, TX\, 76710\, United States
CATEGORIES:Wild Imaginings
ATTACH;FMTTYPE=image/png:https://wacoactorsguild.org/wp-content/uploads/2026/01/ClientFile599929.png
ORGANIZER;CN="Wild Imaginings":MAILTO:info@wildimaginingswaco.com
END:VEVENT
END:VCALENDAR