BEGIN:VCALENDAR
VERSION:2.0
PRODID:-//Waco Actors&#039; Guild - ECPv6.15.20//NONSGML v1.0//EN
CALSCALE:GREGORIAN
METHOD:PUBLISH
X-WR-CALNAME:Waco Actors&#039; Guild
X-ORIGINAL-URL:https://wacoactorsguild.org
X-WR-CALDESC:Events for Waco Actors&#039; Guild
REFRESH-INTERVAL;VALUE=DURATION:PT1H
X-Robots-Tag:noindex
X-PUBLISHED-TTL:PT1H
BEGIN:VTIMEZONE
TZID:America/Chicago
BEGIN:DAYLIGHT
TZOFFSETFROM:-0600
TZOFFSETTO:-0500
TZNAME:CDT
DTSTART:20240310T080000
END:DAYLIGHT
BEGIN:STANDARD
TZOFFSETFROM:-0500
TZOFFSETTO:-0600
TZNAME:CST
DTSTART:20241103T070000
END:STANDARD
BEGIN:DAYLIGHT
TZOFFSETFROM:-0600
TZOFFSETTO:-0500
TZNAME:CDT
DTSTART:20250309T080000
END:DAYLIGHT
BEGIN:STANDARD
TZOFFSETFROM:-0500
TZOFFSETTO:-0600
TZNAME:CST
DTSTART:20251102T070000
END:STANDARD
BEGIN:DAYLIGHT
TZOFFSETFROM:-0600
TZOFFSETTO:-0500
TZNAME:CDT
DTSTART:20260308T080000
END:DAYLIGHT
BEGIN:STANDARD
TZOFFSETFROM:-0500
TZOFFSETTO:-0600
TZNAME:CST
DTSTART:20261101T070000
END:STANDARD
END:VTIMEZONE
BEGIN:VEVENT
DTSTART;TZID=America/Chicago:20250502T193000
DTEND;TZID=America/Chicago:20250502T220000
DTSTAMP:20260424T014753
CREATED:20250419T123415Z
LAST-MODIFIED:20250419T123415Z
UID:1773-1746214200-1746223200@wacoactorsguild.org
SUMMARY:I Love You\, You're Perfect\, Now Change
DESCRIPTION:I Love You\, You’re Perfect\, Now Change – Performance\n\nExplore the contemporary heterosexual courtship by using a two time-tested coping mechanism for the traumas and elations of love—humor and music. I Love You\, You’re Perfect reveals the difficulties and joys of connecting with another person at nearly every stage of life. \n\n[Tickets: https://ci.ovationtix.com/35622/production/1216295]
URL:https://wacoactorsguild.org/stagelink/i-love-you-youre-perfect-now-change/
LOCATION:Waco Civic Theatre\, 1517 Lake Air Drive\, Waco\, TX\, 76710\, United States
CATEGORIES:Waco Civic Theatre
ATTACH;FMTTYPE=image/jpeg:https://wacoactorsguild.org/wp-content/uploads/2025/04/ClientFile547524.jpg
ORGANIZER;CN="Waco Civic Theatre":MAILTO:boxoffice@wacocivictheatre.org
END:VEVENT
BEGIN:VEVENT
DTSTART;TZID=America/Chicago:20250503T193000
DTEND;TZID=America/Chicago:20250503T220000
DTSTAMP:20260424T014753
CREATED:20250419T123520Z
LAST-MODIFIED:20250419T123520Z
UID:1776-1746300600-1746309600@wacoactorsguild.org
SUMMARY:I Love You\, You're Perfect\, Now Change
DESCRIPTION:I Love You\, You’re Perfect\, Now Change – Performance\nExplore the contemporary heterosexual courtship by using a two time-tested coping mechanism for the traumas and elations of love—humor and music. I Love You\, You’re Perfect reveals the difficulties and joys of connecting with another person at nearly every stage of life. \n[Tickets: https://ci.ovationtix.com/35622/production/1216295]
URL:https://wacoactorsguild.org/stagelink/i-love-you-youre-perfect-now-change-2/
LOCATION:Waco Civic Theatre\, 1517 Lake Air Drive\, Waco\, TX\, 76710\, United States
CATEGORIES:Waco Civic Theatre
ATTACH;FMTTYPE=image/jpeg:https://wacoactorsguild.org/wp-content/uploads/2025/04/ClientFile547524.jpg
ORGANIZER;CN="Waco Civic Theatre":MAILTO:boxoffice@wacocivictheatre.org
END:VEVENT
BEGIN:VEVENT
DTSTART;TZID=America/Chicago:20250504T143000
DTEND;TZID=America/Chicago:20250504T170000
DTSTAMP:20260424T014753
CREATED:20250419T123609Z
LAST-MODIFIED:20250419T123609Z
UID:1778-1746369000-1746378000@wacoactorsguild.org
SUMMARY:I Love You\, You're Perfect\, Now Change
DESCRIPTION:I Love You\, You’re Perfect\, Now Change – Performance\n\nExplore the contemporary heterosexual courtship by using a two time-tested coping mechanism for the traumas and elations of love—humor and music. I Love You\, You’re Perfect reveals the difficulties and joys of connecting with another person at nearly every stage of life. \n\n[Tickets: https://ci.ovationtix.com/35622/production/1216295]
URL:https://wacoactorsguild.org/stagelink/i-love-you-youre-perfect-now-change-3/
LOCATION:Waco Civic Theatre\, 1517 Lake Air Drive\, Waco\, TX\, 76710\, United States
CATEGORIES:Waco Civic Theatre
ATTACH;FMTTYPE=image/jpeg:https://wacoactorsguild.org/wp-content/uploads/2025/04/ClientFile547524.jpg
ORGANIZER;CN="Waco Civic Theatre":MAILTO:boxoffice@wacocivictheatre.org
END:VEVENT
BEGIN:VEVENT
DTSTART;TZID=America/Chicago:20250510T110000
DTEND;TZID=America/Chicago:20250510T120000
DTSTAMP:20260424T014753
CREATED:20250430T213228Z
LAST-MODIFIED:20250430T213228Z
UID:1850-1746874800-1746878400@wacoactorsguild.org
SUMMARY:Elephant & Piggie's: We Are In A Play!
DESCRIPTION:Elephant & Piggie’s: We Are In A Play! – Performance\nGet ready for giggles\, songs\, and unstoppable silliness as Mo Willems’ beloved characters come to life in Elephant & Piggie’s “We Are In A Play!” — the perfect show for young audiences (and the young at heart)! Join best friends Gerald and Piggie as they sing\, dance\, and discover the true meaning of friendship in this laugh-out-loud musical adventure that will have audiences of all ages clapping along! \nDate: Saturday\, May 10 \nShowtimes: 11:00am and 1:30pm \nLocation: Mayborn Museum \n***Tickets are FREE and included with Mayborn general admission \n[Tickets: https://71342.blackbaudhosting.com/71342/tickets?tab=3&txobjid=1b87ef14-b89d-4a5c-803f-79124cc2bcd8]
URL:https://wacoactorsguild.org/stagelink/elephant-piggies-we-are-in-a-play/
LOCATION:Mayborn Museum\, 1300 S. University Parks\, Waco\, TX\, 76706\, United States
CATEGORIES:Waco Civic Theatre
ATTACH;FMTTYPE=image/jpeg:https://wacoactorsguild.org/wp-content/uploads/2025/04/thumbnail_image001.jpg
ORGANIZER;CN="Waco Civic Theatre":MAILTO:boxoffice@wacocivictheatre.org
END:VEVENT
BEGIN:VEVENT
DTSTART;TZID=America/Chicago:20250510T133000
DTEND;TZID=America/Chicago:20250510T143000
DTSTAMP:20260424T014753
CREATED:20250430T213336Z
LAST-MODIFIED:20250430T213336Z
UID:1854-1746883800-1746887400@wacoactorsguild.org
SUMMARY:Elephant & Piggie's: We Are In A Play!
DESCRIPTION:Elephant & Piggie’s: We Are In A Play! – Performance\nGet ready for giggles\, songs\, and unstoppable silliness as Mo Willems’ beloved characters come to life in Elephant & Piggie’s “We Are In A Play!” — the perfect show for young audiences (and the young at heart)! Join best friends Gerald and Piggie as they sing\, dance\, and discover the true meaning of friendship in this laugh-out-loud musical adventure that will have audiences of all ages clapping along! \nDate: Saturday\, May 10 \nShowtimes: 11:00am and 1:30pm \nLocation: Mayborn Museum \n***Tickets are FREE and included with Mayborn general admission \n[Tickets: https://71342.blackbaudhosting.com/71342/tickets?tab=3&txobjid=1b87ef14-b89d-4a5c-803f-79124cc2bcd8]
URL:https://wacoactorsguild.org/stagelink/elephant-piggies-we-are-in-a-play-2/
LOCATION:Mayborn Museum\, 1300 S. University Parks\, Waco\, TX\, 76706\, United States
CATEGORIES:Waco Civic Theatre
ATTACH;FMTTYPE=image/jpeg:https://wacoactorsguild.org/wp-content/uploads/2025/04/thumbnail_image001.jpg
ORGANIZER;CN="Waco Civic Theatre":MAILTO:boxoffice@wacocivictheatre.org
END:VEVENT
BEGIN:VEVENT
DTSTART;TZID=America/Chicago:20250510T180000
DTEND;TZID=America/Chicago:20250510T210000
DTSTAMP:20260424T014753
CREATED:20250421T004707Z
LAST-MODIFIED:20250421T004707Z
UID:1785-1746900000-1746910800@wacoactorsguild.org
SUMMARY:Callbacks: A Capella
DESCRIPTION:Callbacks: A Capella – Performance\nCome hear the Callbacks in concert on May 10 at 6 pm at the North Village Community Center 1201 S University Parks Dr Waco\, TX 76706 United States.\nIt’s an awesome group of theatre people and we’ve had so much fun making music together!!! Special thanks to Therapy Center Stage for hosting us for our first concert!!! \n[Hosted by Therapy Center Stage]
URL:https://wacoactorsguild.org/stagelink/callbacks-a-capella/
LOCATION:North Village Community Center\, 1201 S University Parks Dr\, Waco\, TX\, 76706\, United States
CATEGORIES:Other
ATTACH;FMTTYPE=image/jpeg:https://wacoactorsguild.org/wp-content/uploads/2025/04/491444522_18501940984009600_1072086584855189967_n.jpg
END:VEVENT
BEGIN:VEVENT
DTSTART;TZID=America/Chicago:20250515T193000
DTEND;TZID=America/Chicago:20250515T220000
DTSTAMP:20260424T014753
CREATED:20250429T203517Z
LAST-MODIFIED:20250429T203517Z
UID:1815-1747337400-1747346400@wacoactorsguild.org
SUMMARY:My Fair Lady
DESCRIPTION:My Fair Lady: A Classic Reborn – Performance\n\nExperience the timeless elegance and wit of Lerner and Loewe’s masterpiece\, My Fair Lady. This beloved musical\, based on George Bernard Shaw’s Pygmalion\, tells the enchanting story of Eliza Doolittle\, a Cockney flower girl transformed into a refined lady by the arrogant phonetics professor\, Henry Higgins.   \nWith a dazzling score by Frederick Loewe and lyrics by Alan Jay Lerner\, featuring iconic songs like “I Could Have Danced All Night” and “Get Me To The Church On Time\,” My Fair Lady is a musical theater treasure.  \nPrepare to be swept away by the magic of transformation as Eliza discovers her own voice and independence. Don’t miss this opportunity to experience the brilliance of Lerner and Loewe live on stage. \n[Tickets: https://ci.ovationtix.com/35622/production/1216290]
URL:https://wacoactorsguild.org/stagelink/my-fair-lady/
LOCATION:Waco Civic Theatre\, 1517 Lake Air Drive\, Waco\, TX\, 76710\, United States
CATEGORIES:Waco Civic Theatre
ATTACH;FMTTYPE=image/jpeg:https://wacoactorsguild.org/wp-content/uploads/2025/02/ClientFile547521.jpg
ORGANIZER;CN="Waco Civic Theatre":MAILTO:boxoffice@wacocivictheatre.org
END:VEVENT
BEGIN:VEVENT
DTSTART;TZID=America/Chicago:20250517T143000
DTEND;TZID=America/Chicago:20250517T170000
DTSTAMP:20260424T014753
CREATED:20250429T204003Z
LAST-MODIFIED:20250429T204003Z
UID:1819-1747492200-1747501200@wacoactorsguild.org
SUMMARY:My Fair Lady
DESCRIPTION:My Fair Lady: A Classic Reborn – Performance\n\nExperience the timeless elegance and wit of Lerner and Loewe’s masterpiece\, My Fair Lady. This beloved musical\, based on George Bernard Shaw’s Pygmalion\, tells the enchanting story of Eliza Doolittle\, a Cockney flower girl transformed into a refined lady by the arrogant phonetics professor\, Henry Higgins.   \nWith a dazzling score by Frederick Loewe and lyrics by Alan Jay Lerner\, featuring iconic songs like “I Could Have Danced All Night” and “Get Me To The Church On Time\,” My Fair Lady is a musical theater treasure.  \nPrepare to be swept away by the magic of transformation as Eliza discovers her own voice and independence. Don’t miss this opportunity to experience the brilliance of Lerner and Loewe live on stage. \n[Tickets: https://ci.ovationtix.com/35622/production/1216290]
URL:https://wacoactorsguild.org/stagelink/my-fair-lady-3/
LOCATION:Waco Civic Theatre\, 1517 Lake Air Drive\, Waco\, TX\, 76710\, United States
CATEGORIES:Waco Civic Theatre
ATTACH;FMTTYPE=image/jpeg:https://wacoactorsguild.org/wp-content/uploads/2025/02/ClientFile547521.jpg
ORGANIZER;CN="Waco Civic Theatre":MAILTO:boxoffice@wacocivictheatre.org
END:VEVENT
BEGIN:VEVENT
DTSTART;TZID=America/Chicago:20250517T193000
DTEND;TZID=America/Chicago:20250517T220000
DTSTAMP:20260424T014753
CREATED:20250429T204057Z
LAST-MODIFIED:20250429T204057Z
UID:1821-1747510200-1747519200@wacoactorsguild.org
SUMMARY:My Fair Lady
DESCRIPTION:My Fair Lady: A Classic Reborn – Performance\n\nExperience the timeless elegance and wit of Lerner and Loewe’s masterpiece\, My Fair Lady. This beloved musical\, based on George Bernard Shaw’s Pygmalion\, tells the enchanting story of Eliza Doolittle\, a Cockney flower girl transformed into a refined lady by the arrogant phonetics professor\, Henry Higgins.   \nWith a dazzling score by Frederick Loewe and lyrics by Alan Jay Lerner\, featuring iconic songs like “I Could Have Danced All Night” and “Get Me To The Church On Time\,” My Fair Lady is a musical theater treasure.  \nPrepare to be swept away by the magic of transformation as Eliza discovers her own voice and independence. Don’t miss this opportunity to experience the brilliance of Lerner and Loewe live on stage. \n[Tickets: https://ci.ovationtix.com/35622/production/1216290]
URL:https://wacoactorsguild.org/stagelink/my-fair-lady-4/
LOCATION:Waco Civic Theatre\, 1517 Lake Air Drive\, Waco\, TX\, 76710\, United States
CATEGORIES:Waco Civic Theatre
ATTACH;FMTTYPE=image/jpeg:https://wacoactorsguild.org/wp-content/uploads/2025/02/ClientFile547521.jpg
ORGANIZER;CN="Waco Civic Theatre":MAILTO:boxoffice@wacocivictheatre.org
END:VEVENT
BEGIN:VEVENT
DTSTART;TZID=America/Chicago:20250517T200000
DTEND;TZID=America/Chicago:20250517T220000
DTSTAMP:20260424T014753
CREATED:20250429T210131Z
LAST-MODIFIED:20250429T210131Z
UID:1845-1747512000-1747519200@wacoactorsguild.org
SUMMARY:Comedy at the Brazos: A Stand Up Comedy Showcase
DESCRIPTION:Comedy at the Brazos: A Stand Up Comedy Showcase – Performance\nSaturday\, May 17\, 8:00\n​Doors open at 7:15 \nGet ready for a hilarious night of stand-up comedy at Comedy at the Brazos on Friday\, April 19th at 8 PM! We’re bringing you a lineup of side-splitting comedians\, each ready to deliver punchlines sharper than a Texas brisket knife!\nWhether you love clever observations\, absurd stories\, or good ol’ fashioned belly laughs\, this show has something for everyone. So grab a drink\, find your seat\, and get ready to laugh ‘til your face hurts! \n[Tickets: https://brazostheatre.ludus.com/index.php?show_id=200483753]
URL:https://wacoactorsguild.org/stagelink/comedy-at-the-brazos-a-stand-up-comedy-showcase-2/
LOCATION:Brazos Theatre of Waco\, 7524 Bosque Blvd.\, Suite Q\, Waco\, TX\, 76712\, United States
CATEGORIES:Brazos Theatre
ATTACH;FMTTYPE=image/png:https://wacoactorsguild.org/wp-content/uploads/2025/04/comedy-05-2025-insta-sm_orig.png
ORGANIZER;CN="Brazos Theatre of Waco":MAILTO:brazostheatre@gmail.com
END:VEVENT
BEGIN:VEVENT
DTSTART;TZID=America/Chicago:20250518T143000
DTEND;TZID=America/Chicago:20250518T170000
DTSTAMP:20260424T014753
CREATED:20250429T204152Z
LAST-MODIFIED:20250429T204152Z
UID:1823-1747578600-1747587600@wacoactorsguild.org
SUMMARY:My Fair Lady
DESCRIPTION:My Fair Lady: A Classic Reborn – Performance\n\nExperience the timeless elegance and wit of Lerner and Loewe’s masterpiece\, My Fair Lady. This beloved musical\, based on George Bernard Shaw’s Pygmalion\, tells the enchanting story of Eliza Doolittle\, a Cockney flower girl transformed into a refined lady by the arrogant phonetics professor\, Henry Higgins.   \nWith a dazzling score by Frederick Loewe and lyrics by Alan Jay Lerner\, featuring iconic songs like “I Could Have Danced All Night” and “Get Me To The Church On Time\,” My Fair Lady is a musical theater treasure.  \nPrepare to be swept away by the magic of transformation as Eliza discovers her own voice and independence. Don’t miss this opportunity to experience the brilliance of Lerner and Loewe live on stage. \n[Tickets: https://ci.ovationtix.com/35622/production/1216290]
URL:https://wacoactorsguild.org/stagelink/my-fair-lady-5/
LOCATION:Waco Civic Theatre\, 1517 Lake Air Drive\, Waco\, TX\, 76710\, United States
CATEGORIES:Waco Civic Theatre
ATTACH;FMTTYPE=image/jpeg:https://wacoactorsguild.org/wp-content/uploads/2025/02/ClientFile547521.jpg
ORGANIZER;CN="Waco Civic Theatre":MAILTO:boxoffice@wacocivictheatre.org
END:VEVENT
BEGIN:VEVENT
DTSTART;TZID=America/Chicago:20250522T193000
DTEND;TZID=America/Chicago:20250522T220000
DTSTAMP:20260424T014753
CREATED:20250429T204249Z
LAST-MODIFIED:20250429T204249Z
UID:1825-1747942200-1747951200@wacoactorsguild.org
SUMMARY:My Fair Lady
DESCRIPTION:My Fair Lady: A Classic Reborn – Performance\n\nExperience the timeless elegance and wit of Lerner and Loewe’s masterpiece\, My Fair Lady. This beloved musical\, based on George Bernard Shaw’s Pygmalion\, tells the enchanting story of Eliza Doolittle\, a Cockney flower girl transformed into a refined lady by the arrogant phonetics professor\, Henry Higgins.   \nWith a dazzling score by Frederick Loewe and lyrics by Alan Jay Lerner\, featuring iconic songs like “I Could Have Danced All Night” and “Get Me To The Church On Time\,” My Fair Lady is a musical theater treasure.  \nPrepare to be swept away by the magic of transformation as Eliza discovers her own voice and independence. Don’t miss this opportunity to experience the brilliance of Lerner and Loewe live on stage. \n[Tickets: https://ci.ovationtix.com/35622/production/1216290]
URL:https://wacoactorsguild.org/stagelink/my-fair-lady-6/
LOCATION:Waco Civic Theatre\, 1517 Lake Air Drive\, Waco\, TX\, 76710\, United States
CATEGORIES:Waco Civic Theatre
ATTACH;FMTTYPE=image/jpeg:https://wacoactorsguild.org/wp-content/uploads/2025/02/ClientFile547521.jpg
ORGANIZER;CN="Waco Civic Theatre":MAILTO:boxoffice@wacocivictheatre.org
END:VEVENT
BEGIN:VEVENT
DTSTART;TZID=America/Chicago:20250523T193000
DTEND;TZID=America/Chicago:20250523T220000
DTSTAMP:20260424T014753
CREATED:20250429T204331Z
LAST-MODIFIED:20250429T204331Z
UID:1827-1748028600-1748037600@wacoactorsguild.org
SUMMARY:My Fair Lady
DESCRIPTION:My Fair Lady: A Classic Reborn – Performance\n\nExperience the timeless elegance and wit of Lerner and Loewe’s masterpiece\, My Fair Lady. This beloved musical\, based on George Bernard Shaw’s Pygmalion\, tells the enchanting story of Eliza Doolittle\, a Cockney flower girl transformed into a refined lady by the arrogant phonetics professor\, Henry Higgins.   \nWith a dazzling score by Frederick Loewe and lyrics by Alan Jay Lerner\, featuring iconic songs like “I Could Have Danced All Night” and “Get Me To The Church On Time\,” My Fair Lady is a musical theater treasure.  \nPrepare to be swept away by the magic of transformation as Eliza discovers her own voice and independence. Don’t miss this opportunity to experience the brilliance of Lerner and Loewe live on stage. \n[Tickets: https://ci.ovationtix.com/35622/production/1216290]
URL:https://wacoactorsguild.org/stagelink/my-fair-lady-7/
LOCATION:Waco Civic Theatre\, 1517 Lake Air Drive\, Waco\, TX\, 76710\, United States
CATEGORIES:Waco Civic Theatre
ATTACH;FMTTYPE=image/jpeg:https://wacoactorsguild.org/wp-content/uploads/2025/02/ClientFile547521.jpg
ORGANIZER;CN="Waco Civic Theatre":MAILTO:boxoffice@wacocivictheatre.org
END:VEVENT
BEGIN:VEVENT
DTSTART;TZID=America/Chicago:20250524T143000
DTEND;TZID=America/Chicago:20250524T170000
DTSTAMP:20260424T014753
CREATED:20250429T204419Z
LAST-MODIFIED:20250429T204419Z
UID:1829-1748097000-1748106000@wacoactorsguild.org
SUMMARY:My Fair Lady
DESCRIPTION:My Fair Lady: A Classic Reborn – Performance\n\nExperience the timeless elegance and wit of Lerner and Loewe’s masterpiece\, My Fair Lady. This beloved musical\, based on George Bernard Shaw’s Pygmalion\, tells the enchanting story of Eliza Doolittle\, a Cockney flower girl transformed into a refined lady by the arrogant phonetics professor\, Henry Higgins.   \nWith a dazzling score by Frederick Loewe and lyrics by Alan Jay Lerner\, featuring iconic songs like “I Could Have Danced All Night” and “Get Me To The Church On Time\,” My Fair Lady is a musical theater treasure.  \nPrepare to be swept away by the magic of transformation as Eliza discovers her own voice and independence. Don’t miss this opportunity to experience the brilliance of Lerner and Loewe live on stage. \n[Tickets: https://ci.ovationtix.com/35622/production/1216290]
URL:https://wacoactorsguild.org/stagelink/my-fair-lady-8/
LOCATION:Waco Civic Theatre\, 1517 Lake Air Drive\, Waco\, TX\, 76710\, United States
CATEGORIES:Waco Civic Theatre
ATTACH;FMTTYPE=image/jpeg:https://wacoactorsguild.org/wp-content/uploads/2025/02/ClientFile547521.jpg
ORGANIZER;CN="Waco Civic Theatre":MAILTO:boxoffice@wacocivictheatre.org
END:VEVENT
BEGIN:VEVENT
DTSTART;TZID=America/Chicago:20250524T193000
DTEND;TZID=America/Chicago:20250524T220000
DTSTAMP:20260424T014753
CREATED:20250429T204508Z
LAST-MODIFIED:20250429T204508Z
UID:1831-1748115000-1748124000@wacoactorsguild.org
SUMMARY:My Fair Lady
DESCRIPTION:My Fair Lady: A Classic Reborn – Performance\n\nExperience the timeless elegance and wit of Lerner and Loewe’s masterpiece\, My Fair Lady. This beloved musical\, based on George Bernard Shaw’s Pygmalion\, tells the enchanting story of Eliza Doolittle\, a Cockney flower girl transformed into a refined lady by the arrogant phonetics professor\, Henry Higgins.   \nWith a dazzling score by Frederick Loewe and lyrics by Alan Jay Lerner\, featuring iconic songs like “I Could Have Danced All Night” and “Get Me To The Church On Time\,” My Fair Lady is a musical theater treasure.  \nPrepare to be swept away by the magic of transformation as Eliza discovers her own voice and independence. Don’t miss this opportunity to experience the brilliance of Lerner and Loewe live on stage. \n[Tickets: https://ci.ovationtix.com/35622/production/1216290]
URL:https://wacoactorsguild.org/stagelink/my-fair-lady-9/
LOCATION:Waco Civic Theatre\, 1517 Lake Air Drive\, Waco\, TX\, 76710\, United States
CATEGORIES:Waco Civic Theatre
ATTACH;FMTTYPE=image/jpeg:https://wacoactorsguild.org/wp-content/uploads/2025/02/ClientFile547521.jpg
ORGANIZER;CN="Waco Civic Theatre":MAILTO:boxoffice@wacocivictheatre.org
END:VEVENT
BEGIN:VEVENT
DTSTART;TZID=America/Chicago:20250525T143000
DTEND;TZID=America/Chicago:20250525T170000
DTSTAMP:20260424T014753
CREATED:20250429T204603Z
LAST-MODIFIED:20250429T204603Z
UID:1833-1748183400-1748192400@wacoactorsguild.org
SUMMARY:My Fair Lady
DESCRIPTION:My Fair Lady: A Classic Reborn – Performance\n\nExperience the timeless elegance and wit of Lerner and Loewe’s masterpiece\, My Fair Lady. This beloved musical\, based on George Bernard Shaw’s Pygmalion\, tells the enchanting story of Eliza Doolittle\, a Cockney flower girl transformed into a refined lady by the arrogant phonetics professor\, Henry Higgins.   \nWith a dazzling score by Frederick Loewe and lyrics by Alan Jay Lerner\, featuring iconic songs like “I Could Have Danced All Night” and “Get Me To The Church On Time\,” My Fair Lady is a musical theater treasure.  \nPrepare to be swept away by the magic of transformation as Eliza discovers her own voice and independence. Don’t miss this opportunity to experience the brilliance of Lerner and Loewe live on stage. \n[Tickets: https://ci.ovationtix.com/35622/production/1216290]
URL:https://wacoactorsguild.org/stagelink/my-fair-lady-10/
LOCATION:Waco Civic Theatre\, 1517 Lake Air Drive\, Waco\, TX\, 76710\, United States
CATEGORIES:Waco Civic Theatre
ATTACH;FMTTYPE=image/jpeg:https://wacoactorsguild.org/wp-content/uploads/2025/02/ClientFile547521.jpg
ORGANIZER;CN="Waco Civic Theatre":MAILTO:boxoffice@wacocivictheatre.org
END:VEVENT
BEGIN:VEVENT
DTSTART;TZID=America/Chicago:20250529T193000
DTEND;TZID=America/Chicago:20250529T220000
DTSTAMP:20260424T014753
CREATED:20250429T204656Z
LAST-MODIFIED:20250429T204656Z
UID:1835-1748547000-1748556000@wacoactorsguild.org
SUMMARY:My Fair Lady
DESCRIPTION:My Fair Lady: A Classic Reborn – Performance\n\nExperience the timeless elegance and wit of Lerner and Loewe’s masterpiece\, My Fair Lady. This beloved musical\, based on George Bernard Shaw’s Pygmalion\, tells the enchanting story of Eliza Doolittle\, a Cockney flower girl transformed into a refined lady by the arrogant phonetics professor\, Henry Higgins.   \nWith a dazzling score by Frederick Loewe and lyrics by Alan Jay Lerner\, featuring iconic songs like “I Could Have Danced All Night” and “Get Me To The Church On Time\,” My Fair Lady is a musical theater treasure.  \nPrepare to be swept away by the magic of transformation as Eliza discovers her own voice and independence. Don’t miss this opportunity to experience the brilliance of Lerner and Loewe live on stage. \n[Tickets: https://ci.ovationtix.com/35622/production/1216290]
URL:https://wacoactorsguild.org/stagelink/my-fair-lady-11/
LOCATION:Waco Civic Theatre\, 1517 Lake Air Drive\, Waco\, TX\, 76710\, United States
CATEGORIES:Waco Civic Theatre
ATTACH;FMTTYPE=image/jpeg:https://wacoactorsguild.org/wp-content/uploads/2025/02/ClientFile547521.jpg
ORGANIZER;CN="Waco Civic Theatre":MAILTO:boxoffice@wacocivictheatre.org
END:VEVENT
BEGIN:VEVENT
DTSTART;TZID=America/Chicago:20250530T193000
DTEND;TZID=America/Chicago:20250530T210000
DTSTAMP:20260424T014753
CREATED:20250517T215612Z
LAST-MODIFIED:20250517T215612Z
UID:1872-1748633400-1748638800@wacoactorsguild.org
SUMMARY:S.H.I.T Show
DESCRIPTION:S.H.I.T Show – Performance\nThe S.H.I.T Show is backkkkk and we promise it will be the funniest mess you’ll ever see. 😉Come watch some hilarious people\, do some awesome S.H.I.T (improv\, sketches\, and more) \n[Tickets: https://www.tickettailor.com/events/silenthouse/1700972]
URL:https://wacoactorsguild.org/stagelink/s-h-i-t-show-2/
LOCATION:The PACC\, 924 Austin Ave Suit 150\, Waco\, TX\, 76701\, United States
CATEGORIES:Silent House Theatre
ATTACH;FMTTYPE=image/webp:https://wacoactorsguild.org/wp-content/uploads/2025/05/498603063_18049516382581685_6121826823018686444_n.webp
ORGANIZER;CN="Silent House Theatre Co.":MAILTO:silenthousetheatre@gmail.com
END:VEVENT
BEGIN:VEVENT
DTSTART;TZID=America/Chicago:20250530T193000
DTEND;TZID=America/Chicago:20250530T220000
DTSTAMP:20260424T014753
CREATED:20250429T204749Z
LAST-MODIFIED:20250429T204749Z
UID:1837-1748633400-1748642400@wacoactorsguild.org
SUMMARY:My Fair Lady
DESCRIPTION:My Fair Lady: A Classic Reborn – Performance\n\nExperience the timeless elegance and wit of Lerner and Loewe’s masterpiece\, My Fair Lady. This beloved musical\, based on George Bernard Shaw’s Pygmalion\, tells the enchanting story of Eliza Doolittle\, a Cockney flower girl transformed into a refined lady by the arrogant phonetics professor\, Henry Higgins.   \nWith a dazzling score by Frederick Loewe and lyrics by Alan Jay Lerner\, featuring iconic songs like “I Could Have Danced All Night” and “Get Me To The Church On Time\,” My Fair Lady is a musical theater treasure.  \nPrepare to be swept away by the magic of transformation as Eliza discovers her own voice and independence. Don’t miss this opportunity to experience the brilliance of Lerner and Loewe live on stage. \n[Tickets: https://ci.ovationtix.com/35622/production/1216290]
URL:https://wacoactorsguild.org/stagelink/my-fair-lady-12/
LOCATION:Waco Civic Theatre\, 1517 Lake Air Drive\, Waco\, TX\, 76710\, United States
CATEGORIES:Waco Civic Theatre
ATTACH;FMTTYPE=image/jpeg:https://wacoactorsguild.org/wp-content/uploads/2025/02/ClientFile547521.jpg
ORGANIZER;CN="Waco Civic Theatre":MAILTO:boxoffice@wacocivictheatre.org
END:VEVENT
BEGIN:VEVENT
DTSTART;TZID=America/Chicago:20250531T143000
DTEND;TZID=America/Chicago:20250531T170000
DTSTAMP:20260424T014753
CREATED:20250429T204836Z
LAST-MODIFIED:20250429T204836Z
UID:1839-1748701800-1748710800@wacoactorsguild.org
SUMMARY:My Fair Lady
DESCRIPTION:My Fair Lady: A Classic Reborn – Performance\n\nExperience the timeless elegance and wit of Lerner and Loewe’s masterpiece\, My Fair Lady. This beloved musical\, based on George Bernard Shaw’s Pygmalion\, tells the enchanting story of Eliza Doolittle\, a Cockney flower girl transformed into a refined lady by the arrogant phonetics professor\, Henry Higgins.   \nWith a dazzling score by Frederick Loewe and lyrics by Alan Jay Lerner\, featuring iconic songs like “I Could Have Danced All Night” and “Get Me To The Church On Time\,” My Fair Lady is a musical theater treasure.  \nPrepare to be swept away by the magic of transformation as Eliza discovers her own voice and independence. Don’t miss this opportunity to experience the brilliance of Lerner and Loewe live on stage. \n[Tickets: https://ci.ovationtix.com/35622/production/1216290]
URL:https://wacoactorsguild.org/stagelink/my-fair-lady-13/
LOCATION:Waco Civic Theatre\, 1517 Lake Air Drive\, Waco\, TX\, 76710\, United States
CATEGORIES:Waco Civic Theatre
ATTACH;FMTTYPE=image/jpeg:https://wacoactorsguild.org/wp-content/uploads/2025/02/ClientFile547521.jpg
ORGANIZER;CN="Waco Civic Theatre":MAILTO:boxoffice@wacocivictheatre.org
END:VEVENT
BEGIN:VEVENT
DTSTART;TZID=America/Chicago:20250531T193000
DTEND;TZID=America/Chicago:20250531T220000
DTSTAMP:20260424T014753
CREATED:20250429T205258Z
LAST-MODIFIED:20250429T205258Z
UID:1841-1748719800-1748728800@wacoactorsguild.org
SUMMARY:My Fair Lady
DESCRIPTION:My Fair Lady: A Classic Reborn – Performance\n\nExperience the timeless elegance and wit of Lerner and Loewe’s masterpiece\, My Fair Lady. This beloved musical\, based on George Bernard Shaw’s Pygmalion\, tells the enchanting story of Eliza Doolittle\, a Cockney flower girl transformed into a refined lady by the arrogant phonetics professor\, Henry Higgins.   \nWith a dazzling score by Frederick Loewe and lyrics by Alan Jay Lerner\, featuring iconic songs like “I Could Have Danced All Night” and “Get Me To The Church On Time\,” My Fair Lady is a musical theater treasure.  \nPrepare to be swept away by the magic of transformation as Eliza discovers her own voice and independence. Don’t miss this opportunity to experience the brilliance of Lerner and Loewe live on stage. \n[Tickets: https://ci.ovationtix.com/35622/production/1216290]
URL:https://wacoactorsguild.org/stagelink/my-fair-lady-14/
LOCATION:Waco Civic Theatre\, 1517 Lake Air Drive\, Waco\, TX\, 76710\, United States
CATEGORIES:Waco Civic Theatre
ATTACH;FMTTYPE=image/jpeg:https://wacoactorsguild.org/wp-content/uploads/2025/02/ClientFile547521.jpg
ORGANIZER;CN="Waco Civic Theatre":MAILTO:boxoffice@wacocivictheatre.org
END:VEVENT
END:VCALENDAR