BEGIN:VCALENDAR
VERSION:2.0
PRODID:-//Waco Actors&#039; Guild - ECPv6.15.20//NONSGML v1.0//EN
CALSCALE:GREGORIAN
METHOD:PUBLISH
X-WR-CALNAME:Waco Actors&#039; Guild
X-ORIGINAL-URL:https://wacoactorsguild.org
X-WR-CALDESC:Events for Waco Actors&#039; Guild
REFRESH-INTERVAL;VALUE=DURATION:PT1H
X-Robots-Tag:noindex
X-PUBLISHED-TTL:PT1H
BEGIN:VTIMEZONE
TZID:America/Chicago
BEGIN:DAYLIGHT
TZOFFSETFROM:-0600
TZOFFSETTO:-0500
TZNAME:CDT
DTSTART:20240310T080000
END:DAYLIGHT
BEGIN:STANDARD
TZOFFSETFROM:-0500
TZOFFSETTO:-0600
TZNAME:CST
DTSTART:20241103T070000
END:STANDARD
BEGIN:DAYLIGHT
TZOFFSETFROM:-0600
TZOFFSETTO:-0500
TZNAME:CDT
DTSTART:20250309T080000
END:DAYLIGHT
BEGIN:STANDARD
TZOFFSETFROM:-0500
TZOFFSETTO:-0600
TZNAME:CST
DTSTART:20251102T070000
END:STANDARD
BEGIN:DAYLIGHT
TZOFFSETFROM:-0600
TZOFFSETTO:-0500
TZNAME:CDT
DTSTART:20260308T080000
END:DAYLIGHT
BEGIN:STANDARD
TZOFFSETFROM:-0500
TZOFFSETTO:-0600
TZNAME:CST
DTSTART:20261101T070000
END:STANDARD
END:VTIMEZONE
BEGIN:VEVENT
DTSTART;TZID=America/Chicago:20251204T193000
DTEND;TZID=America/Chicago:20251204T210000
DTSTAMP:20260423T173838
CREATED:20251119T174342Z
LAST-MODIFIED:20251119T174342Z
UID:2901-1764876600-1764882000@wacoactorsguild.org
SUMMARY:Every Christmas Story Ever Told (And Then Some)
DESCRIPTION:Every Christmas Story Ever Told (And Then Some) – Performance\nWhat begins as a simple retelling of A Christmas Carol quickly snowballs into a laugh-out-loud sprint through every Christmas story ever written — from Rudolph and Frosty to global traditions and holiday chaos you never saw coming. Three actors\, dozens of characters\, and an avalanche of festive fun make this the ultimate holiday mash-up. \nAudiences have called it “the most fun you’ll have this season” and “a fast\, funny\, and surprisingly heartwarming holiday gift.” \nPacked with humor\, heart\, and more holiday spirit than a mug of spiced cider\, this show is a joyous reminder that Christmas isn’t just one story — it’s every story we share\, laugh over\, and cherish together. \n[Tickets: https://ci.ovationtix.com/35622/production/1231962]
URL:https://wacoactorsguild.org/stagelink/every-christmas-story-ever-told-and-then-some/
LOCATION:Waco Civic Theatre\, 1517 Lake Air Drive\, Waco\, TX\, 76710\, United States
CATEGORIES:Waco Civic Theatre
ATTACH;FMTTYPE=image/png:https://wacoactorsguild.org/wp-content/uploads/2025/10/E6887E8BB846111240791274D9B0F370_146892701.png
ORGANIZER;CN="Waco Civic Theatre":MAILTO:boxoffice@wacocivictheatre.org
END:VEVENT
BEGIN:VEVENT
DTSTART;TZID=America/Chicago:20251205T193000
DTEND;TZID=America/Chicago:20251205T210000
DTSTAMP:20260423T173838
CREATED:20251119T174451Z
LAST-MODIFIED:20251119T174451Z
UID:2903-1764963000-1764968400@wacoactorsguild.org
SUMMARY:Every Christmas Story Ever Told (And Then Some)
DESCRIPTION:Every Christmas Story Ever Told (And Then Some) – Performance\nWhat begins as a simple retelling of A Christmas Carol quickly snowballs into a laugh-out-loud sprint through every Christmas story ever written — from Rudolph and Frosty to global traditions and holiday chaos you never saw coming. Three actors\, dozens of characters\, and an avalanche of festive fun make this the ultimate holiday mash-up. \nAudiences have called it “the most fun you’ll have this season” and “a fast\, funny\, and surprisingly heartwarming holiday gift.” \nPacked with humor\, heart\, and more holiday spirit than a mug of spiced cider\, this show is a joyous reminder that Christmas isn’t just one story — it’s every story we share\, laugh over\, and cherish together. \n[Tickets: https://ci.ovationtix.com/35622/production/1231962]
URL:https://wacoactorsguild.org/stagelink/every-christmas-story-ever-told-and-then-some-2/
LOCATION:Waco Civic Theatre\, 1517 Lake Air Drive\, Waco\, TX\, 76710\, United States
CATEGORIES:Waco Civic Theatre
ATTACH;FMTTYPE=image/png:https://wacoactorsguild.org/wp-content/uploads/2025/10/E6887E8BB846111240791274D9B0F370_146892701.png
ORGANIZER;CN="Waco Civic Theatre":MAILTO:boxoffice@wacocivictheatre.org
END:VEVENT
BEGIN:VEVENT
DTSTART;TZID=America/Chicago:20251206T143000
DTEND;TZID=America/Chicago:20251206T170000
DTSTAMP:20260423T173838
CREATED:20251119T174550Z
LAST-MODIFIED:20251119T174550Z
UID:2905-1765031400-1765040400@wacoactorsguild.org
SUMMARY:Every Christmas Story Ever Told (And Then Some)
DESCRIPTION:Every Christmas Story Ever Told (And Then Some) – Performance\nWhat begins as a simple retelling of A Christmas Carol quickly snowballs into a laugh-out-loud sprint through every Christmas story ever written — from Rudolph and Frosty to global traditions and holiday chaos you never saw coming. Three actors\, dozens of characters\, and an avalanche of festive fun make this the ultimate holiday mash-up. \nAudiences have called it “the most fun you’ll have this season” and “a fast\, funny\, and surprisingly heartwarming holiday gift.” \nPacked with humor\, heart\, and more holiday spirit than a mug of spiced cider\, this show is a joyous reminder that Christmas isn’t just one story — it’s every story we share\, laugh over\, and cherish together. \n[Tickets: https://ci.ovationtix.com/35622/production/1231962]
URL:https://wacoactorsguild.org/stagelink/every-christmas-story-ever-told-and-then-some-3/
LOCATION:Waco Civic Theatre\, 1517 Lake Air Drive\, Waco\, TX\, 76710\, United States
CATEGORIES:Waco Civic Theatre
ATTACH;FMTTYPE=image/png:https://wacoactorsguild.org/wp-content/uploads/2025/10/E6887E8BB846111240791274D9B0F370_146892701.png
ORGANIZER;CN="Waco Civic Theatre":MAILTO:boxoffice@wacocivictheatre.org
END:VEVENT
BEGIN:VEVENT
DTSTART;TZID=America/Chicago:20251206T193000
DTEND;TZID=America/Chicago:20251206T210000
DTSTAMP:20260423T173838
CREATED:20251119T174649Z
LAST-MODIFIED:20251119T174649Z
UID:2907-1765049400-1765054800@wacoactorsguild.org
SUMMARY:Every Christmas Story Ever Told (And Then Some)
DESCRIPTION:Every Christmas Story Ever Told (And Then Some) – Performance\nWhat begins as a simple retelling of A Christmas Carol quickly snowballs into a laugh-out-loud sprint through every Christmas story ever written — from Rudolph and Frosty to global traditions and holiday chaos you never saw coming. Three actors\, dozens of characters\, and an avalanche of festive fun make this the ultimate holiday mash-up. \nAudiences have called it “the most fun you’ll have this season” and “a fast\, funny\, and surprisingly heartwarming holiday gift.” \nPacked with humor\, heart\, and more holiday spirit than a mug of spiced cider\, this show is a joyous reminder that Christmas isn’t just one story — it’s every story we share\, laugh over\, and cherish together. \n[Tickets: https://ci.ovationtix.com/35622/production/1231962]
URL:https://wacoactorsguild.org/stagelink/every-christmas-story-ever-told-and-then-some-4/
LOCATION:Waco Civic Theatre\, 1517 Lake Air Drive\, Waco\, TX\, 76710\, United States
CATEGORIES:Waco Civic Theatre
ATTACH;FMTTYPE=image/png:https://wacoactorsguild.org/wp-content/uploads/2025/10/E6887E8BB846111240791274D9B0F370_146892701.png
ORGANIZER;CN="Waco Civic Theatre":MAILTO:boxoffice@wacocivictheatre.org
END:VEVENT
BEGIN:VEVENT
DTSTART;TZID=America/Chicago:20251206T193000
DTEND;TZID=America/Chicago:20251206T210000
DTSTAMP:20260423T173838
CREATED:20251130T140522Z
LAST-MODIFIED:20251130T140522Z
UID:2922-1765049400-1765054800@wacoactorsguild.org
SUMMARY:Annual Ugly Christmas Sweater Improv
DESCRIPTION:Annual Ugly Christmas Sweater Improv – Performance\nSaturday\, December 6 7:30\nDoors open at 6:45 \nCelebrate the season with laughter at our annual Ugly Christmas Sweater Improv Comedy Show! Our quick-witted cast will take your holiday suggestions and turn them into an evening of spontaneous\, Christmas-themed comedy. Come dressed in your most festive (or downright ridiculous) holiday attire. We’ll have prizes for the best looks! It’s the perfect way to kick off the holidays with friends\, family\, and plenty of laughs. \n[Tickets: https://brazostheatre.ludus.com/index.php?show_id=200505324]
URL:https://wacoactorsguild.org/stagelink/annual-ugly-christmas-sweater-improv/
LOCATION:Brazos Theatre of Waco\, 7524 Bosque Blvd.\, Suite Q\, Waco\, TX\, 76712\, United States
CATEGORIES:Brazos Theatre
ATTACH;FMTTYPE=image/png:https://wacoactorsguild.org/wp-content/uploads/2025/11/improv-12-2025-sq_orig.png
ORGANIZER;CN="Brazos Theatre of Waco":MAILTO:brazostheatre@gmail.com
END:VEVENT
BEGIN:VEVENT
DTSTART;TZID=America/Chicago:20251207T143000
DTEND;TZID=America/Chicago:20251207T170000
DTSTAMP:20260423T173838
CREATED:20251119T174745Z
LAST-MODIFIED:20251119T174745Z
UID:2909-1765117800-1765126800@wacoactorsguild.org
SUMMARY:Every Christmas Story Ever Told (And Then Some)
DESCRIPTION:Every Christmas Story Ever Told (And Then Some) – Performance\nWhat begins as a simple retelling of A Christmas Carol quickly snowballs into a laugh-out-loud sprint through every Christmas story ever written — from Rudolph and Frosty to global traditions and holiday chaos you never saw coming. Three actors\, dozens of characters\, and an avalanche of festive fun make this the ultimate holiday mash-up. \nAudiences have called it “the most fun you’ll have this season” and “a fast\, funny\, and surprisingly heartwarming holiday gift.” \nPacked with humor\, heart\, and more holiday spirit than a mug of spiced cider\, this show is a joyous reminder that Christmas isn’t just one story — it’s every story we share\, laugh over\, and cherish together. \n[Tickets: https://ci.ovationtix.com/35622/production/1231962]
URL:https://wacoactorsguild.org/stagelink/every-christmas-story-ever-told-and-then-some-5/
LOCATION:Waco Civic Theatre\, 1517 Lake Air Drive\, Waco\, TX\, 76710\, United States
CATEGORIES:Waco Civic Theatre
ATTACH;FMTTYPE=image/png:https://wacoactorsguild.org/wp-content/uploads/2025/10/E6887E8BB846111240791274D9B0F370_146892701.png
ORGANIZER;CN="Waco Civic Theatre":MAILTO:boxoffice@wacocivictheatre.org
END:VEVENT
BEGIN:VEVENT
DTSTART;TZID=America/Chicago:20251211T193000
DTEND;TZID=America/Chicago:20251211T210000
DTSTAMP:20260423T173838
CREATED:20251119T174841Z
LAST-MODIFIED:20251119T174841Z
UID:2911-1765481400-1765486800@wacoactorsguild.org
SUMMARY:Every Christmas Story Ever Told (And Then Some)
DESCRIPTION:Every Christmas Story Ever Told (And Then Some) – Performance\nWhat begins as a simple retelling of A Christmas Carol quickly snowballs into a laugh-out-loud sprint through every Christmas story ever written — from Rudolph and Frosty to global traditions and holiday chaos you never saw coming. Three actors\, dozens of characters\, and an avalanche of festive fun make this the ultimate holiday mash-up. \nAudiences have called it “the most fun you’ll have this season” and “a fast\, funny\, and surprisingly heartwarming holiday gift.” \nPacked with humor\, heart\, and more holiday spirit than a mug of spiced cider\, this show is a joyous reminder that Christmas isn’t just one story — it’s every story we share\, laugh over\, and cherish together. \n[Tickets: https://ci.ovationtix.com/35622/production/1231962]
URL:https://wacoactorsguild.org/stagelink/every-christmas-story-ever-told-and-then-some-6/
LOCATION:Waco Civic Theatre\, 1517 Lake Air Drive\, Waco\, TX\, 76710\, United States
CATEGORIES:Waco Civic Theatre
ATTACH;FMTTYPE=image/png:https://wacoactorsguild.org/wp-content/uploads/2025/10/E6887E8BB846111240791274D9B0F370_146892701.png
ORGANIZER;CN="Waco Civic Theatre":MAILTO:boxoffice@wacocivictheatre.org
END:VEVENT
BEGIN:VEVENT
DTSTART;TZID=America/Chicago:20251212T193000
DTEND;TZID=America/Chicago:20251212T210000
DTSTAMP:20260423T173838
CREATED:20251119T174936Z
LAST-MODIFIED:20251119T174936Z
UID:2913-1765567800-1765573200@wacoactorsguild.org
SUMMARY:Every Christmas Story Ever Told (And Then Some)
DESCRIPTION:Every Christmas Story Ever Told (And Then Some) – Performance\nWhat begins as a simple retelling of A Christmas Carol quickly snowballs into a laugh-out-loud sprint through every Christmas story ever written — from Rudolph and Frosty to global traditions and holiday chaos you never saw coming. Three actors\, dozens of characters\, and an avalanche of festive fun make this the ultimate holiday mash-up. \nAudiences have called it “the most fun you’ll have this season” and “a fast\, funny\, and surprisingly heartwarming holiday gift.” \nPacked with humor\, heart\, and more holiday spirit than a mug of spiced cider\, this show is a joyous reminder that Christmas isn’t just one story — it’s every story we share\, laugh over\, and cherish together. \n[Tickets: https://ci.ovationtix.com/35622/production/1231962]
URL:https://wacoactorsguild.org/stagelink/every-christmas-story-ever-told-and-then-some-7/
LOCATION:Waco Civic Theatre\, 1517 Lake Air Drive\, Waco\, TX\, 76710\, United States
CATEGORIES:Waco Civic Theatre
ATTACH;FMTTYPE=image/png:https://wacoactorsguild.org/wp-content/uploads/2025/10/E6887E8BB846111240791274D9B0F370_146892701.png
ORGANIZER;CN="Waco Civic Theatre":MAILTO:boxoffice@wacocivictheatre.org
END:VEVENT
BEGIN:VEVENT
DTSTART;TZID=America/Chicago:20251213T143000
DTEND;TZID=America/Chicago:20251213T170000
DTSTAMP:20260423T173838
CREATED:20251119T175029Z
LAST-MODIFIED:20251119T175029Z
UID:2915-1765636200-1765645200@wacoactorsguild.org
SUMMARY:Every Christmas Story Ever Told (And Then Some)
DESCRIPTION:Every Christmas Story Ever Told (And Then Some) – Performance\nWhat begins as a simple retelling of A Christmas Carol quickly snowballs into a laugh-out-loud sprint through every Christmas story ever written — from Rudolph and Frosty to global traditions and holiday chaos you never saw coming. Three actors\, dozens of characters\, and an avalanche of festive fun make this the ultimate holiday mash-up. \nAudiences have called it “the most fun you’ll have this season” and “a fast\, funny\, and surprisingly heartwarming holiday gift.” \nPacked with humor\, heart\, and more holiday spirit than a mug of spiced cider\, this show is a joyous reminder that Christmas isn’t just one story — it’s every story we share\, laugh over\, and cherish together. \n[Tickets: https://ci.ovationtix.com/35622/production/1231962]
URL:https://wacoactorsguild.org/stagelink/every-christmas-story-ever-told-and-then-some-8/
LOCATION:Waco Civic Theatre\, 1517 Lake Air Drive\, Waco\, TX\, 76710\, United States
CATEGORIES:Waco Civic Theatre
ATTACH;FMTTYPE=image/png:https://wacoactorsguild.org/wp-content/uploads/2025/10/E6887E8BB846111240791274D9B0F370_146892701.png
ORGANIZER;CN="Waco Civic Theatre":MAILTO:boxoffice@wacocivictheatre.org
END:VEVENT
BEGIN:VEVENT
DTSTART;TZID=America/Chicago:20251213T193000
DTEND;TZID=America/Chicago:20251213T210000
DTSTAMP:20260423T173838
CREATED:20251119T175126Z
LAST-MODIFIED:20251119T175126Z
UID:2917-1765654200-1765659600@wacoactorsguild.org
SUMMARY:Every Christmas Story Ever Told (And Then Some)
DESCRIPTION:Every Christmas Story Ever Told (And Then Some) – Performance\nWhat begins as a simple retelling of A Christmas Carol quickly snowballs into a laugh-out-loud sprint through every Christmas story ever written — from Rudolph and Frosty to global traditions and holiday chaos you never saw coming. Three actors\, dozens of characters\, and an avalanche of festive fun make this the ultimate holiday mash-up. \nAudiences have called it “the most fun you’ll have this season” and “a fast\, funny\, and surprisingly heartwarming holiday gift.” \nPacked with humor\, heart\, and more holiday spirit than a mug of spiced cider\, this show is a joyous reminder that Christmas isn’t just one story — it’s every story we share\, laugh over\, and cherish together. \n[Tickets: https://ci.ovationtix.com/35622/production/1231962]
URL:https://wacoactorsguild.org/stagelink/every-christmas-story-ever-told-and-then-some-9/
LOCATION:Waco Civic Theatre\, 1517 Lake Air Drive\, Waco\, TX\, 76710\, United States
CATEGORIES:Waco Civic Theatre
ATTACH;FMTTYPE=image/png:https://wacoactorsguild.org/wp-content/uploads/2025/10/E6887E8BB846111240791274D9B0F370_146892701.png
ORGANIZER;CN="Waco Civic Theatre":MAILTO:boxoffice@wacocivictheatre.org
END:VEVENT
BEGIN:VEVENT
DTSTART;TZID=America/Chicago:20251213T193000
DTEND;TZID=America/Chicago:20251213T210000
DTSTAMP:20260423T173838
CREATED:20251207T134538Z
LAST-MODIFIED:20251207T134538Z
UID:2929-1765654200-1765659600@wacoactorsguild.org
SUMMARY:Annual Christmas Radio Show and Holiday Reception
DESCRIPTION:Annual Christmas Radio Show and Holiday Reception – Performance\nStep back in time… not only to a classic Victorian era holiday tale\, but to the Golden Age of Radio. A Christmas Carol: A Live Radio Play brings Dickens’ timeless story to life with vintage sound effects and a full cast performing as if broadcasting in the 1940s.\nJoin us Saturday\, December 13 at 7:30 PM\, and stay after for a complimentary holiday reception with the cast and crew! \n[Tickets: https://brazostheatre.ludus.com/index.php?show_id=200508627]
URL:https://wacoactorsguild.org/stagelink/annual-christmas-radio-show-and-holiday-reception/
LOCATION:Brazos Theatre of Waco\, 7524 Bosque Blvd.\, Suite Q\, Waco\, TX\, 76712\, United States
CATEGORIES:Brazos Theatre
ATTACH;FMTTYPE=image/png:https://wacoactorsguild.org/wp-content/uploads/2025/12/xmas-2025-cc-event_orig.png
ORGANIZER;CN="Brazos Theatre of Waco":MAILTO:brazostheatre@gmail.com
END:VEVENT
BEGIN:VEVENT
DTSTART;TZID=America/Chicago:20251214T143000
DTEND;TZID=America/Chicago:20251214T170000
DTSTAMP:20260423T173838
CREATED:20251119T175221Z
LAST-MODIFIED:20251119T175221Z
UID:2919-1765722600-1765731600@wacoactorsguild.org
SUMMARY:Every Christmas Story Ever Told (And Then Some)
DESCRIPTION:Every Christmas Story Ever Told (And Then Some) – Performance\nWhat begins as a simple retelling of A Christmas Carol quickly snowballs into a laugh-out-loud sprint through every Christmas story ever written — from Rudolph and Frosty to global traditions and holiday chaos you never saw coming. Three actors\, dozens of characters\, and an avalanche of festive fun make this the ultimate holiday mash-up. \nAudiences have called it “the most fun you’ll have this season” and “a fast\, funny\, and surprisingly heartwarming holiday gift.” \nPacked with humor\, heart\, and more holiday spirit than a mug of spiced cider\, this show is a joyous reminder that Christmas isn’t just one story — it’s every story we share\, laugh over\, and cherish together. \n[Tickets: https://ci.ovationtix.com/35622/production/1231962]
URL:https://wacoactorsguild.org/stagelink/every-christmas-story-ever-told-and-then-some-10/
LOCATION:Waco Civic Theatre\, 1517 Lake Air Drive\, Waco\, TX\, 76710\, United States
CATEGORIES:Waco Civic Theatre
ATTACH;FMTTYPE=image/png:https://wacoactorsguild.org/wp-content/uploads/2025/10/E6887E8BB846111240791274D9B0F370_146892701.png
ORGANIZER;CN="Waco Civic Theatre":MAILTO:boxoffice@wacocivictheatre.org
END:VEVENT
BEGIN:VEVENT
DTSTART;TZID=America/Chicago:20251221T190000
DTEND;TZID=America/Chicago:20251221T210000
DTSTAMP:20260423T173838
CREATED:20251212T203329Z
LAST-MODIFIED:20251221T135739Z
UID:2934-1766343600-1766350800@wacoactorsguild.org
SUMMARY:North Pole's Got Talent
DESCRIPTION:North Pole’s Got Talent – Performances\nNorth Pole’s Got Talent is Waco Civic Theatre’s holly-jolly showcase where anything can happen and everything sparkles. Only Santa knows the lineup\, but expect a blizzard of surprise acts—showstopping vocals\, toe-tapping dance breaks\, mind-bending magic\, and yes… juggling elves. It’s fast\, festive\, and family-friendly\, the kind of night that turns applause into tradition. \n[Tickets: https://ci.ovationtix.com/35622/production/1257498]
URL:https://wacoactorsguild.org/stagelink/north-poles-got-talent/
LOCATION:Waco Civic Theatre\, 1517 Lake Air Drive\, Waco\, TX\, 76710\, United States
CATEGORIES:Waco Civic Theatre
ATTACH;FMTTYPE=image/png:https://wacoactorsguild.org/wp-content/uploads/2025/12/ClientFile595730.png
ORGANIZER;CN="Waco Civic Theatre":MAILTO:boxoffice@wacocivictheatre.org
END:VEVENT
BEGIN:VEVENT
DTSTART;TZID=America/Chicago:20251222T190000
DTEND;TZID=America/Chicago:20251222T210000
DTSTAMP:20260423T173838
CREATED:20251212T203422Z
LAST-MODIFIED:20251221T135707Z
UID:2937-1766430000-1766437200@wacoactorsguild.org
SUMMARY:North Pole's Got Talent
DESCRIPTION:North Pole’s Got Talent – Performances\nNorth Pole’s Got Talent is Waco Civic Theatre’s holly-jolly showcase where anything can happen and everything sparkles. Only Santa knows the lineup\, but expect a blizzard of surprise acts—showstopping vocals\, toe-tapping dance breaks\, mind-bending magic\, and yes… juggling elves. It’s fast\, festive\, and family-friendly\, the kind of night that turns applause into tradition. \n[Tickets: https://ci.ovationtix.com/35622/production/1257498]
URL:https://wacoactorsguild.org/stagelink/north-poles-got-talent-2/
LOCATION:Waco Civic Theatre\, 1517 Lake Air Drive\, Waco\, TX\, 76710\, United States
CATEGORIES:Waco Civic Theatre
ATTACH;FMTTYPE=image/png:https://wacoactorsguild.org/wp-content/uploads/2025/12/ClientFile595730.png
ORGANIZER;CN="Waco Civic Theatre":MAILTO:boxoffice@wacocivictheatre.org
END:VEVENT
BEGIN:VEVENT
DTSTART;TZID=America/Chicago:20251227T193000
DTEND;TZID=America/Chicago:20251227T220000
DTSTAMP:20260423T173838
CREATED:20251212T203702Z
LAST-MODIFIED:20251212T203702Z
UID:2939-1766863800-1766872800@wacoactorsguild.org
SUMMARY:Bird & Friends Cosmic Unity Improv
DESCRIPTION:Bird & Friends Cosmic Unity Improv – Performance\nSaturday\, December 27\, 7:30 PM\nDoors open at 6:45\nFREE! \nIt’s our annual gift to you! NYC improviser Michael Bird returns to Brazos Theatre for Bird and Friends: Cosmic Unity\, an improv show where the audience becomes part of the performance! Jump in anytime… or just watch the creativity unfold.\nGrab your free tickets by click the button below! \n[Pay What You Want Tickets: https://brazostheatre.ludus.com/index.php?show_id=200505439]
URL:https://wacoactorsguild.org/stagelink/bird-friends-cosmic-unity-improv/
LOCATION:Brazos Theatre of Waco\, 7524 Bosque Blvd.\, Suite Q\, Waco\, TX\, 76712\, United States
CATEGORIES:Brazos Theatre
ATTACH;FMTTYPE=image/png:https://wacoactorsguild.org/wp-content/uploads/2025/12/bird-2025-sq_orig.png
ORGANIZER;CN="Brazos Theatre of Waco":MAILTO:brazostheatre@gmail.com
END:VEVENT
END:VCALENDAR