BEGIN:VCALENDAR
VERSION:2.0
PRODID:-//Waco Actors&#039; Guild - ECPv6.15.20//NONSGML v1.0//EN
CALSCALE:GREGORIAN
METHOD:PUBLISH
X-WR-CALNAME:Waco Actors&#039; Guild
X-ORIGINAL-URL:https://wacoactorsguild.org
X-WR-CALDESC:Events for Waco Actors&#039; Guild
REFRESH-INTERVAL;VALUE=DURATION:PT1H
X-Robots-Tag:noindex
X-PUBLISHED-TTL:PT1H
BEGIN:VTIMEZONE
TZID:America/Chicago
BEGIN:DAYLIGHT
TZOFFSETFROM:-0600
TZOFFSETTO:-0500
TZNAME:CDT
DTSTART:20240310T080000
END:DAYLIGHT
BEGIN:STANDARD
TZOFFSETFROM:-0500
TZOFFSETTO:-0600
TZNAME:CST
DTSTART:20241103T070000
END:STANDARD
BEGIN:DAYLIGHT
TZOFFSETFROM:-0600
TZOFFSETTO:-0500
TZNAME:CDT
DTSTART:20250309T080000
END:DAYLIGHT
BEGIN:STANDARD
TZOFFSETFROM:-0500
TZOFFSETTO:-0600
TZNAME:CST
DTSTART:20251102T070000
END:STANDARD
BEGIN:DAYLIGHT
TZOFFSETFROM:-0600
TZOFFSETTO:-0500
TZNAME:CDT
DTSTART:20260308T080000
END:DAYLIGHT
BEGIN:STANDARD
TZOFFSETFROM:-0500
TZOFFSETTO:-0600
TZNAME:CST
DTSTART:20261101T070000
END:STANDARD
END:VTIMEZONE
BEGIN:VEVENT
DTSTART;TZID=America/Chicago:20250710T190000
DTEND;TZID=America/Chicago:20250710T210000
DTSTAMP:20260424T004245
CREATED:20250625T124919Z
LAST-MODIFIED:20250625T124919Z
UID:2132-1752174000-1752181200@wacoactorsguild.org
SUMMARY:Androcles and the Lion
DESCRIPTION:Young Festival Stage: Androcles and the Lion – Performances\nYoung Festival Stage is proud to present our 2025 musical: Androcles and the Lion. This timeless tale of courage\, kindness\, and unlikely friendship has leapt from the page to the stage in a joyful musical full of heart\, humor\, and song. \nThis summer\, we’re bringing this classic to life at Baylor University’s Mabee Theatre—a perfect adventure for the young and the young at heart. Androcles and the Lion runs July 3-14\, 2025.  \nSensory Friendly performance on July 12 at 2pm.  \nThis Sensory Friendly Performance includes: \n  \n\nHouse lights dimmed but not completely off\, allowing audience members to see their surroundings at all times.\nReduced sound levels.\nA “Quiet Room” is available for children/patrons who need a break.\nTablets and smartphones will be permitted to help non-verbal audience members communicate.\nA parent “tip sheet\,” a social story\, and a synopsis for our sensory-friendly performance so that patrons\, children\, and caregivers can have as much information as possible in advance of attending the show.\n\n  \nASL-interpreted performance on July 14 at 6:30pm.  \nTickets available for purchase through the Baylor Theatre Box Office!\nTo purchase online visit the Baylor Theatre Box Office Website https://baylortheatre.evenue.net/ \nTo purchase over the phone\, call (254) 710-1865. \nInterested in a Group Sale? Call us at (254) 710-1865.
URL:https://wacoactorsguild.org/stagelink/androcles-and-the-lion-7/
LOCATION:Mabee Theatre\, 60 Baylor Avenue\, Waco\, TX\, 76706\, United States
CATEGORIES:Young Festival Stage
ATTACH;FMTTYPE=image/webp:https://wacoactorsguild.org/wp-content/uploads/2025/06/rsw_600cg_truem.webp
END:VEVENT
END:VCALENDAR