BEGIN:VCALENDAR
VERSION:2.0
PRODID:-//Waco Actors&#039; Guild - ECPv6.15.20//NONSGML v1.0//EN
CALSCALE:GREGORIAN
METHOD:PUBLISH
X-ORIGINAL-URL:https://wacoactorsguild.org
X-WR-CALDESC:Events for Waco Actors&#039; Guild
REFRESH-INTERVAL;VALUE=DURATION:PT1H
X-Robots-Tag:noindex
X-PUBLISHED-TTL:PT1H
BEGIN:VTIMEZONE
TZID:America/Chicago
BEGIN:DAYLIGHT
TZOFFSETFROM:-0600
TZOFFSETTO:-0500
TZNAME:CDT
DTSTART:20240310T080000
END:DAYLIGHT
BEGIN:STANDARD
TZOFFSETFROM:-0500
TZOFFSETTO:-0600
TZNAME:CST
DTSTART:20241103T070000
END:STANDARD
BEGIN:DAYLIGHT
TZOFFSETFROM:-0600
TZOFFSETTO:-0500
TZNAME:CDT
DTSTART:20250309T080000
END:DAYLIGHT
BEGIN:STANDARD
TZOFFSETFROM:-0500
TZOFFSETTO:-0600
TZNAME:CST
DTSTART:20251102T070000
END:STANDARD
BEGIN:DAYLIGHT
TZOFFSETFROM:-0600
TZOFFSETTO:-0500
TZNAME:CDT
DTSTART:20260308T080000
END:DAYLIGHT
BEGIN:STANDARD
TZOFFSETFROM:-0500
TZOFFSETTO:-0600
TZNAME:CST
DTSTART:20261101T070000
END:STANDARD
END:VTIMEZONE
BEGIN:VEVENT
DTSTART;TZID=America/Chicago:20250808T193000
DTEND;TZID=America/Chicago:20250808T220000
DTSTAMP:20260423T231821
CREATED:20250724T163159Z
LAST-MODIFIED:20250724T163159Z
UID:2355-1754681400-1754690400@wacoactorsguild.org
SUMMARY:Summer Melodrama Along Came Joan or\, Savin' Sweet Stu's Bacon
DESCRIPTION:Summer Melodrama Along Came Joan or\, Savin’ Sweet Stu’s Bacon – Performance\nby Rachel Velasco\nAugust 7-10 (times vary) \nGrab your boots and practice your booing! Oour summer melodrama is riding into town! Along Came Joan is a hilarious\, high-energy Wild West romp filled with dastardly villains\, heroic law-women\, clueless cowboys\, and more than a few  surprises (and goats). Don’t miss this rootin’-tootin’ tale of hijinks\, heart\, and heroism! \n[Tickets: https://brazostheatre.ludus.com/index.php?show_id=200490141]
URL:https://wacoactorsguild.org/stagelink/summer-melodrama-along-came-joan-or-savin-sweet-stus-bacon/
LOCATION:Brazos Theatre of Waco\, 7524 Bosque Blvd.\, Suite Q\, Waco\, TX\, 76712\, United States
CATEGORIES:Brazos Theatre
ATTACH;FMTTYPE=image/png:https://wacoactorsguild.org/wp-content/uploads/2025/07/1752240621-scaled.png
ORGANIZER;CN="Brazos Theatre of Waco":MAILTO:brazostheatre@gmail.com
END:VEVENT
END:VCALENDAR