BEGIN:VCALENDAR
VERSION:2.0
PRODID:-//Waco Actors&#039; Guild - ECPv6.15.20//NONSGML v1.0//EN
CALSCALE:GREGORIAN
METHOD:PUBLISH
X-WR-CALNAME:Waco Actors&#039; Guild
X-ORIGINAL-URL:https://wacoactorsguild.org
X-WR-CALDESC:Events for Waco Actors&#039; Guild
REFRESH-INTERVAL;VALUE=DURATION:PT1H
X-Robots-Tag:noindex
X-PUBLISHED-TTL:PT1H
BEGIN:VTIMEZONE
TZID:America/Chicago
BEGIN:DAYLIGHT
TZOFFSETFROM:-0600
TZOFFSETTO:-0500
TZNAME:CDT
DTSTART:20240310T080000
END:DAYLIGHT
BEGIN:STANDARD
TZOFFSETFROM:-0500
TZOFFSETTO:-0600
TZNAME:CST
DTSTART:20241103T070000
END:STANDARD
BEGIN:DAYLIGHT
TZOFFSETFROM:-0600
TZOFFSETTO:-0500
TZNAME:CDT
DTSTART:20250309T080000
END:DAYLIGHT
BEGIN:STANDARD
TZOFFSETFROM:-0500
TZOFFSETTO:-0600
TZNAME:CST
DTSTART:20251102T070000
END:STANDARD
BEGIN:DAYLIGHT
TZOFFSETFROM:-0600
TZOFFSETTO:-0500
TZNAME:CDT
DTSTART:20260308T080000
END:DAYLIGHT
BEGIN:STANDARD
TZOFFSETFROM:-0500
TZOFFSETTO:-0600
TZNAME:CST
DTSTART:20261101T070000
END:STANDARD
END:VTIMEZONE
BEGIN:VEVENT
DTSTART;TZID=America/Chicago:20251227T193000
DTEND;TZID=America/Chicago:20251227T220000
DTSTAMP:20260423T181239
CREATED:20251212T203702Z
LAST-MODIFIED:20251212T203702Z
UID:2939-1766863800-1766872800@wacoactorsguild.org
SUMMARY:Bird & Friends Cosmic Unity Improv
DESCRIPTION:Bird & Friends Cosmic Unity Improv – Performance\nSaturday\, December 27\, 7:30 PM\nDoors open at 6:45\nFREE! \nIt’s our annual gift to you! NYC improviser Michael Bird returns to Brazos Theatre for Bird and Friends: Cosmic Unity\, an improv show where the audience becomes part of the performance! Jump in anytime… or just watch the creativity unfold.\nGrab your free tickets by click the button below! \n[Pay What You Want Tickets: https://brazostheatre.ludus.com/index.php?show_id=200505439]
URL:https://wacoactorsguild.org/stagelink/bird-friends-cosmic-unity-improv/
LOCATION:Brazos Theatre of Waco\, 7524 Bosque Blvd.\, Suite Q\, Waco\, TX\, 76712\, United States
CATEGORIES:Brazos Theatre
ATTACH;FMTTYPE=image/png:https://wacoactorsguild.org/wp-content/uploads/2025/12/bird-2025-sq_orig.png
ORGANIZER;CN="Brazos Theatre of Waco":MAILTO:brazostheatre@gmail.com
END:VEVENT
END:VCALENDAR