BEGIN:VCALENDAR
VERSION:2.0
PRODID:-//Waco Actors&#039; Guild - ECPv6.15.20//NONSGML v1.0//EN
CALSCALE:GREGORIAN
METHOD:PUBLISH
X-ORIGINAL-URL:https://wacoactorsguild.org
X-WR-CALDESC:Events for Waco Actors&#039; Guild
REFRESH-INTERVAL;VALUE=DURATION:PT1H
X-Robots-Tag:noindex
X-PUBLISHED-TTL:PT1H
BEGIN:VTIMEZONE
TZID:America/Chicago
BEGIN:DAYLIGHT
TZOFFSETFROM:-0600
TZOFFSETTO:-0500
TZNAME:CDT
DTSTART:20250309T080000
END:DAYLIGHT
BEGIN:STANDARD
TZOFFSETFROM:-0500
TZOFFSETTO:-0600
TZNAME:CST
DTSTART:20251102T070000
END:STANDARD
BEGIN:DAYLIGHT
TZOFFSETFROM:-0600
TZOFFSETTO:-0500
TZNAME:CDT
DTSTART:20260308T080000
END:DAYLIGHT
BEGIN:STANDARD
TZOFFSETFROM:-0500
TZOFFSETTO:-0600
TZNAME:CST
DTSTART:20261101T070000
END:STANDARD
BEGIN:DAYLIGHT
TZOFFSETFROM:-0600
TZOFFSETTO:-0500
TZNAME:CDT
DTSTART:20270314T080000
END:DAYLIGHT
BEGIN:STANDARD
TZOFFSETFROM:-0500
TZOFFSETTO:-0600
TZNAME:CST
DTSTART:20271107T070000
END:STANDARD
END:VTIMEZONE
BEGIN:VEVENT
DTSTART;TZID=America/Chicago:20260109T193000
DTEND;TZID=America/Chicago:20260109T210000
DTSTAMP:20260423T174119
CREATED:20260104T124850Z
LAST-MODIFIED:20260104T124850Z
UID:2956-1767987000-1767992400@wacoactorsguild.org
SUMMARY:Grand Night for Dolly
DESCRIPTION:Grand Night for Dolly – Performance\n\n\nGrand Night for Dolly is a joyful\, heart-full cabaret celebrating the music\, spirit\, and storytelling of Dolly Parton—performed by the voices of our own community. \nThis one-night event brings together local performers of all ages and backgrounds to sing beloved Dolly hits and hidden gems\, each song infused with personal flair and shared love for her iconic sound. From toe-tapping classics to tender ballads\, Grand Night for Dolly is a celebration of individuality\, connection\, and the power of music to bring people together. \nMore than a concert\, this cabaret is a love letter—to Dolly\, to storytelling through song\, and to the incredible talent that lives right here in our community. Expect sparkle\, heart\, harmony\, and a whole lot of joy. \nCome dressed up\, sing along\, and join us for a grand night inspired by one legendary woman and the voices she continues to inspire. \n[Tickets: https://ci.ovationtix.com/35622/production/1261707?performanceId=11739796]
URL:https://wacoactorsguild.org/stagelink/grand-night-for-dolly/
LOCATION:Waco Civic Theatre\, 1517 Lake Air Drive\, Waco\, TX\, 76710\, United States
CATEGORIES:Waco Civic Theatre
ATTACH;FMTTYPE=image/png:https://wacoactorsguild.org/wp-content/uploads/2026/01/ClientFile600136.png
ORGANIZER;CN="Waco Civic Theatre":MAILTO:boxoffice@wacocivictheatre.org
END:VEVENT
END:VCALENDAR