BEGIN:VCALENDAR
VERSION:2.0
PRODID:-//Waco Actors&#039; Guild - ECPv6.15.20//NONSGML v1.0//EN
CALSCALE:GREGORIAN
METHOD:PUBLISH
X-ORIGINAL-URL:https://wacoactorsguild.org
X-WR-CALDESC:Events for Waco Actors&#039; Guild
REFRESH-INTERVAL;VALUE=DURATION:PT1H
X-Robots-Tag:noindex
X-PUBLISHED-TTL:PT1H
BEGIN:VTIMEZONE
TZID:America/Chicago
BEGIN:DAYLIGHT
TZOFFSETFROM:-0600
TZOFFSETTO:-0500
TZNAME:CDT
DTSTART:20250309T080000
END:DAYLIGHT
BEGIN:STANDARD
TZOFFSETFROM:-0500
TZOFFSETTO:-0600
TZNAME:CST
DTSTART:20251102T070000
END:STANDARD
BEGIN:DAYLIGHT
TZOFFSETFROM:-0600
TZOFFSETTO:-0500
TZNAME:CDT
DTSTART:20260308T080000
END:DAYLIGHT
BEGIN:STANDARD
TZOFFSETFROM:-0500
TZOFFSETTO:-0600
TZNAME:CST
DTSTART:20261101T070000
END:STANDARD
BEGIN:DAYLIGHT
TZOFFSETFROM:-0600
TZOFFSETTO:-0500
TZNAME:CDT
DTSTART:20270314T080000
END:DAYLIGHT
BEGIN:STANDARD
TZOFFSETFROM:-0500
TZOFFSETTO:-0600
TZNAME:CST
DTSTART:20271107T070000
END:STANDARD
END:VTIMEZONE
BEGIN:VEVENT
DTSTART;TZID=America/Chicago:20260124T143000
DTEND;TZID=America/Chicago:20260124T170000
DTSTAMP:20260423T170034
CREATED:20260104T125805Z
LAST-MODIFIED:20260104T125805Z
UID:2974-1769265000-1769274000@wacoactorsguild.org
SUMMARY:Rodgers & Hammerstein’s A Grand Night For Singing
DESCRIPTION:Rodgers & Hammerstein’s A Grand Night For Singing – Performance\n\n\nStep into the spellbinding world of Rodgers & Hammerstein\, where music and storytelling weave together to create pure theatrical magic! A Grand Night for Singing is a dazzling celebration of the legendary duo’s most cherished songs\, reimagined with fresh arrangements and a contemporary twist. \nFrom the heartfelt romance of Some Enchanted Evening (South Pacific) to the playful charm of Shall We Dance? (The King and I)\, each number captures the wonder\, emotion\, and timeless brilliance of classic Broadway. This enchanting revue transforms familiar melodies into new discoveries\, proving that Rodgers & Hammerstein’s music continues to inspire and captivate audiences of all generations. \nJoin us for an unforgettable night where the stage comes alive with soaring harmonies\, sweeping emotions\, and the magic of theatre—reminding us all why we fell in love with musicals in the first place. \n[Tickets: https://ci.ovationtix.com/35622/production/1231779]
URL:https://wacoactorsguild.org/stagelink/rodgers-hammersteins-a-grand-night-for-singing-4/
LOCATION:Waco Civic Theatre\, 1517 Lake Air Drive\, Waco\, TX\, 76710\, United States
CATEGORIES:Waco Civic Theatre
ATTACH;FMTTYPE=image/png:https://wacoactorsguild.org/wp-content/uploads/2025/10/F27046A0F8B740521ED7BE5B9CF2E226_146892701.png
ORGANIZER;CN="Waco Civic Theatre":MAILTO:boxoffice@wacocivictheatre.org
END:VEVENT
BEGIN:VEVENT
DTSTART;TZID=America/Chicago:20260124T193000
DTEND;TZID=America/Chicago:20260124T210000
DTSTAMP:20260423T170034
CREATED:20260104T125311Z
LAST-MODIFIED:20260104T125311Z
UID:2964-1769283000-1769288400@wacoactorsguild.org
SUMMARY:Songs for a New World
DESCRIPTION:Songs for a New World – Performance\n\n\nA single moment can change everything. In Songs for a New World\, Tony Award-winning composer Jason Robert Brown weaves a breathtaking tapestry of stories\, emotions\, and possibilities\, capturing the essence of what it means to stand at the precipice of change. \nThrough a dynamic collection of songs\, this contemporary musical explores life’s defining choices—from love and loss to hope and resilience. With a powerful blend of pop\, jazz\, and gospel influences\, each number introduces a new character facing a moment of transformation\, where past and future collide in the unknown. \nWith its soaring melodies and deeply human storytelling\, Songs for a New World is more than a musical—it’s an experience that reminds us of the endless potential in every new beginning. Step into the magic of theatre\, where every note holds the power to move\, inspire\, and redefine what’s possible. \n[Tickets: https://ci.ovationtix.com/35622/production/1231773]
URL:https://wacoactorsguild.org/stagelink/songs-for-a-new-world-3/
LOCATION:Waco Civic Theatre\, 1517 Lake Air Drive\, Waco\, TX\, 76710\, United States
CATEGORIES:Waco Civic Theatre
ATTACH;FMTTYPE=image/png:https://wacoactorsguild.org/wp-content/uploads/2026/01/ClientFile563260.png
ORGANIZER;CN="Waco Civic Theatre":MAILTO:boxoffice@wacocivictheatre.org
END:VEVENT
END:VCALENDAR