BEGIN:VCALENDAR
VERSION:2.0
PRODID:-//Waco Actors&#039; Guild - ECPv6.15.20//NONSGML v1.0//EN
CALSCALE:GREGORIAN
METHOD:PUBLISH
X-ORIGINAL-URL:https://wacoactorsguild.org
X-WR-CALDESC:Events for Waco Actors&#039; Guild
REFRESH-INTERVAL;VALUE=DURATION:PT1H
X-Robots-Tag:noindex
X-PUBLISHED-TTL:PT1H
BEGIN:VTIMEZONE
TZID:America/Chicago
BEGIN:DAYLIGHT
TZOFFSETFROM:-0600
TZOFFSETTO:-0500
TZNAME:CDT
DTSTART:20250309T080000
END:DAYLIGHT
BEGIN:STANDARD
TZOFFSETFROM:-0500
TZOFFSETTO:-0600
TZNAME:CST
DTSTART:20251102T070000
END:STANDARD
BEGIN:DAYLIGHT
TZOFFSETFROM:-0600
TZOFFSETTO:-0500
TZNAME:CDT
DTSTART:20260308T080000
END:DAYLIGHT
BEGIN:STANDARD
TZOFFSETFROM:-0500
TZOFFSETTO:-0600
TZNAME:CST
DTSTART:20261101T070000
END:STANDARD
BEGIN:DAYLIGHT
TZOFFSETFROM:-0600
TZOFFSETTO:-0500
TZNAME:CDT
DTSTART:20270314T080000
END:DAYLIGHT
BEGIN:STANDARD
TZOFFSETFROM:-0500
TZOFFSETTO:-0600
TZNAME:CST
DTSTART:20271107T070000
END:STANDARD
END:VTIMEZONE
BEGIN:VEVENT
DTSTART;TZID=America/Chicago:20260221T143000
DTEND;TZID=America/Chicago:20260221T170000
DTSTAMP:20260423T153642
CREATED:20260201T162515Z
LAST-MODIFIED:20260201T162515Z
UID:3037-1771684200-1771693200@wacoactorsguild.org
SUMMARY:9 to 5
DESCRIPTION:9 to 5 – Performance\nWhen three overworked\, underestimated women decide they’ve had enough of their sexist\, egotistical boss\, they turn the workplace upside-down in a whirlwind of wit\, rebellion\, and friendship. What follows is a raucous\, heart-thumping reminder that when we stand together\, change isn’t just possible — it’s unstoppable. \nFilled with dazzling energy\, unforgettable songs\, and the unmistakable sparkle of Dolly’s humor and heart\, 9 to 5: The Musical celebrates the dreamers\, the doers\, and everyone who’s ever dared to rewrite the rules. \nWaco’s own Holly Tucker steps into Dolly Parton’s high heels as Doralee Rhodes — and she’s every bit as unforgettable! \n[Tickets: https://ci.ovationtix.com/35622/production/1231732]
URL:https://wacoactorsguild.org/stagelink/9-to-5-8/
LOCATION:Waco Civic Theatre\, 1517 Lake Air Drive\, Waco\, TX\, 76710\, United States
CATEGORIES:Waco Civic Theatre
ATTACH;FMTTYPE=image/jpeg:https://wacoactorsguild.org/wp-content/uploads/2026/02/ClientFile604003.jpg
ORGANIZER;CN="Waco Civic Theatre":MAILTO:boxoffice@wacocivictheatre.org
END:VEVENT
END:VCALENDAR