BEGIN:VCALENDAR
VERSION:2.0
PRODID:-//Waco Actors&#039; Guild - ECPv6.15.20//NONSGML v1.0//EN
CALSCALE:GREGORIAN
METHOD:PUBLISH
X-WR-CALNAME:Waco Actors&#039; Guild
X-ORIGINAL-URL:https://wacoactorsguild.org
X-WR-CALDESC:Events for Waco Actors&#039; Guild
REFRESH-INTERVAL;VALUE=DURATION:PT1H
X-Robots-Tag:noindex
X-PUBLISHED-TTL:PT1H
BEGIN:VTIMEZONE
TZID:America/Chicago
BEGIN:DAYLIGHT
TZOFFSETFROM:-0600
TZOFFSETTO:-0500
TZNAME:CDT
DTSTART:20250309T080000
END:DAYLIGHT
BEGIN:STANDARD
TZOFFSETFROM:-0500
TZOFFSETTO:-0600
TZNAME:CST
DTSTART:20251102T070000
END:STANDARD
BEGIN:DAYLIGHT
TZOFFSETFROM:-0600
TZOFFSETTO:-0500
TZNAME:CDT
DTSTART:20260308T080000
END:DAYLIGHT
BEGIN:STANDARD
TZOFFSETFROM:-0500
TZOFFSETTO:-0600
TZNAME:CST
DTSTART:20261101T070000
END:STANDARD
BEGIN:DAYLIGHT
TZOFFSETFROM:-0600
TZOFFSETTO:-0500
TZNAME:CDT
DTSTART:20270314T080000
END:DAYLIGHT
BEGIN:STANDARD
TZOFFSETFROM:-0500
TZOFFSETTO:-0600
TZNAME:CST
DTSTART:20271107T070000
END:STANDARD
END:VTIMEZONE
BEGIN:VEVENT
DTSTART;TZID=America/Chicago:20260404T193000
DTEND;TZID=America/Chicago:20260404T220000
DTSTAMP:20260423T122519
CREATED:20260401T152110Z
LAST-MODIFIED:20260401T152110Z
UID:3135-1775331000-1775340000@wacoactorsguild.org
SUMMARY:Improv Comedy Show
DESCRIPTION:Improv Comedy Show – Performance\nSaturday\, April 4\, 7:30 PM\nDoors open at 6:45\nHosted by: UU Fellowship\n4209 N 27th St\, Waco \nOur nomadic adventure continues at the community-centered Unitarian Universalist Fellowship of Waco! Our in-house improv troupe takes the stage for another night of completely unscripted\, fast-thinking\, story-driven comedy\, all inspired by audience suggestions. Every show is different. Every scene is made up on the spot. And absolutely anything can happen.\nWe’re so grateful to the UU Fellowship for supporting local arts in this exciting new chapter for Brazos Theatre. We hope to see you there! \n[Tickets: https://brazostheatre.ludus.com/index.php?show_id=200520563]
URL:https://wacoactorsguild.org/stagelink/improv-comedy-show-7/
LOCATION:UU Fellowship\, 4209 N 27th St\, Waco\, TX\, 76708\, United States
CATEGORIES:Brazos Theatre
ATTACH;FMTTYPE=image/png:https://wacoactorsguild.org/wp-content/uploads/2026/04/improv-04-2026-sq_orig.png
ORGANIZER;CN="Brazos Theatre of Waco":MAILTO:brazostheatre@gmail.com
END:VEVENT
END:VCALENDAR