BEGIN:VCALENDAR
VERSION:2.0
PRODID:-//Waco Actors&#039; Guild - ECPv6.15.20//NONSGML v1.0//EN
CALSCALE:GREGORIAN
METHOD:PUBLISH
X-ORIGINAL-URL:https://wacoactorsguild.org
X-WR-CALDESC:Events for Waco Actors&#039; Guild
REFRESH-INTERVAL;VALUE=DURATION:PT1H
X-Robots-Tag:noindex
X-PUBLISHED-TTL:PT1H
BEGIN:VTIMEZONE
TZID:America/Chicago
BEGIN:DAYLIGHT
TZOFFSETFROM:-0600
TZOFFSETTO:-0500
TZNAME:CDT
DTSTART:20240310T080000
END:DAYLIGHT
BEGIN:STANDARD
TZOFFSETFROM:-0500
TZOFFSETTO:-0600
TZNAME:CST
DTSTART:20241103T070000
END:STANDARD
BEGIN:DAYLIGHT
TZOFFSETFROM:-0600
TZOFFSETTO:-0500
TZNAME:CDT
DTSTART:20250309T080000
END:DAYLIGHT
BEGIN:STANDARD
TZOFFSETFROM:-0500
TZOFFSETTO:-0600
TZNAME:CST
DTSTART:20251102T070000
END:STANDARD
BEGIN:DAYLIGHT
TZOFFSETFROM:-0600
TZOFFSETTO:-0500
TZNAME:CDT
DTSTART:20260308T080000
END:DAYLIGHT
BEGIN:STANDARD
TZOFFSETFROM:-0500
TZOFFSETTO:-0600
TZNAME:CST
DTSTART:20261101T070000
END:STANDARD
END:VTIMEZONE
BEGIN:VEVENT
DTSTART;TZID=America/Chicago:20250928T183000
DTEND;TZID=America/Chicago:20250928T213000
DTSTAMP:20260423T225242
CREATED:20250928T141127Z
LAST-MODIFIED:20250928T141127Z
UID:2768-1759084200-1759095000@wacoactorsguild.org
SUMMARY:PlayReaders - Rosencrantz & Guildenstern are Dead
DESCRIPTION:Rosencrantz & Guildenstern are Dead – PlayReaders\nTwo in one month!!?! Come read this amazing show with us! \n6:30pm @ The PACC
URL:https://wacoactorsguild.org/stagelink/playreaders-rosencrantz-guildenstern-are-dead/
LOCATION:The PACC\, 924 Austin Ave Suit 150\, Waco\, TX\, 76701\, United States
CATEGORIES:Waco Actors' Guild
ATTACH;FMTTYPE=image/png:https://wacoactorsguild.org/wp-content/uploads/2025/09/RGAD_PlayReaders_9.28.png
ORGANIZER;CN="Waco Actors' Guild":MAILTO:business@wacoactorsguild.org
END:VEVENT
END:VCALENDAR